{"text_format":"1","workbook":"xlsx","n_sheets":2,"sheets":["Besi","Rapor"],"not_rendered":{"charts":0,"images":0,"macros":1,"external_links":0,"defined_names":361,"comments":2,"pivot_tables":0},"unopened":[],"bounds":{"document_bytes":16777216,"sheet_cells":100000,"rows_first":2000,"rows_last":500,"rows_between":2000,"halvings":0,"cell_chars":16384,"cell_head_chars":4096},"cells_cut":0,"cells_raw":0,"read":"whole","date_system":"1900"}

{"sheet":"Besi","index":0,"n_rows":254,"n_cols":60,"rows_kept":254,"cut":false,"hidden":false,"merged":[[46,19,47,19],[46,20,47,20],[46,21,47,21],[73,6,73,8],[65,6,65,7],[66,6,66,7],[68,6,68,7],[69,6,69,7],[67,6,67,7],[63,6,63,7],[64,6,64,7],[70,6,70,7],[71,6,71,7],[59,6,59,7],[60,6,60,7],[61,6,61,7],[62,6,62,7],[56,6,56,7],[57,6,57,7],[58,6,58,7],[51,6,51,7],[52,6,52,7],[53,6,53,7],[54,6,54,7],[27,17,27,18],[28,17,28,18],[29,17,29,18],[30,17,30,18],[55,6,55,7],[32,17,32,18],[34,17,34,18],[35,17,35,18],[50,6,50,7],[46,18,47,18],[23,17,23,18],[24,17,24,18],[25,17,25,18],[19,11,19,12],[19,17,19,18],[21,11,21,12],[21,17,21,18],[2,1,3,1],[2,4,2,5],[2,11,2,12],[2,16,2,19],[3,11,3,12],[59,2,59,3],[0,5,0,6],[0,8,0,9],[0,16,1,19],[9,11,9,12],[9,17,9,18],[10,17,10,18],[12,17,12,18],[13,17,13,18],[14,17,14,18],[16,11,16,12],[16,17,16,18],[17,17,17,18],[18,11,18,12],[18,17,18,18],[22,17,22,18]]}
[null,"BESİ SIĞIRLARI İÇİN EN DÜŞÜK",null,null,null,"Coşkun & İnal & İnal",null,null,{"$f":"TODAY()","v":"2016-01-19"},null,null,null,null,null,null,null,"Selçuk Üniversitesi Veteriner Fakültesi Rasyon Hazırlama Programları",null,null,null,null,null,null,null,null,null,null,"Adres","Rasyonlar","Rasyon Kayıt Bölümü"]
[null,"MALİYETLİ RASYON PROGRAMI","MİKTAR","Fiyat",null,null,null,null,null,null,null,null,null,null,null,null,null,null,null,null,null,null,null,null,null,null,null,"AE",null,"Diğer bilgiler",1,2,3,4,5,6,7,8,9,10,{"$f":"AN2+1","v":11},{"$f":"AO2+1","v":12},13,14,15,16,17,18,19,20,21,22,23,24,25,26,27,28,29,30]
[null,"VERİLECEK YEMLER","kg","Kuruş","Yemler için",null,"BESİN MADDELERİ","İHTİYAÇ","RASYON","SONUÇ","Hayvanın Tipi :","Besi Sığırı",null,null,null,null,"Fİ & Şİ & BC",null,null,null,null,null,null,null,null,null,null,"AF",null,"Rasyonun Adı :"]
[null,null,{"$f":"Rapor!Y2","v":12.81},{"$f":"(C5*D5+C6*D6+C7*D7+C8*D8+C9*D9+C10*D10+C11*D11+C12*D12+C13*D13+C14*D14+C15*D15+C16*D16+C17*D17+C18*D18+C19*D19+C20*D20+C21*D21+C22*D22+C23*D23+C24*D24+C25*D25+C26*D26+C27*D27+C28*D28+C29*D29+C30*D30+C31*D31)","v":481},"En az","En çok",{"$f":"Rapor!G4","v":"Kuru Madde, kg/gün"},{"$f":"Rapor!H4","v":7.7633075434650332},{"$f":"Rapor!I4","v":7.7659999999999991},{"$f":"Rapor!J4","v":"TAMAM"},"Irkı :","Esmer",null,null,null,null,null,null,null,null,null,null,null,null,null,null,null,"AG",null,"Rasyonun hazırlandığı tarih :"]
[2,"BUĞDAY SAMANI",3,20,0,5,{"$f":"Rapor!G5","v":"Rasyon Kuru Madde Oranı, % "},null,{"$f":"Rapor!I5","v":60.624512099921922},null,"Yaşı :",12,"ay",null,null,null,null,null,null,null,null,null,null,null,null,null,null,"AH",null,"Hayvan sahibinin adı soyadı :"]
[3,"ARPA, HAFİF",0.5,70,0,5,{"$f":"Rapor!G6","v":"Rasyon Kaba Yem Oranı, %"},null,{"$f":"Rapor!I6","v":34.380633530775178},null,"Kondisyon Skoru :",5,null,null,null,null,null,null,null,null,null,null,null,null,null,null,null,"AI",null,"Rasyonu Hazırlayanın Adı Soyadı :"]
[3,"BUĞDAY, ÖĞÜTÜLMÜŞ",1.3,80,0,5,{"$f":"Rapor!G7","v":"Ham Protein, g/gün"},null,{"$f":"Rapor!I7","v":664.43899999999985},null,"Canlı ağırlığı :",300,"kg",null,null,null,null,null,null,null,null,null,null,null,null,null,null,"AJ",null,"Adresi :"]
[3,"MISIR, 72 kg/hektolitre, ÖĞÜTÜLMÜŞ",2,80,0,5,{"$f":"Rapor!G8","v":"Metabolik Protein, g/gün"},{"$f":"Rapor!H8","v":612.12815936226866},{"$f":"Rapor!I8","v":644.1239872000001},{"$f":"Rapor!J8","v":"FAZLA"},"Hedef besi sonu ağırlığı :",500,"kg",null,null,null,null,null,null,null,null,null,null,null,null,null,null,"AK",null,"Telefonu :"]
[5,"MELAS,ŞEKER PANCARI",1,45,0,1,{"$f":"Rapor!G9","v":"Rumende Yık. Protein, g/gün"},null,{"$f":"Rapor!I9","v":407.18918649999995},null,"İstenilen canlı ağırlık artışı :",1.2,"kg/gün",null,null,"HAYVAN SAHİBİ İLE İLGİLİ BİLGİLER",null,"RASYONLA İLGİLİ BİLGİLER",null,"İhtiyaç","Rasyon","Denge",null,null,null,null,null,"AL",null,"Hayvan Tanımlama Bilgisi Girişi"]
[5,"ŞEK. PAN. POSASI, YAŞ",5,15,0,5,{"$f":"Rapor!G10","v":"Ham Protein, % KM"},null,{"$f":"Rapor!I10","v":8.5557429822302336},null,"Hedef yağlılık düzeyi :","Yağlı, % 28 yağlı",null,null,null,"Adı Soyadı:","Namık Kemal Özdemir","Kuru madde tüketimi (kg/gün):",null,{"$f":"DMIreal","v":7.7633075434650332},{"$f":"TotalDMFed","v":7.7659999999999991},{"$f":"IF(T10=\"\",\"\",IF(U10>(T10*1.02),\"FAZLA\",IF(U10<(T10*0.98),\"EKSİK\",\"TAMAM\")))","v":"TAMAM"},null,null,null,null,null,"AM",null,"Hayvanın Tipi :"]
[7,"VİT. KAR. (KAVIMIX 802-EKONOMİK) (SÜT, BESİ, BUZAĞI)",0.01,200,5.0000000000000001E-3,0.05,{"$f":"Rapor!G11","v":"ME, Mcal/gün"},{"$f":"Rapor!H11","v":19.479061362590272},{"$f":"Rapor!I11","v":19.183949999999999},{"$f":"Rapor!J11","v":"TAMAM"},null,null,null,null,null,"Adresi:","Cihanbeyli","Rasyon kuru madde oranı (%):",null,null,{"$f":"TotalDMFed/Rapor!Y2*100","v":60.624512099921922},null,null,null,null,null,null,"AN",null,"Irkı :"]
[null,null,null,null,null,null,{"$f":"Rapor!G12","v":"ME, Mcal/kg KM"},null,{"$f":"Rapor!I12","v":2.4702485191861965},null,"Kaç gün önce doğurdu? :",null,"gün",null,null,"Telefonu:","",null,null,null,null,null,null,null,null,null,null,"AO",null,"Yaşı :"]
[null,null,null,null,null,null,{"$f":"Rapor!G13","v":"NEbüyüme, Mcal/kg KM"},null,{"$f":"Rapor!I13","v":0.90537471027556016},null,"Kaç günlük gebe? :",0,"gün",null,null,null,null,"HP (% KM):",null,null,{"$f":"CPtotal/(TotalDMFed*10)","v":8.5557429822302336},null,null,null,null,null,null,"AP",null,"Kondisyon Skoru :"]
[null,null,null,null,null,null,{"$f":"Rapor!G14","v":"NEyaşamapayı, Mcal/kg KM"},null,{"$f":"Rapor!I14","v":1.5152935874323978},null,"Kaçıncı doğumunu yapacak :",0,null,null,null,"HAYVANLA İLGİLİ BİLGİLER",null,"Metabolik Protein (g/gün): ",null,{"$f":"MPmaint+MPg+MPlact+MPpreg","v":612.12815936226866},{"$f":"MPtotal","v":644.1239872000001},{"$f":"IF(T14=\"\",\"     \",IF(U14>(T14*1.02),\"FAZLA\",IF(U14<(T14*0.98),\"EKSİK\",\"TAMAM\")))","v":"FAZLA"},null,null,null,null,null,"AQ",null,"Canlı ağırlığı :"]
[null,null,null,null,null,null,{"$f":"Rapor!G15","v":"Ca, g/gün"},{"$f":"Rapor!H15","v":33.816311172772032},{"$f":"Rapor!I15","v":15.343000000000002},{"$f":"Rapor!J15","v":"EKSİK"},"Mevcut hava sıcaklığı :",20,"ºC",null,null,"Hayvanın tipi:",{"$f":"AnimalType","v":"Besi Sığırı"},"Rumende Yıkılabilir Protein (% HP):",null,null,{"$f":"DIP/CPtotal*100","v":61.283155639569621},null,null,null,null,null,null,"AR",null,"Hedef besi sonu ağırlığı :"]
[null,null,null,null,null,null,{"$f":"Rapor!G16","v":"Ca, % KM"},null,{"$f":"Rapor!I16","v":0.19756631470512495},null,"Geçen ayın sıcaklık ortalaması :",20,"°C",null,null,"Irkı:",{"$f":"Breed","v":"Esmer"},null,null,null,null,null,null,null,null,null,null,"AS",null,"İstenilen canlı ağırlık artışı :"]
[null,null,null,null,null,null,{"$f":"Rapor!G17","v":"P, g/gün"},{"$f":"Rapor!H17","v":18.402050567261199},{"$f":"Rapor!I17","v":14.781499999999999},{"$f":"Rapor!J17","v":"EKSİK"},"Sıcaklık Stresi :","Normal",null,null,null,"Yaşı (ay):",{"$f":"Age","v":12},"ME, Mcal/gün:",null,{"$f":"MEtotal","v":19.479061362590272},{"$f":"MEsup","v":19.183949999999999},{"$f":"IF(T17=\"\",\"     \",IF(U17>(T17*1.02),\"FAZLA\",IF(U17<(T17*0.98),\"EKSİK\",\"TAMAM\")))","v":"TAMAM"},null,null,null,null,null,"AT",null,"Hedef yağlılık düzeyi :"]
[null,null,null,null,null,null,{"$f":"Rapor!G18","v":"P, % KM"},null,{"$f":"Rapor!I18","v":0.19033608035024466},null,"Geceleri serinliyor mu?","Hayır",null,null,null,"Kondüsyon skoru:",{"$f":"CS","v":5},"ME (Mcal/kg KM):",null,null,{"$f":"MEconc","v":2.3683480000000001},null,null,null,null,null,null,"AU",null,"Kullanılan Büyüme Uyarıcılar :"]
[null,null,null,null,null,null,{"$f":"Rapor!G19","v":"Ca / P"},{"$f":"Rapor!H19","v":1.8376382050016808},{"$f":"Rapor!I19","v":1.0379866725298517},{"$f":"Rapor!J19","v":"EKSİK"},"Zemindeki çamur miktarı :","Yok",null,null,null,"Canlı ağırlığı (kg):",{"$f":"BW","v":300},"NEb (Mcal/kg KM):",null,null,{"$f":"NEgsup/TotalDMFed","v":0.90537471027556016},{"$f":"IF(T19=\"\",\"     \",IF(U19>(T19*1.02),\"FAZLA\",IF(U19<(T19*0.98),\"EKSİK\",\"TAMAM\")))","v":"     "},null,null,null,null,null,"AV",null,"Kaç gün önce doğurdu? :"]
[null,null,null,null,null,null,{"$f":"Rapor!G20","v":"NDF, % KM"},null,{"$f":"Rapor!I20","v":37.966211691990736},null,"Deri ve kıllarının durumu :","Kuru",null,null,null,"Hedef besi sonu ağırlığı (kg):",{"$f":"BesiSonAg","v":500},"NEyp (Mcal/kg KM):",null,null,{"$f":"NEmsup/TotalDMFed","v":1.5152935874323978},null,null,null,null,null,null,"AW",null,"Kaç günlük gebe? :"]
[null,null,null,null,null,null,{"$f":"Rapor!G21","v":"eNDF, % KM"},null,{"$f":"Rapor!I21","v":28.923595158382696},{"$f":"Rapor!J21","v":""},"Rüzgarın hızı :",1,"km/sa",null,null,"İstenilen canlı ağırlık artışı (kg/gün):",{"$f":"IF(AnimalType=\"Damızlık Düve\",     IF(DaysPreg>0,APADG,BPADG),     IF(OR(AnimalType=\"Kurudaki İnek\",AnimalType=\"Laktasyondaki İnek\")=TRUE,IF(DaysPreg>0,ADGpreg+ACADG,ACADG),ADG))","v":1.2},null,null,null,null,null,null,null,null,null,null,"AX",null,"Kaçıncı doğumunu yapacak :"]
[null,null,null,null,null,null,{"$f":"Rapor!G22","v":"NSC, % KM"},null,{"$f":"Rapor!I22","v":47.935497810970901},null,"Merada otluyor mu?","Otlamıyor",null,null,null,"Hedef yağlılık düzeyi:",{"$f":"CR59","v":0},"Ca (g/gün):",null,{"$f":"Camaint+Cagrow+Capreg+Calact","v":33.816311172772032},{"$f":"Casup","v":15.343000000000002},{"$f":"IF(T22=\"\",\"     \",IF(U22>(T22*1.02),\"FAZLA\",IF(U22<(T22*0.98),\"EKSİK\",\"TAMAM\")))","v":"EKSİK"},null,null,null,null,null,"AY",null,"Mevcut hava sıcaklığı :"]
[null,null,null,null,null,null,{"$f":"Rapor!G23","v":"TSBM, % KM"},null,{"$f":"Rapor!I23","v":67.843291269636879},null,"Otlanan mera alanı :",null,"hektar",null,null,null,null,"Ca (% KM):",null,null,{"$f":"Casup/10/TotalDMFed","v":0.19756631470512495},null,null,null,null,null,null,"AZ",null,"Geçen ayın sıcaklık ortalaması :"]
[null,null,null,null,null,null,{"$f":"Rapor!G24","v":"Rumen pH'sı"},null,{"$f":"Rapor!I24","v":6.46},null,"Merada otlanabilir ot miktarı :",null,"ton/hektar",null,null,{"$f":"IF(OR(AnimalType=\"Laktasyondaki İnek\",AnimalType=\"Kurudaki İnek\")=TRUE,\"Kaç gün önce doğurdu? :\",\"\")","v":""},{"$f":"IF(OR(AnimalType=\"Laktasyondaki İnek\",AnimalType=\"Kurudaki İnek\")=TRUE,SonDogumTarihi,\"\")","v":""},"P (g/gün):",null,{"$f":"Pmaint+Pgrow+Ppreg+Plact","v":18.402050567261199},{"$f":"Psup","v":14.781499999999999},{"$f":"IF(T24=\"\",\"     \",IF(U24>(T24*1.02),\"FAZLA\",IF(U24<(T24*0.98),\"EKSİK\",\"TAMAM\")))","v":"EKSİK"},null,null,null,null,null,"BA",null,"Sıcaklık Stresi :"]
[null,null,null,null,null,null,{"$f":"Rapor!G25","v":"Rasyon maliyeti, Kuruş"},null,{"$f":"Rapor!I25","v":481},null,"Merada otlayan hayvan sayısı :",null,null,null,null,{"$f":"IF(OR(AnimalType=\"Laktasyondaki İnek\",AnimalType=\"Kurudaki İnek\",AnimalType=\"Damızlık Düve\")=TRUE,\"Kaç günlük gebe? :\",\"\")","v":""},{"$f":"IF(OR(AnimalType=\"Laktasyondaki İnek\",AnimalType=\"Kurudaki İnek\",AnimalType=\"Damızlık Düve\")=TRUE,DaysPreg,\"\")","v":""},"P (% KM):",null,null,{"$f":"Psup/10/TotalDMFed","v":0.19033608035024466},null,null,null,null,null,null,"BB",null,"Geceleri serinliyor mu?"]
[null,null,null,null,null,null,null,null,null,null,"Merada kalınan süre :",null,"gün",null,null,{"$f":"IF(OR(AnimalType=\"Laktasyondaki İnek\",AnimalType=\"Kurudaki İnek\",AnimalType=\"Damızlık Düve\")=TRUE,\"Kaçıncı doğumunu yapacak? :\",\"\")","v":""},{"$f":"IF(OR(AnimalType=\"Laktasyondaki İnek\",AnimalType=\"Kurudaki İnek\",AnimalType=\"Damızlık Düve\")=TRUE,DogumSay,\"\")","v":""},"Ca/P oranı (%):",null,{"$f":"T22/T24","v":1.8376382050016808},{"$f":"I15/I17","v":1.0379866725298517},{"$f":"IF(T26=\"\",\"\",IF(U26>(T26*1.05),\"FAZLA\",IF(U26<(T26*0.95),\"EKSİK\",\"TAMAM\")))","v":"EKSİK"},null,null,null,null,null,"BC",null,"Zemindeki çamur miktarı :"]
[null,null,null,null,null,null,{"$f":"Rapor!G27","v":"Kesif yem; Miktarı,kg"},null,{"$f":"Rapor!I27","v":""},null,"Meranın arazi durumu :",null,null,null,null,"Otlama:",{"$f":"Otlama","v":"Otlamıyor"},null,null,null,null,null,null,null,null,null,null,"BD",null,"Deri ve kıllarının durumu :"]
[null,null,null,null,null,null,{"$f":"Rapor!G28","v":"HP,% KM"},null,{"$f":"Rapor!I28","v":""},null,"Meradaki kuru madde tüketimi :",null,"kg/gün",null,null,"Otlanan mera alanı (ha) :",{"$f":"GU","v":0},"Kaba Yem Oranı, (% KM):",null,null,{"$f":"FORAGE","v":34.380633530775178},null,null,null,null,null,null,"BE",null,"Rüzgarın hızı :"]
[null,null,null,null,null,null,{"$f":"Rapor!G29","v":"ME,Mcal/kg KM"},null,{"$f":"Rapor!I29","v":""},null,null,null,null,null,null,"Merada otlanabilir ot miktarı (t/ha):",{"$f":"pAVAIL","v":0},"NDF (% KM):",null,null,{"$f":"NDF","v":37.966211691990736},null,null,null,null,null,null,"BF",null,"Merada otluyor mu?"]
[null,null,null,null,null,null,{"$f":"Rapor!G30","v":"Ca,% KM"},null,{"$f":"Rapor!I30","v":""},null,null,null,null,null,null,"Merada otlayan hayvan sayısı :",{"$f":"GrazeN","v":0},"eNDF (% KM):",null,null,{"$f":"eNDF","v":28.923595158382696},null,null,null,null,null,null,"BG",null,"Otlanan mera alanı :"]
[null,null,null,null,null,null,{"$f":"Rapor!G31","v":"P,% KM"},null,{"$f":"Rapor!I31","v":""},null,null,null,null,null,null,"Merada kalınan süre (gün):",{"$f":"DOP","v":0},"NSC (% KM):",null,null,{"$f":"Rapor!AS33/(TotalDMFed*10)","v":47.935497810970901},null,null,null,null,null,null,"BH",null,"Merada otlanabilir ot miktarı :"]
[null,null,null,null,null,null,null,null,null,null,null,null,null,null,null,"Meranın arazi durumu :",{"$f":"TERRAIN","v":0},null,null,null,null,null,null,null,null,null,null,null,null,"Merada otlayan hayvan sayısı :"]
[null,null,null,null,null,null,null,null,null,null,null,null,null,null,null,"Meradaki kuru madde tüketimi (kg/gün):",{"$f":"pI","v":0},"TSBM (% KM):",null,null,{"$f":"TDN/TotalDMFed/10","v":67.843291269636879},null,null,null,null,null,null,null,null,"Merada kalınan süre :"]
[null,null,null,null,null,null,null,null,null,null,null,null,null,null,null,null,null,null,null,null,null,null,null,null,null,null,null,null,null,"Meranın arazi durumu :"]
[null,null,null,null,null,null,null,null,null,null,null,null,null,null,null,null,null,"Rumen pH'sı:",null,null,{"$f":"pH","v":6.46},null,null,null,null,null,null,null,null,"Meradaki kuru madde tüketimi :"]
[null,null,null,null,null,null,null,null,null,null,null,null,null,null,null,null,null,"Rasyon Maliyeti, Krş/gün:",null,null,{"$f":"FİYAT","v":481},null,null,null,null,null,null,null,null,"Yemlerin KODU"]
[]
[]
[]
[]
[]
[]
[]
[null,null,null,null,null,null,null,null,null,null,null,null,null,null,null,{"$f":"CONCATENATE(\"Rasyonun \",HayvanSay,\" hayvana verilecek şekilde düzenlenmiştir.\")","v":"Rasyonun 56 hayvana verilecek şekilde düzenlenmiştir."}]
[null,null,null,null,null,null,null,null,null,null,null,null,null,null,null,{"$f":"CONCATENATE(\"Rasyon \",OgunSay,\" öğünde verilecektir.\")","v":"Rasyon 2 öğünde verilecektir."}]
[]
[null,null,null,null,null,null,null,null,null,null,null,null,null,null,null,"RASYON ÖZETİ","Miktar","KM","Toplam Miktar kg/gün","Bir hayvana kg/öğün","Toplam Miktar, kg/öğün","Oran, %"]
[null,null,null,null,null,null,null,null,null,null,null,null,null,null,null,"Yem Maddeleri","kg/gün","kg/gün"]
[null,null,null,null,null,null,null,null,null,null,1,null,null,null,1]
[null,null,null,null,null,null,null,null,null,null,2,null,null,null,2]
[null,"Hayvanla İlgili bilgiler",null,null,null,null,"Rasyonla ilgili bilgiler",null,"İhtiyaç","Rasyon","Denge",null,null,null,3]
[null,"Hayvanın tipi:",{"$f":"AnimalType","v":"Besi Sığırı"},null,null,null,"Kuru madde tüketimi (kg/gün):",null,{"$f":"DMIreal","v":7.7633075434650332},{"$f":"TotalDMFed","v":7.7659999999999991},null,null,null,null,3]
[null,"Irkı:",{"$f":"Breed","v":"Esmer"},null,null,null,"Kuru madde tüketim oranı (% CA):",null,null,{"$f":"TotalDMFed/BW*100","v":2.5886666666666667},null,null,null,null,5]
[null,"Yaşı (ay):",{"$f":"Age","v":12},null,null,null,"KMT/KMTyp (kg):",null,null,{"$f":"IF(AnimalType=\"Damızlık Düve\",(TDN/1000)/(0.035*(SBW^0.75)),(TDN/1000)/(0.035*(BW^0.75)))","v":2.0883116411472313},null,null,null,null,7]
[null,"Kondisyon skoru:",{"$f":"CS","v":5},null,null,null,"Kaba Yem Oranı, %",null,null,{"$f":"FORAGE","v":34.380633530775178},null,null,null,null,7]
[null,"Canlı ağırlığı (kg):",{"$f":"BW","v":300},null,null,null,"NDF (% KM):",null,{"$f":"IF(AnimalType=\"Sağmal İnek\",25,IF(AnimalType=\"Kurudaki İnek\",33,IF(AnimalType=\"Damızlık Düve\",30,0)))","v":0},{"$f":"NDF","v":37.966211691990736},{"$f":"CONCATENATE(IF(J56-I56>=0,\"+\",\"\"),TEXT(J56-I56,\"0,0\"))","v":"+38,0"},null,null,null,7]
[null,"Ergin canlı ağırlığı (kg):",{"$f":"MW","v":600},null,null,null,"eNDF (% KM):",null,{"$f":"IF(AnimalType=\"Sağmal İnek\",15,\"\")","v":""},{"$f":"eNDF","v":28.923595158382696},{"$f":"IF(I57=\"\",\"\",CONCATENATE(IF(J57-I57>=0,\"+\",\"\"),TEXT(J57-I57,0)))","v":""},null,null,null,10]
[null,"Hedef besi sonu ağırlığı (kg):",{"$f":"BesiSonAg","v":500},null,null,null,"HP (% KM):",null,null,{"$f":"CPtotal/(TotalDMFed*10)","v":8.5557429822302336}]
[null,"İstenilen canlı ağırlık artışı (kg/gün):",{"$f":"IF(AnimalType=\"Damızlık Düve\",     IF(DaysPreg>0,APADG,BPADG),     IF(OR(AnimalType=\"Kurudaki İnek\",AnimalType=\"Laktasyondaki İnek\")=TRUE,IF(DaysPreg>0,ADGpreg+ACADG,ACADG),ADG))","v":1.2},null,null,null,"MP (% KM):",null,null,{"$f":"MPtotal/(TotalDMFed*10)","v":8.2941538398145784}]
[null,"Hedef yağlılık düzeyi:",{"$f":"Rapor!CR59","v":"Yağlı, % 28 yağlı"},null,null,null,"NSC (% KM):",null,null,{"$f":"Rapor!AS33/(TotalDMFed*10)","v":47.935497810970901}]
[null,"Büyüme uyarıcılar:",{"$f":"Rapor!CR60","v":0},null,null,null,"TSBM (% KM):",null,null,{"$f":"TDN/TotalDMFed/10","v":67.843291269636879}]
[null,{"$f":"IF(OR(AnimalType=\"Laktasyondaki İnek\",AnimalType=\"Kurudaki İnek\")=TRUE,\"Kaç gün önce doğurdu? :\",\"\")","v":""},{"$f":"IF(OR(AnimalType=\"Laktasyondaki İnek\",AnimalType=\"Kurudaki İnek\")=TRUE,SonDogumTarihi,\"\")","v":""},null,null,null,"Rumen pH'sı:",null,null,{"$f":"pH","v":6.46}]
[null,{"$f":"IF(OR(AnimalType=\"Laktasyondaki İnek\",AnimalType=\"Kurudaki İnek\",AnimalType=\"Damızlık Düve\")=TRUE,\"Kaç günlük gebe? :\",\"\")","v":""},{"$f":"IF(OR(AnimalType=\"Laktasyondaki İnek\",AnimalType=\"Kurudaki İnek\",AnimalType=\"Damızlık Düve\")=TRUE,DaysPreg,\"\")","v":""},null,null,null,"ME (Mcal/kg KM):",null,null,{"$f":"MEI/TotalDMFed","v":2.4702485191861965},null,null,null,null,null,null,null,null,null,null,null,null,null,null,null,null,null,null,null,"Yemlerin ADI"]
[null,{"$f":"IF(OR(AnimalType=\"Laktasyondaki İnek\",AnimalType=\"Kurudaki İnek\",AnimalType=\"Damızlık Düve\")=TRUE,\"Kaçıncı doğumunu yapacak? :\",\"\")","v":""},{"$f":"IF(OR(AnimalType=\"Laktasyondaki İnek\",AnimalType=\"Kurudaki İnek\",AnimalType=\"Damızlık Düve\")=TRUE,DogumSay,\"\")","v":""},null,null,null,"NEyp (Mcal/kg KM):",null,null,{"$f":"NEmsup/TotalDMFed","v":1.5152935874323978}]
[null,"Otlama:",{"$f":"Otlama","v":"Otlamıyor"},null,null,null,"NEb (Mcal/kg KM):",null,null,{"$f":"NEgsup/TotalDMFed","v":0.90537471027556016}]
[null,"Otlanan mera alanı (ha) :",{"$f":"GU","v":0},null,null,null,"MP-Mikrobiyel (g/gün):",null,null,{"$f":"MPbact","v":438.35667200000006}]
[null,"Merada otlanabilir ot miktarı (t/ha):",{"$f":"pAVAIL","v":0},null,null,null,"MP-Yemden gelen (g/gün):",null,null,{"$f":"MPfeed","v":205.76731519999998}]
[null,"Merada otlayan hayvan sayısı :",{"$f":"GrazeN","v":0},null,null,null,"MP-Mikrobiyel (%):",null,null,{"$f":"(J66/(J66+J67))*100","v":68.054703863076384}]
[null,"Merada kalınan süre (gün):",{"$f":"DOP","v":0},null,null,null,"Ca (% KM):",null,null,{"$f":"Casup/10/TotalDMFed","v":0.19756631470512495}]
[null,"Meranın arazi durumu :",{"$f":"TERRAIN","v":0},null,null,null,"P (% KM):",null,null,{"$f":"Psup/10/TotalDMFed","v":0.19033608035024466}]
[null,"Meradaki kuru madde tüketimi (kg/gün):",{"$f":"pI","v":0},null,null,null,"Rasyon Maliyeti, Krş/gün:",null,null,{"$f":"FİYAT","v":481}]
[null,"Meradaki kuru madde tüketimi (kg/gün):",{"$f":"pI","v":0},null,null,null,"1 KS değişimi için gerekli gün:",null,null,{"$f":"DaysToChange","v":22.787556720160644},""]
[null,"Rasyon besin maddesi dengesi","İhtiyaç","Rasyon","Denge","% KM'de",null,null,null,null,""]
[null,"Ca (g/gün)",{"$f":"Rapor!CV89","v":33.816311172772032},{"$f":"Casup","v":15.343000000000002},{"$f":"CONCATENATE(IF((D74-C74)>=0,\"+\",\"\"),TEXT((D74-C74),\"0,0\"))","v":"-18,5"},{"$f":"Casup/10/TotalDMFed","v":0.19756631470512495},"Amino asit tablosu",null,null,null,""]
[null,"P (g/gün)",{"$f":"Rapor!CV90","v":18.402050567261199},{"$f":"Psup","v":14.781499999999999},"-3,6",{"$f":"Psup/10/TotalDMFed","v":0.19033608035024466},null,"İhtiyaç","Rasyon","Denge",""]
[null,"Mg (g/gün)",{"$f":"Rapor!CV91","v":7.7633075434650332},{"$f":"Mgsup","v":11.6532},"+3,9",{"$f":"Mgsup/10/TotalDMFed","v":0.15005408189544167},"Metionin (g/gün)",{"$f":"Rapor!CV108","v":5.836014251257823},{"$f":"Rapor!CJ185","v":22.059763816791676},{"$f":"CONCATENATE(IF((I76-H76)>=0,\"+\",\"\"),TEXT((I76-H76),\"0,0\"))","v":"+16,2"},"",""]
[null,"K (g/gün)",{"$f":"Rapor!CV92","v":46.579845260790201},{"$f":"Ksup","v":99.383399999999995},"+52,8",{"$f":"Ksup/10/TotalDMFed","v":1.2797244398660832},"Lizin (g/gün)",{"$f":"Rapor!CV109","v":18.675245604025037},{"$f":"Rapor!CJ186","v":66.271620527705792},{"$f":"CONCATENATE(IF((I77-H77)>=0,\"+\",\"\"),TEXT((I77-H77),\"0,0\"))","v":"+47,6"},"",""]
[null,"Na (g/gün)",{"$f":"Rapor!CV93","v":5.4343152804255235},{"$f":"Nasup","v":17.495899999999999},"+12,1",{"$f":"Nasup/10/TotalDMFed","v":0.22528843677568891},"Metionin (% MP)","",{"$f":"(I76/(J66+J67))*100","v":3.4247698044417234},"","",""]
[null,"S (g/gün)",{"$f":"Rapor!CV94","v":11.64496131519755},{"$f":"Ssup","v":16.668799999999997},"+5,0",{"$f":"Ssup/10/TotalDMFed","v":0.21463816636621166},"Lizin (% MP)","",{"$f":"(I77/(J66+J67))*100","v":10.288643466887144},"",null,null,null,null,null,""]
[null,null,null,null,null,"mg/kg KM","Histidin (g/gün)",{"$f":"Rapor!CV110","v":7.2950178140722794},{"$f":"Rapor!CJ187","v":60.172093273471482},{"$f":"CONCATENATE(IF((I80-H80)>=0,\"+\",\"\"),TEXT((I80-H80),\"0,0\"))","v":"+52,9"},""]
[null,"Co (mg/gün)",{"$f":"Rapor!CV95","v":0.77633075434650334},{"$f":"Cosup","v":1.9769940000000004},{"$f":"CONCATENATE(IF((D81-C81)>=0,\"+\",\"\"),TEXT((D81-C81),\"0,0\"))","v":"+1,2"},{"$f":"Cosup/TotalDMFed","v":0.25457043523049194},"Fenilalanin (g/gün)",{"$f":"Rapor!CV111","v":10.213024939701192},{"$f":"Rapor!CJ188","v":48.881214677139184},"+38,7"]
[null,"Cu (mg/gün)",{"$f":"Rapor!CV96","v":77.633075434650337},{"$f":"Cusup","v":59.300899999999999},"-18,3",{"$f":"Cusup/TotalDMFed","v":7.6359644604687107},"Triptofan (g/gün)",{"$f":"Rapor!CV112","v":1.750804275377347},{"$f":"Rapor!CJ189","v":83.833495518552795},"+82,1"]
[null,"I (mg/gün)",{"$f":"Rapor!CV97","v":3.8816537717325166},{"$f":"Isup","v":0.13885700000000001},"-3,7",{"$f":"Isup/TotalDMFed","v":1.7880118465104303E-2},"Treonin (g/gün)",{"$f":"Rapor!CV113","v":11.380227789952755},{"$f":"Rapor!CJ190","v":50.468780935046148},"+39,1"]
[null,"Fe (mg/gün)",{"$f":"Rapor!CV98","v":388.16537717325167},{"$f":"Fesup","v":945.04370000000006},"+556,9",{"$f":"Fesup/TotalDMFed","v":121.68989183620914},"Löysin (g/gün)",{"$f":"Rapor!CV114","v":19.550647741713711},{"$f":"Rapor!CJ191","v":56.997609016948424},"+37,4"]
[null,"Mn (mg/gün)",{"$f":"Rapor!CV99","v":155.26615086930067},{"$f":"Mnsup","v":211.53320000000002},"+56,3",{"$f":"Mnsup/TotalDMFed","v":27.238372392480048},"İzolöysin (g/gün)",{"$f":"Rapor!CV115","v":8.1704199517609517},{"$f":"Rapor!CJ192","v":25.549701126632829},"+17,4"]
[null,"Se (mg/gün)",{"$f":"Rapor!CV100","v":0.77633075434650334},{"$f":"Sesup","v":0.25061},"-0,5",{"$f":"Sesup/TotalDMFed","v":3.227015194437291E-2},"Valin (g/gün)",{"$f":"Rapor!CV116","v":11.672028502515646},{"$f":"Rapor!CJ193","v":49.381013798571907},"+37,7"]
[null,"Zn (mg/gün)",{"$f":"Rapor!CV101","v":232.899226303951},{"$f":"Znsup","v":103.1597},"-129,7",{"$f":"Znsup/TotalDMFed","v":13.283505021890292},"Arjinin (g/gün)",{"$f":"Rapor!CV117","v":9.629423514575409},{"$f":"Rapor!CJ194","v":14.576126257317194},"+4,9"]
[null,null,null,null,null,"IU/kg KM"]
[null,"Vit A (IU)",{"$f":"Rapor!CV102","v":17079.276595623072},{"$f":"VitAsup*1000","v":74722},{"$f":"CONCATENATE(IF((D89-C89)>=0,\"+\",\"\"),TEXT((D89-C89),0))","v":"+57643"},{"$f":"VitAsup*1000/TotalDMFed","v":9621.6842647437552}]
[null,"Vit D (IU)",{"$f":"Rapor!CV103","v":2134.909574452884},{"$f":"VitDsup*1000","v":7756.9},{"$f":"CONCATENATE(IF((D90-C90)>=0,\"+\",\"\"),TEXT((D90-C90),0))","v":"+5622"},{"$f":"VitDsup*1000/TotalDMFed","v":998.82822559876388},null,null,null,null,null,null,null,null,null,null,null,null,null,null,null,null,null,null,null,null,null,null,null,"Yemlerin MİKTARI"]
[]
[]
[]
[]
[]
[]
[]
[]
[]
[]
[]
[]
[]
[]
[]
[]
[]
[]
[]
[]
[]
[]
[]
[]
[]
[]
[null,null,null,null,null,null,null,null,null,null,null,null,null,null,null,null,null,null,null,null,null,null,null,null,null,null,null,null,null,"Fiyat"]
[]
[]
[]
[]
[]
[]
[]
[]
[]
[]
[]
[]
[]
[]
[]
[]
[]
[]
[]
[]
[]
[]
[]
[]
[]
[]
[null,null,null,null,null,null,null,null,null,null,null,null,null,null,null,null,null,null,null,null,null,null,null,null,null,null,null,null,null,"En az"]
[]
[]
[]
[]
[]
[]
[]
[]
[]
[]
[]
[]
[]
[]
[]
[]
[]
[]
[]
[]
[]
[]
[]
[]
[]
[]
[null,null,null,null,null,null,null,null,null,null,null,null,null,null,null,null,null,null,null,null,null,null,null,null,null,null,null,null,null,"En çok"]
[]
[]
[]
[]
[]
[]
[]
[]
[]
[]
[]
[]
[]
[]
[]
[]
[]
[]
[]
[]
[]
[]
[]
[]
[]
[]
[]
[]
[]
[null,null,null,null,null,null,null,null,null,null,null,null,null,null,null,null,null,null,null,null,null,null,null,null,null,null,null,"AE","Karma-ataman","Yem1","MISIR SİLAJI, %35 TANE"]
[null,null,null,null,null,null,null,null,null,null,null,null,null,null,null,null,null,null,null,null,null,null,null,null,null,null,null,"AF",null,"Yem2","YONCA SİLAJI, TAM ÇİÇ."]
[null,null,null,null,null,null,null,null,null,null,null,null,null,null,null,null,null,null,null,null,null,null,null,null,null,null,null,"AG",null,"Yem3","ARPA, AĞIR"]
[null,null,null,null,null,null,null,null,null,null,null,null,null,null,null,null,null,null,null,null,null,null,null,null,null,null,null,"AH",null,"Yem4","ŞEK. PAN. POSASI, YAŞ, AMBALAJLI"]
[null,null,null,null,null,null,null,null,null,null,null,null,null,null,null,null,null,null,null,null,null,null,null,null,null,null,null,"AI",null,"Yem5","SIĞIR BESİ YEMİ,14,2800"]
[null,null,null,null,null,null,null,null,null,null,null,null,null,null,null,null,null,null,null,null,null,null,null,null,null,null,null,"AJ",null,"Yem6"]
[null,null,null,null,null,null,null,null,null,null,null,null,null,null,null,null,null,null,null,null,null,null,null,null,null,null,null,"AK",null,"Yem7"]
[null,null,null,null,null,null,null,null,null,null,null,null,null,null,null,null,null,null,null,null,null,null,null,null,null,null,null,"AL",null,"Yem8"]
[null,null,null,null,null,null,null,null,null,null,null,null,null,null,null,null,null,null,null,null,null,null,null,null,null,null,null,"AM",null,"Yem9"]
[null,null,null,null,null,null,null,null,null,null,null,null,null,null,null,null,null,null,null,null,null,null,null,null,null,null,null,"AN",null,"Yem10"]
[null,null,null,null,null,null,null,null,null,null,null,null,null,null,null,null,null,null,null,null,null,null,null,null,null,null,null,"AO",null,"Yem11"]
[null,null,null,null,null,null,null,null,null,null,null,null,null,null,null,null,null,null,null,null,null,null,null,null,null,null,null,"AP",null,"Yem12"]
[null,null,null,null,null,null,null,null,null,null,null,null,null,null,null,null,null,null,null,null,null,null,null,null,null,null,null,"AQ",null,"Yem13"]
[null,null,null,null,null,null,null,null,null,null,null,null,null,null,null,null,null,null,null,null,null,null,null,null,null,null,null,"AR",null,"Yem14"]
[null,null,null,null,null,null,null,null,null,null,null,null,null,null,null,null,null,null,null,null,null,null,null,null,null,null,null,"AS",null,"Yem15"]
[null,null,null,null,null,null,null,null,null,null,null,null,null,null,null,null,null,null,null,null,null,null,null,null,null,null,null,"AT",null,"Yem16"]
[null,null,null,null,null,null,null,null,null,null,null,null,null,null,null,null,null,null,null,null,null,null,null,null,null,null,null,"AU",null,"Yem17"]
[null,null,null,null,null,null,null,null,null,null,null,null,null,null,null,null,null,null,null,null,null,null,null,null,null,null,null,"AV",null,"Yem18"]
[null,null,null,null,null,null,null,null,null,null,null,null,null,null,null,null,null,null,null,null,null,null,null,null,null,null,null,"AW",null,"Yem19"]
[null,null,null,null,null,null,null,null,null,null,null,null,null,null,null,null,null,null,null,null,null,null,null,null,null,null,null,"AX",null,"Yem20"]
[null,null,null,null,null,null,null,null,null,null,null,null,null,null,null,null,null,null,null,null,null,null,null,null,null,null,null,"AY",null,"Yem21"]
[null,null,null,null,null,null,null,null,null,null,null,null,null,null,null,null,null,null,null,null,null,null,null,null,null,null,null,"AZ",null,"Yem22"]
[null,null,null,null,null,null,null,null,null,null,null,null,null,null,null,null,null,null,null,null,null,null,null,null,null,null,null,"BA",null,"Yem23"]
[null,null,null,null,null,null,null,null,null,null,null,null,null,null,null,null,null,null,null,null,null,null,null,null,null,null,null,"BB",null,"Yem24"]
[null,null,null,null,null,null,null,null,null,null,null,null,null,null,null,null,null,null,null,null,null,null,null,null,null,null,null,"BC",null,"Yem25"]
[null,null,null,null,null,null,null,null,null,null,null,null,null,null,null,null,null,null,null,null,null,null,null,null,null,null,null,"BD",null,"Yem26"]
[null,null,null,null,null,null,null,null,null,null,null,null,null,null,null,null,null,null,null,null,null,null,null,null,null,null,null,"BE",null,"Yem27"]
[null,null,null,null,null,null,null,null,null,null,null,null,null,null,null,null,null,null,null,null,null,null,null,null,null,null,null,"BF",null,"Miktar1",6]
[null,null,null,null,null,null,null,null,null,null,null,null,null,null,null,null,null,null,null,null,null,null,null,null,null,null,null,"BG",null,"Miktar2",3]
[null,null,null,null,null,null,null,null,null,null,null,null,null,null,null,null,null,null,null,null,null,null,null,null,null,null,null,"BH",null,"Miktar3",3]
[null,null,null,null,null,null,null,null,null,null,null,null,null,null,null,null,null,null,null,null,null,null,null,null,null,null,null,null,null,"Miktar4",5]
[null,null,null,null,null,null,null,null,null,null,null,null,null,null,null,null,null,null,null,null,null,null,null,null,null,null,null,null,null,"Miktar5",1.5]
[null,null,null,null,null,null,null,null,null,null,null,null,null,null,null,null,null,null,null,null,null,null,null,null,null,null,null,null,null,"Miktar6"]
[null,null,null,null,null,null,null,null,null,null,null,null,null,null,null,null,null,null,null,null,null,null,null,null,null,null,null,null,null,"Miktar7"]
[null,null,null,null,null,null,null,null,null,null,null,null,null,null,null,null,null,null,null,null,null,null,null,null,null,null,null,null,null,"Miktar8"]
[null,null,null,null,null,null,null,null,null,null,null,null,null,null,null,null,null,null,null,null,null,null,null,null,null,null,null,null,null,"Miktar9"]
[null,null,null,null,null,null,null,null,null,null,null,null,null,null,null,null,null,null,null,null,null,null,null,null,null,null,null,null,null,"Miktar10"]
[null,null,null,null,null,null,null,null,null,null,null,null,null,null,null,null,null,null,null,null,null,null,null,null,null,null,null,null,null,"Miktar11"]
[null,null,null,null,null,null,null,null,null,null,null,null,null,null,null,null,null,null,null,null,null,null,null,null,null,null,null,null,null,"Miktar12"]
[null,null,null,null,null,null,null,null,null,null,null,null,null,null,null,null,null,null,null,null,null,null,null,null,null,null,null,null,null,"Miktar13"]
[null,null,null,null,null,null,null,null,null,null,null,null,null,null,null,null,null,null,null,null,null,null,null,null,null,null,null,null,null,"Miktar14"]
[null,null,null,null,null,null,null,null,null,null,null,null,null,null,null,null,null,null,null,null,null,null,null,null,null,null,null,null,null,"Miktar15"]
[null,null,null,null,null,null,null,null,null,null,null,null,null,null,null,null,null,null,null,null,null,null,null,null,null,null,null,null,null,"Miktar16"]
[null,null,null,null,null,null,null,null,null,null,null,null,null,null,null,null,null,null,null,null,null,null,null,null,null,null,null,null,null,"Miktar17"]
[null,null,null,null,null,null,null,null,null,null,null,null,null,null,null,null,null,null,null,null,null,null,null,null,null,null,null,null,null,"Miktar18"]
[null,null,null,null,null,null,null,null,null,null,null,null,null,null,null,null,null,null,null,null,null,null,null,null,null,null,null,null,null,"Miktar19"]
[null,null,null,null,null,null,null,null,null,null,null,null,null,null,null,null,null,null,null,null,null,null,null,null,null,null,null,null,null,"Miktar20"]
[null,null,null,null,null,null,null,null,null,null,null,null,null,null,null,null,null,null,null,null,null,null,null,null,null,null,null,null,null,"Miktar21"]
[null,null,null,null,null,null,null,null,null,null,null,null,null,null,null,null,null,null,null,null,null,null,null,null,null,null,null,null,null,"Miktar22"]
[null,null,null,null,null,null,null,null,null,null,null,null,null,null,null,null,null,null,null,null,null,null,null,null,null,null,null,null,null,"Miktar23"]
[null,null,null,null,null,null,null,null,null,null,null,null,null,null,null,null,null,null,null,null,null,null,null,null,null,null,null,null,null,"Miktar24"]
[null,null,null,null,null,null,null,null,null,null,null,null,null,null,null,null,null,null,null,null,null,null,null,null,null,null,null,null,null,"Miktar25"]
[null,null,null,null,null,null,null,null,null,null,null,null,null,null,null,null,null,null,null,null,null,null,null,null,null,null,null,null,null,"Miktar26"]
[null,null,null,null,null,null,null,null,null,null,null,null,null,null,null,null,null,null,null,null,null,null,null,null,null,null,null,null,null,"Miktar27"]

{"sheet":"Rapor","index":1,"n_rows":686,"n_cols":121,"rows_kept":686,"cut":false,"hidden":false,"merged":[[118,94,118,96],[148,90,148,92],[174,90,174,92],[210,90,210,92],[184,90,184,92],[190,90,190,92],[196,90,196,92],[201,90,201,92],[205,90,205,92],[181,90,181,92],[0,23,0,24],[104,94,104,99],[7,90,7,92],[33,95,33,99],[86,94,86,100],[46,90,46,92],[0,94,0,98],[36,95,36,99],[302,90,302,92],[280,90,280,92],[285,90,285,92],[291,90,291,92],[292,90,292,92],[294,90,294,92],[299,90,299,92],[38,1,39,1],[38,2,39,2],[234,90,234,92],[2,4,2,5],[273,90,273,92],[256,90,256,92],[235,90,235,92],[242,90,242,92],[243,90,243,92],[251,90,251,92],[258,90,258,92],[262,90,262,92],[263,90,263,92]]}
[null,null,null,null,null,null,null,null,null,null,null,null,null,null,null,null,null,null,null,null,null,null,null,"HESAPLAMA TABLOSU",null,4,5,6,7,8,9,10,11,12,13,14,15,16,17,18,19,20,21,22,23,24,25,26,27,28,29,30,31,32,33,34,35,36,37,38,39,40,41,42,43,44,45,46,47,48,49,50,51,52,53,54,55,56,null,null,null,null,null,null,null,null,null,null,null,"Tanımlamalar","SBW=",{"$f":"BW*0.96","v":288},null,null,"Table 10-1. Breed maintenance requirement multiplier, birth weights and peak milk yield production.",null,null,null,null,null,null,{"$f":"TODAY()","v":"2016-01-19"},null,null,null,"İlk Gebelik"]
[null,null,null,null,null,null,null,null,null,null,null,null,null,null,null,null,null,null,null,null,null,null,{"$f":"SUM(W5:W31)","v":481},null,{"$f":"SUM(Y5:Y31)","v":12.81},{"$f":"AVERAGE(Z5:Z31)","v":20.403703703703702},null,null,null,null,null,null,null,null,{"$f":"AVERAGE(AI5:AI31)","v":2.2666666666666666},null,null,{"$f":"AVERAGE(AL5:AL31)","v":7.5925925925925926},{"$f":"AVERAGE(AM5:AM31)","v":15.481481481481481},{"$f":"AVERAGE(AN5:AN31)","v":5.7407407407407405},{"$f":"AVERAGE(AO5:AO31)","v":3.2592592592592591},null,null,null,null,null,null,null,null,null,null,null,null,null,null,null,null,null,null,null,null,null,null,null,null,null,null,null,null,null,null,null,null,null,null,null,null,null,null,{"$f":"SUM(CB5:CB31)","v":26.336215245403363},75.382645086480622,61.200688597900651,49.845581300063699,71.339177256683655,54.008325467022836,58.099503831684679,24.43972148452513,49.451969387428598,16.525736513816284,"Irkı","EBW=",{"$f":"0.891*SBW","v":256.608},null,null,"Kod","Süt Proteini, %","NEm (BE)","Birth Wt kg (CBW)","Peak Milk Yield kg/day (PKYD)","Düve Ergin Ağırlığı","Gebelik Süresi (GL), gün","Ergenlik yaşı, gün","Deri kalınlığı","Süt Yağı, %","İBY,ay","Ağ. %","a1",null,null,null,null,null,null,null,null,"Tablo 10-7 Rumen mikrobiyel hücre duvarı ve hücre duvarı olmayan proteinlerin a.a. Kompozisyonu, g/100 g protein"]
[null,null,"MİKTAR","Fiyat","Yemler için",null,"BESİN MADDELERİ","İHTİYAÇ","RASYON","SONUÇ",null,null,null,null,null,null,null,null,null,null,null,null,"Fiyat","VERİLECEK YEMLER","MİKTAR","KM %Yem","NDF %KM","Lignin %NDF","Effekt. %NDF","HS,%","TDN %KM","ME,Mcal/kg","NEm,Mcal/kg","NEg,Mcal/kg","HP,%","DIP %HP","UIP %HP","SoIP %HP","NPN %SoIP","NDFIP %HP","ADFIP %HP","Nişasta %NSC","HY %KM","HK %KM","A kd %/sa©","B1 kd %/sa©","B2 kd %/sa©","B1 kd %/sa(p)","B2 kd %/sa(p)","B3 kd %/sa(p)","MET %UIP","LİZ %UIP","ARJ %UIP","TRE %UIP","LÖY %UIP","İZOLÖY %UIP","VAL %UIP","HIS %UIP","FENAL %UIP","TRİP %UIP","Ca %KM","P %KM","Mg %KM","Cl %KM","K %KM","Na %KM","S %KM","Co mg/kg","Cu mg/kg","I mg/kg","Fe mg/kg","Mn mg/kg","Se mg/kg","Zn mg/kg","Vit A 1000 IU/kg","Vit D 1000 IU/kg","Vit E IU/kg","FİYAT,TL",null,"MET, g","LİZ, g","ARJ, g","TRE, g","LÖY, g","İZOLÖY, g","VAL, g","HIS, g","FENAL, g","TRİP, g","Brangus","SWG=",{"$f":"IF(AnimalType=\"Damızlık Düve\",     IF(DaysPreg>0,APADG+ADGpreg,BPADG),     IF(OR(AnimalType=\"Kurudaki İnek\",AnimalType=\"Laktasyondaki İnek\")=TRUE,IF(DaysPreg>0,ADGpreg+ACADG,ACADG),ADG))  *0.96","v":1.1519999999999999},null,null,"Angus",3.8,1,36,8,512.1,280,356,1,4.03,30,0.6,7.0000000000000007E-2,null,null,null,null,null,null,null,null,null,null,null,"Ruminal bakteri"]
[null,"VERİLECEK YEMLER",{"$f":"Y2","v":12.81},"Kuruş","En az","En çok","Kuru Madde, kg/gün",{"$f":"DMIreal","v":7.7633075434650332},{"$f":"TotalDMFed","v":7.7659999999999991},{"$f":"IF(H4=\"\",\"\",IF(I4>(H4*1.02),\"FAZLA\",IF(I4<(H4*0.98),\"EKSİK\",\"TAMAM\")))","v":"TAMAM"},null,null,null,null,null,null,null,null,null,null,null,null,"  ","KABA YEMLER","  ","  ","  ","  ","  ","  ","  ","  ","  ","  ","  ","  ","  ","  ","  ","  ","  ","  ","  ","  ","  ","  ","  ","  ","  ","  ","  ","  ","  ","  ","  ","  ","  ","  ","  ","  ","  ","  ","  ","  ","  ","  ","  ","  ","  ","  ","  ","  ","  ","  ","  ","  ","  ","  ",null,"REBAA","REBAA","REBAA","REBAA","REBAA","REBAA","REBAA","REBAA","REBAA","REBAA","Esmer","EWG=",{"$f":"SWG*0.956","v":1.1013119999999998},null,null,"Ayrşayr",3.4,1.2,32,36,545,278,347,1,4,24,0.55000000000000004,7.2999999999999995E-2,null,null,null,null,null,null,null,null,"Amino a.","Hücre duvarı","Hücre duvarı olmayan","Ortalama","SD"]
[{"$f":"Besi!A5","v":2},{"$f":"Besi!B5","v":"BUĞDAY SAMANI"},{"$f":"Besi!C5","v":3},{"$f":"Besi!D5","v":20},{"$f":"Besi!E5","v":0},{"$f":"Besi!F5","v":5},"Rasyon Kuru Madde Oranı, % ",null,{"$f":"TotalDMFed/Y2*100","v":60.624512099921922},null,null,null,null,null,null,null,null,null,null,null,null,null,{"$f":"IF(Besi!B5=0,0,IF(Besi!C5<=0,0,Besi!C5*Besi!D5))","v":60},{"$f":"IF(B5=0,0,B5)","v":"BUĞDAY SAMANI"},{"$f":"IF(Besi!B5=0,0,IF(Besi!C5<=0,0,Besi!C5))","v":3},{"$f":"IF(B5=0,0,IF(C5<=0,0,VLOOKUP(X5,X126:CA657,Z$1,FALSE)))","v":89},{"$f":"IF(B5=0,0,IF(C5<=0,0,VLOOKUP(X5,X126:CA657,AA$1,FALSE)))","v":78.900000000000006},{"$f":"IF(B5=0,0,IF(C5<=0,0,VLOOKUP(X5,X126:CA657,AB$1,FALSE)))","v":"16,47"},{"$f":"IF(B5=0,0,IF(C5<=0,0,VLOOKUP(X5,X126:CA657,AC$1,FALSE)))","v":98},{"$f":"IF(B5=0,0,IF(C5<=0,0,VLOOKUP(X5,X126:CA657,AD$1,FALSE)))","v":41.6},{"$f":"IF(B5=0,0,IF(C5<=0,0,VLOOKUP(X5,X126:CA657,AE$1,FALSE)))","v":"41"},{"$f":"IF(B5=0,0,IF(C5<=0,0,VLOOKUP(X5,X126:CA657,AF$1,FALSE)))","v":1.48},{"$f":"IF(B5=0,0,IF(C5<=0,0,VLOOKUP(X5,X126:CA657,AG$1,FALSE)))","v":0.64},{"$f":"IF(B5=0,0,IF(C5<=0,0,VLOOKUP(X5,X126:CA657,AH$1,FALSE)))","v":0.11},{"$f":"IF(B5=0,0,IF(C5<=0,0,VLOOKUP(X5,X126:CA657,AI$1,FALSE)))","v":3.5},{"$f":"IF(B5=0,0,IF(C5<=0,0,VLOOKUP(X5,X126:CA657,AJ$1,FALSE)))","v":31},{"$f":"IF(B5=0,0,IF(C5<=0,0,VLOOKUP(X5,X126:CA657,AK$1,FALSE)))","v":69},{"$f":"IF(B5=0,0,IF(C5<=0,0,VLOOKUP(X5,X126:CA657,AL$1,FALSE)))","v":20},{"$f":"IF(B5=0,0,IF(C5<=0,0,VLOOKUP(X5,X126:CA657,AM$1,FALSE)))","v":95},{"$f":"IF(B5=0,0,IF(C5<=0,0,VLOOKUP(X5,X126:CA657,AN$1,FALSE)))","v":75},{"$f":"IF(B5=0,0,IF(C5<=0,0,VLOOKUP(X5,X126:CA657,AO$1,FALSE)))","v":65},{"$f":"IF(B5=0,0,IF(C5<=0,0,VLOOKUP(X5,X126:CA657,AP$1,FALSE)))","v":100},{"$f":"IF(B5=0,0,IF(C5<=0,0,VLOOKUP(X5,X126:CA657,AQ$1,FALSE)))","v":2},{"$f":"IF(B5=0,0,IF(C5<=0,0,VLOOKUP(X5,X126:CA657,AR$1,FALSE)))","v":7.7},{"$f":"IF(B5=0,0,IF(C5<=0,0,VLOOKUP(X5,X126:CA657,AS$1,FALSE)))","v":250},{"$f":"IF(B5=0,0,IF(C5<=0,0,VLOOKUP(X5,X126:CA657,AT$1,FALSE)))","v":50},{"$f":"IF(B5=0,0,IF(C5<=0,0,VLOOKUP(X5,X126:CA657,AU$1,FALSE)))","v":3},{"$f":"IF(B5=0,0,IF(C5<=0,0,VLOOKUP(X5,X126:CA657,AV$1,FALSE)))","v":135},{"$f":"IF(B5=0,0,IF(C5<=0,0,VLOOKUP(X5,X126:CA657,AW$1,FALSE)))","v":11},{"$f":"IF(B5=0,0,IF(C5<=0,0,VLOOKUP(X5,X126:CA657,AX$1,FALSE)))","v":0.09},{"$f":"IF(B5=0,0,IF(C5<=0,0,VLOOKUP(X5,X126:CA657,AY$1,FALSE)))","v":0.67},{"$f":"IF(B5=0,0,IF(C5<=0,0,VLOOKUP(X5,X126:CA657,AZ$1,FALSE)))","v":2.83},{"$f":"IF(B5=0,0,IF(C5<=0,0,VLOOKUP(X5,X126:CA657,BA$1,FALSE)))","v":2.83},{"$f":"IF(B5=0,0,IF(C5<=0,0,VLOOKUP(X5,X126:CA657,BB$1,FALSE)))","v":2.83},{"$f":"IF(B5=0,0,IF(C5<=0,0,VLOOKUP(X5,X126:CA657,BC$1,FALSE)))","v":5.49},{"$f":"IF(B5=0,0,IF(C5<=0,0,VLOOKUP(X5,X126:CA657,BD$1,FALSE)))","v":2.83},{"$f":"IF(B5=0,0,IF(C5<=0,0,VLOOKUP(X5,X126:CA657,BE$1,FALSE)))","v":3.83},{"$f":"IF(B5=0,0,IF(C5<=0,0,VLOOKUP(X5,X126:CA657,BF$1,FALSE)))","v":1},{"$f":"IF(B5=0,0,IF(C5<=0,0,VLOOKUP(X5,X126:CA657,BG$1,FALSE)))","v":3.5},{"$f":"IF(B5=0,0,IF(C5<=0,0,VLOOKUP(X5,X126:CA657,BH$1,FALSE)))","v":4.5},{"$f":"IF(B5=0,0,IF(C5<=0,0,VLOOKUP(X5,X126:CA657,BI$1,FALSE)))","v":0.17},{"$f":"IF(B5=0,0,IF(C5<=0,0,VLOOKUP(X5,X126:CA657,BJ$1,FALSE)))","v":0.05},{"$f":"IF(B5=0,0,IF(C5<=0,0,VLOOKUP(X5,X126:CA657,BK$1,FALSE)))","v":0.12},{"$f":"IF(B5=0,0,IF(C5<=0,0,VLOOKUP(X5,X126:CA657,BL$1,FALSE)))","v":0.32},{"$f":"IF(B5=0,0,IF(C5<=0,0,VLOOKUP(X5,X126:CA657,BM$1,FALSE)))","v":1.41},{"$f":"IF(B5=0,0,IF(C5<=0,0,VLOOKUP(X5,X126:CA657,BN$1,FALSE)))","v":0.14000000000000001},{"$f":"IF(B5=0,0,IF(C5<=0,0,VLOOKUP(X5,X126:CA657,BO$1,FALSE)))","v":0.19},{"$f":"IF(B5=0,0,IF(C5<=0,0,VLOOKUP(X5,X126:CA657,BP$1,FALSE)))","v":4.5999999999999999E-2},{"$f":"IF(B5=0,0,IF(C5<=0,0,VLOOKUP(X5,X126:CA657,BQ$1,FALSE)))","v":3.6},{"$f":"IF(B5=0,0,IF(C5<=0,0,VLOOKUP(X5,X126:CA657,BR$1,FALSE)))","v":0},{"$f":"IF(B5=0,0,IF(C5<=0,0,VLOOKUP(X5,X126:CA657,BS$1,FALSE)))","v":157},{"$f":"IF(B5=0,0,IF(C5<=0,0,VLOOKUP(X5,X126:CA657,BT$1,FALSE)))","v":41},{"$f":"IF(B5=0,0,IF(C5<=0,0,VLOOKUP(X5,X126:CA657,BU$1,FALSE)))","v":0},{"$f":"IF(B5=0,0,IF(C5<=0,0,VLOOKUP(X5,X126:CA657,BV$1,FALSE)))","v":6},{"$f":"IF(B5=0,0,IF(C5<=0,0,VLOOKUP(X5,X126:CA657,BW$1,FALSE)))","v":1},{"$f":"IF(B5=0,0,IF(C5<=0,0,VLOOKUP(X5,X126:CA657,BX$1,FALSE)))","v":7.0000000000000007E-2},{"$f":"IF(B5=0,0,IF(C5<=0,0,VLOOKUP(X5,X126:CA657,BY$1,FALSE)))","v":0},{"$f":"IF(B5=0,0,IF(C5<=0,0,VLOOKUP(X5,X126:CA657,BZ$1,FALSE)))","v":20},null,{"$f":"IF(ISERROR((2.4*0.01*BM66)+(2.68*0.01*BL66))=TRUE,0,(2.4*0.01*BM66)+(2.68*0.01*BL66))","v":0.63458071413317341},{"$f":"IF(ISERROR((5.6*0.01*BM66)+(8.2*0.01*BL66))=TRUE,0,(5.6*0.01*BM66)+(8.2*0.01*BL66))","v":1.8163723339319089},{"$f":"IF(ISERROR((3.82*0.01*BM66)+(6.96*0.01*BL66))=TRUE,0,(3.82*0.01*BM66)+(6.96*0.01*BL66))","v":1.4746529185766812},{"$f":"IF(ISERROR((3.3*0.01*BM66)+(5.59*0.01*BL66))=TRUE,0,(3.3*0.01*BM66)+(5.59*0.01*BL66))","v":1.2010474657439001},{"$f":"IF(ISERROR((5.9*0.01*BM66)+(7.51*0.01*BL66))=TRUE,0,(5.9*0.01*BM66)+(7.51*0.01*BL66))","v":1.7189435014630932},{"$f":"IF(ISERROR((4*0.01*BM66)+(5.88*0.01*BL66))=TRUE,0,(4*0.01*BM66)+(5.88*0.01*BL66))","v":1.3013503050702033},{"$f":"IF(ISERROR((4.7*0.01*BM66)+(6.16*0.01*BL66))=TRUE,0,(4.7*0.01*BM66)+(6.16*0.01*BL66))","v":1.3999287402820142},{"$f":"IF(ISERROR((1.74*0.01*BM66)+(2.69*0.01*BL66))=TRUE,0,(1.74*0.01*BM66)+(2.69*0.01*BL66))","v":0.58888400509912686},{"$f":"IF(ISERROR((4.2*0.01*BM66)+(5.16*0.01*BL66))=TRUE,0,(4.2*0.01*BM66)+(5.16*0.01*BL66))","v":1.1915632431141923},{"$f":"IF(ISERROR((1.63*0.01*BM66)+(1.63*0.01*BL66))=TRUE,0,(1.63*0.01*BM66)+(1.63*0.01*BL66))","v":0.39819365010485125},"Jersey","EBG=",{"$f":"SWG*0.956","v":1.1013119999999998},null,null,"Esmer",3.3,1.2,39,37,600,290,347,1,3.5,27,0.55000000000000004,7.2999999999999995E-2,null,null,null,null,null,null,null,null,"Metionin",2.4,2.68,2.6,0.7]
[{"$f":"Besi!A6","v":3},{"$f":"Besi!B6","v":"ARPA, HAFİF"},{"$f":"Besi!C6","v":0.5},{"$f":"Besi!D6","v":70},{"$f":"Besi!E6","v":0},{"$f":"Besi!F6","v":5},"Rasyon Kaba Yem Oranı, %",null,{"$f":"FORAGE","v":34.380633530775178},null,null,null,null,null,null,null,null,null,null,null,null,null,{"$f":"IF(Besi!B6=0,0,IF(Besi!C6<=0,0,Besi!C6*Besi!D6))","v":35},"ARPA, HAFİF",{"$f":"IF(Besi!B6=0,0,IF(Besi!C6<=0,0,Besi!C6))","v":0.5},88,28,"10,35",34,0,77,2.78,1.85,1.22,14,"66,92",33.07,17,29,8,5,90,2.2999999999999998,4,300,30,5,300,12,0.35,0.81,3.07,4.83,3.15,6.83,3.92,4.88,2.29,5.6,1.26,0.06,0.39,0.15,0.13,0.52,0.03,0.17,0.193,8.6,0.05,90,18.100000000000001,0.17899999999999999,44.4,3.8,0,26.2,70,null,0.68043768381291025,1.9476296022181123,1.5812163748387871,1.2878392575426412,1.8431602295674892,1.3953903226018376,1.5010923722158904,0.63143877451660013,1.2776696725943506,0.42696848320778397,"Limuzin",null,null,null,null,"Braford",3.8,0.95,36.047600000000003,7,550,null,433,0.8,4,32,0.62,6.7000000000000004E-2,null,null,null,null,null,null,null,null,"Lizin",5.6,8.1999999999999993,7.9,0.9]
[{"$f":"Besi!A7","v":3},{"$f":"Besi!B7","v":"BUĞDAY, ÖĞÜTÜLMÜŞ"},{"$f":"Besi!C7","v":1.3},{"$f":"Besi!D7","v":80},{"$f":"Besi!E7","v":0},{"$f":"Besi!F7","v":5},"Ham Protein, g/gün",null,{"$f":"(büyükX*TotalDMFed)*10","v":664.43899999999985},null,null,null,null,null,null,null,null,null,null,null,null,null,{"$f":"IF(Besi!B7=0,0,IF(Besi!C7<=0,0,Besi!C7*Besi!D7))","v":104},"BUĞDAY, ÖĞÜTÜLMÜŞ",{"$f":"IF(Besi!B7=0,0,IF(Besi!C7<=0,0,Besi!C7))","v":1.3},89,11.8,"6,25",0,0,88,3.18,2.1800000000000002,1.5,14.2,"77",23,30,25,4,2,90,2.34,2.0099999999999998,300,40,9,300,12,0.35,0.98,3,4.33,2.82,13.64,3.98,4.5,2.23,4.84,1.06,0.05,0.44,0.13,0.09,0.4,0.01,0.14000000000000001,0.497,6.5,0.10100000000000001,45.1,36.6,0.05,38.1,0,0,17,80,null,2.7483833493349437,7.8667494419369763,6.3867549662307948,5.2017635945972511,7.4447829766178888,5.636177448273834,6.0631228689359205,2.5504698744507697,5.1606872130175168,1.7245856569309619,"Simental","TDNp :",{"$f":"VLOOKUP(MID(TEXT(I1,\"gg.aa.yyyy\"),4,2),CU64:CW75,3,FALSE)","v":50},"Meranın toplam SBM içeriği oranı, %",null,"Brangus",3.8,0.95,35.1,8,516.4,284.7,385,0.8,4,32,0.62,6.7000000000000004E-2,null,null,null,null,null,null,null,null,"Histidin",1.74,2.69,2,0.4]
[{"$f":"Besi!A8","v":3},{"$f":"Besi!B8","v":"MISIR, 72 kg/hektolitre, ÖĞÜTÜLMÜŞ"},{"$f":"Besi!C8","v":2},{"$f":"Besi!D8","v":80},{"$f":"Besi!E8","v":0},{"$f":"Besi!F8","v":5},"Metabolik Protein, g/gün",{"$f":"MPmaint+MPg+MPlact+MPpreg","v":612.12815936226866},{"$f":"MPtotal","v":644.1239872000001},{"$f":"IF(H8=\"\",\"     \",IF(I8>(H8*1.02),\"FAZLA\",IF(I8<(H8*0.98),\"EKSİK\",\"TAMAM\")))","v":"FAZLA"},null,null,null,null,null,null,null,null,null,null,null,null,{"$f":"IF(Besi!B8=0,0,IF(Besi!C8<=0,0,Besi!C8*Besi!D8))","v":160},"MISIR, 72 kg/hektolitre, ÖĞÜTÜLMÜŞ",{"$f":"IF(Besi!B8=0,0,IF(Besi!C8<=0,0,Besi!C8))","v":2},88,9,"2,22",0,0,88,3.18,2.1800000000000002,1.5,9.8000000000000007,"57,36",42.63,11,73,15,5,90,4.3,1.6,250,25,6,135,10,0.1,1.1200000000000001,1.65,1.82,2.8,10.73,2.69,3.75,2.06,3.65,0.37,0.03,0.31,0.11,0.06,0.33,0.01,0.14000000000000001,0.42899999999999999,4.8,0,30,6.4,0,0,0,0,0,80,null,2.9342330820812283,8.3987106334933692,6.8186367500719118,5.5535145154064551,7.948210173880355,6.0173040741230981,6.4731201733775645,2.7229364063335311,5.5096604883644797,1.8412046808077633,"Siyah Alaca","ENERJİ İHTİYACI",null,null,null,"Braunvieh",3.8,1.2,38.299999999999997,12,635.9,284.10000000000002,347,1,4,27,0.56999999999999995,8.4000000000000005E-2,null,null,null,null,null,null,null,null,"Fenilalanin",4.2,5.16,5.0999999999999996,0.3]
[{"$f":"Besi!A9","v":5},{"$f":"Besi!B9","v":"MELAS,ŞEKER PANCARI"},{"$f":"Besi!C9","v":1},{"$f":"Besi!D9","v":45},{"$f":"Besi!E9","v":0},{"$f":"Besi!F9","v":1},"Rumende Yık. Protein, g/gün",null,{"$f":"DIP","v":407.18918649999995},{"$f":"IF(H9=\"\",\"     \",IF(I9>(H9*1.3),\"FAZLA\",IF(I9<(H9*0.98),\"EKSİK\",\"TAMAM\")))","v":"     "},null,null,null,null,null,null,null,null,null,null,null,null,{"$f":"IF(Besi!B9=0,0,IF(Besi!C9<=0,0,Besi!C9*Besi!D9))","v":45},"MELAS,ŞEKER PANCARI",{"$f":"IF(Besi!B9=0,0,IF(Besi!C9<=0,0,Besi!C9))","v":1},77.900000000000006,0,"0",0,0,75,2.71,1.79,1.1599999999999999,8.5,"99,99",0,100,100,0,0,0,0,11.4,500,30,3,300,11,0.25,0,0,0,0,0,0,0,0,0,0,0.15,0.03,0.28999999999999998,1.64,6.06,1.48,0.6,0.46500000000000002,21.6,0,87,6,0,18,0,0,0,45,null,17.948073454856399,51.373108801944028,41.708136275755507,33.969655329639892,48.617494263358751,36.806556432785221,39.594685597194527,16.655617078351792,33.701409666591772,11.262253519793269,"Şarole","YAŞAMA PAYI",null,null,null,"Şarole",3.8,1,40.299999999999997,9,661.8,286,370,1,4,30,0.6,7.0000000000000007E-2,null,null,null,null,null,null,null,null,"Triptofan",1.63,1.63,"-","-"]
[{"$f":"Besi!A10","v":5},{"$f":"Besi!B10","v":"ŞEK. PAN. POSASI, YAŞ"},{"$f":"Besi!C10","v":5},{"$f":"Besi!D10","v":15},{"$f":"Besi!E10","v":0},{"$f":"Besi!F10","v":5},"Ham Protein, % KM",null,{"$f":"büyükX","v":8.5557429822302336},null,null,null,null,null,null,null,null,null,null,null,null,null,{"$f":"IF(Besi!B10=0,0,IF(Besi!C10<=0,0,Besi!C10*Besi!D10))","v":75},"ŞEK. PAN. POSASI, YAŞ",{"$f":"IF(Besi!B10=0,0,IF(Besi!C10<=0,0,Besi!C10))","v":5},19,44.6,"3,703",33,0,72,2.76,1.57,0.97,11.2,"42,62",57.37,27,96,53,11,90,2.1,4.7,300,40,8,300,12,0.35,0.65,3,4.43,3.17,4.6100000000000003,2.69,4.5,1.87,2.8,1.1000000000000001,0.87,0.1,0.22,0.04,0.19,0.19,0.22,8.1000000000000003E-2,13.8,0,330,37.700000000000003,0.12,10,0.4,0.6,0,15,null,1.3905069611847083,3.9800742729562297,3.2312913124269649,2.6317611371335579,3.7665861117960784,2.8515468841686409,3.0675540796787653,1.2903753457733094,2.6109791037462866,0.87253052297165445,null,"a1 :",{"$f":"VLOOKUP(Breed,CQ3:DC30,13,FALSE)","v":7.2999999999999995E-2},"termonötral yaşama payı ihtiyacı (Mcal/gün(SBW^0,75)",null,"Çiyanina",3.8,1,39.9,6,550,286.7,400,1.2,4,30,0.6,7.0000000000000007E-2,null,null,null,null,null,null,null,null,"Treonin",3.3,5.59,5.8,0.5]
[{"$f":"Besi!A11","v":7},{"$f":"Besi!B11","v":"VİT. KAR. (KAVIMIX 802-EKONOMİK) (SÜT, BESİ, BUZAĞI)"},{"$f":"Besi!C11","v":0.01},{"$f":"Besi!D11","v":200},{"$f":"Besi!E11","v":5.0000000000000001E-3},{"$f":"Besi!F11","v":0.05},"ME, Mcal/gün",{"$f":"MEtotal","v":19.479061362590272},{"$f":"MEsup","v":19.183949999999999},{"$f":"IF(H11=\"\",\"     \",IF(I11>(H11*1.02),\"FAZLA\",IF(I11<(H11*0.98),\"EKSİK\",\"TAMAM\")))","v":"TAMAM"},null,null,null,null,null,null,null,null,null,null,null,null,{"$f":"IF(Besi!B11=0,0,IF(Besi!C11<=0,0,Besi!C11*Besi!D11))","v":2},"VİT. KAR. (KAVIMIX 802-EKONOMİK) (SÜT, BESİ, BUZAĞI)",{"$f":"IF(Besi!B11=0,0,IF(Besi!C11<=0,0,Besi!C11))","v":0.01},100,0,0,0,0,0,0,0,0,0,0,0,0,0,0,0,0,0,0,0,0,0,0,0,0,0,0,0,0,0,0,0,0,0,0,0,0,0,0,0,0,0,0,0,0,0,0,0,0,7000,700,30000,200,null,0,0,0,0,0,0,0,0,0,0,null,"a2=",{"$f":"0.0007*(20-TempPre)","v":0},"önceki çevre sıcaklığı için yaşama payı ayarlaması (Mcal/gün/SBW0^0,75)",{"$f":"((88.426-(0.785*TempPre)+(0.0116*TempPre^2))-77)/1000","v":3.6599999999999968E-4},"Frezyan",3.3,1.2,35,37,550,null,347,1,3.5,24,0.55000000000000004,7.2999999999999995E-2,null,null,null,null,null,null,null,null,"Löysin",5.9,7.51,8.1,0.8]
[{"$f":"Besi!A12","v":0},{"$f":"Besi!B12","v":0},{"$f":"Besi!C12","v":0},{"$f":"Besi!D12","v":0},{"$f":"Besi!E12","v":0},{"$f":"Besi!F12","v":0},"ME, Mcal/kg KM",null,{"$f":"MEI/TotalDMFed","v":2.4702485191861965},null,null,null,null,null,null,null,null,null,null,null,null,null,{"$f":"IF(Besi!B12=0,0,IF(Besi!C12<=0,0,Besi!C12*Besi!D12))","v":0},0,{"$f":"IF(Besi!B12=0,0,IF(Besi!C12<=0,0,Besi!C12))","v":0},0,0,0,0,0,0,0,0,0,0,0,0,0,0,0,0,0,0,0,0,0,0,0,0,0,0,0,0,0,0,0,0,0,0,0,0,0,0,0,0,0,0,0,0,0,0,0,0,0,0,0,0,0,null,0,0,0,0,0,0,0,0,0,0,null,"BE =",{"$f":"VLOOKUP(Breed,CQ3:CS30,3,FALSE)","v":1.2},"NEm ihtiyacına ırkın (Table 10-1) etkisi, Breed",null,"Gernzey",3.7,1.2,32,35,450,283,347,1,4.7,27,0.55000000000000004,7.2999999999999995E-2,null,null,null,null,null,null,null,null,"İzolöysin",4,5.88,5.7,0.4]
[{"$f":"Besi!A13","v":0},{"$f":"Besi!B13","v":0},{"$f":"Besi!C13","v":0},{"$f":"Besi!D13","v":0},{"$f":"Besi!E13","v":0},{"$f":"Besi!F13","v":0},"NEbüyüme, Mcal/kg KM",null,{"$f":"NEgsup/TotalDMFed","v":0.90537471027556016},null,null,null,null,null,null,null,null,null,null,null,null,null,{"$f":"IF(Besi!B13=0,0,IF(Besi!C13<=0,0,Besi!C13*Besi!D13))","v":0},0,{"$f":"IF(Besi!B13=0,0,IF(Besi!C13<=0,0,Besi!C13))","v":0},0,0,0,0,0,0,0,0,0,0,0,0,0,0,0,0,0,0,0,0,0,0,0,0,0,0,0,0,0,0,0,0,0,0,0,0,0,0,0,0,0,0,0,0,0,0,0,0,0,0,0,0,0,null,0,0,0,0,0,0,0,0,0,0,null,"Lactation, L :",{"$f":"IF(AnimalType=\"Laktasyondaki İnek\",1.2,1)","v":1},"NEm ihtiyacına laktasyonun etkisi, Kuruda=1 Laktasyonda=1,2",null,"Hereford",3.8,1,37.5,7,495.3,null,383,1.2,4,30,0.6,7.0000000000000007E-2,null,null,null,null,null,null,null,null,"Valin",4.7,6.16,6.2,0.6]
[{"$f":"Besi!A14","v":0},{"$f":"Besi!B14","v":0},{"$f":"Besi!C14","v":0},{"$f":"Besi!D14","v":0},{"$f":"Besi!E14","v":0},{"$f":"Besi!F14","v":0},"NEyaşamapayı, Mcal/kg KM",null,{"$f":"NEmsup/TotalDMFed","v":1.5152935874323978},null,null,null,null,null,null,null,null,null,null,null,null,null,{"$f":"IF(Besi!B14=0,0,IF(Besi!C14<=0,0,Besi!C14*Besi!D14))","v":0},0,{"$f":"IF(Besi!B14=0,0,IF(Besi!C14<=0,0,Besi!C14))","v":0},0,0,0,0,0,0,0,0,0,0,0,0,0,0,0,0,0,0,0,0,0,0,0,0,0,0,0,0,0,0,0,0,0,0,0,0,0,0,0,0,0,0,0,0,0,0,0,0,0,0,0,0,0,null,0,0,0,0,0,0,0,0,0,0,null,"COMP =",{"$f":"0.8+((CS-1)*0.05)","v":1},"NEm ihtiyacına önceki besleme planının etkisi",null,"Siyah Alaca",3.3,1.2,36,43,682,281,347,1,3.5,24,0.55000000000000004,7.2999999999999995E-2,null,null,null,null,null,null,null,null,"Arjinin",3.82,6.96,5.0999999999999996,0.7]
[{"$f":"Besi!A15","v":0},{"$f":"Besi!B15","v":0},{"$f":"Besi!C15","v":0},{"$f":"Besi!D15","v":0},{"$f":"Besi!E15","v":0},{"$f":"Besi!F15","v":0},"Ca, g/gün",{"$f":"Camaint+Cagrow+Capreg+Calact","v":33.816311172772032},{"$f":"Casup","v":15.343000000000002},{"$f":"IF(H15=\"\",\"     \",IF(I15>(H15*1.02),\"FAZLA\",IF(I15<(H15*0.98),\"EKSİK\",\"TAMAM\")))","v":"EKSİK"},null,null,null,null,null,null,null,null,null,null,null,null,{"$f":"IF(Besi!B15=0,0,IF(Besi!C15<=0,0,Besi!C15*Besi!D15))","v":0},0,{"$f":"IF(Besi!B15=0,0,IF(Besi!C15<=0,0,Besi!C15))","v":0},0,0,0,0,0,0,0,0,0,0,0,0,0,0,0,0,0,0,0,0,0,0,0,0,0,0,0,0,0,0,0,0,0,0,0,0,0,0,0,0,0,0,0,0,0,0,0,0,0,0,0,0,0,null,0,0,0,0,0,0,0,0,0,0,null,"NEm=",{"$f":"SBW^0.75*((abir*BE*büyükL*COMP)+aiki)","v":6.1241874050248599},"iklime alışma için ayarlanmış Net enerji yaşama payı",null,"Jersey",3.9,1.2,30.7,34,454,282,317,1,5.2,24,0.55000000000000004,7.2999999999999995E-2]
[{"$f":"Besi!A16","v":0},{"$f":"Besi!B16","v":0},{"$f":"Besi!C16","v":0},{"$f":"Besi!D16","v":0},{"$f":"Besi!E16","v":0},{"$f":"Besi!F16","v":0},"Ca, % KM",null,{"$f":"Casup/10/TotalDMFed","v":0.19756631470512495},null,null,null,null,null,null,null,null,null,null,null,null,null,{"$f":"IF(Besi!B16=0,0,IF(Besi!C16<=0,0,Besi!C16*Besi!D16))","v":0},0,{"$f":"IF(Besi!B16=0,0,IF(Besi!C16<=0,0,Besi!C16))","v":0},0,0,0,0,0,0,0,0,0,0,0,0,0,0,0,0,0,0,0,0,0,0,0,0,0,0,0,0,0,0,0,0,0,0,0,0,0,0,0,0,0,0,0,0,0,0,0,0,0,0,0,0,0,null,0,0,0,0,0,0,0,0,0,0,null,"Meradaysa aktivite için ayarlama",null,null,null,"Limuzin",3.8,1,38.4,9,570.5,288.10000000000002,384,1,4,30,0.55000000000000004,7.0000000000000007E-2,null,null,null,null,null,null,null,null,"Tablo 10-8 Tahmini eNDF ihtiyaçları"]
[{"$f":"Besi!A17","v":0},{"$f":"Besi!B17","v":0},{"$f":"Besi!C17","v":0},{"$f":"Besi!D17","v":0},{"$f":"Besi!E17","v":0},{"$f":"Besi!F17","v":0},"P, g/gün",{"$f":"Pmaint+Pgrow+Ppreg+Plact","v":18.402050567261199},{"$f":"Psup","v":14.781499999999999},{"$f":"IF(H17=\"\",\"     \",IF(I17>(H17*1.02),\"FAZLA\",IF(I17<(H17*0.98),\"EKSİK\",\"TAMAM\")))","v":"EKSİK"},null,null,null,null,null,null,null,null,null,null,null,null,{"$f":"IF(Besi!B17=0,0,IF(Besi!C17<=0,0,Besi!C17*Besi!D17))","v":0},0,{"$f":"IF(Besi!B17=0,0,IF(Besi!C17<=0,0,Besi!C17))","v":0},0,0,0,0,0,0,0,0,0,0,0,0,0,0,0,0,0,0,0,0,0,0,0,0,0,0,0,0,0,0,0,0,0,0,0,0,0,0,0,0,0,0,0,0,0,0,0,0,0,0,0,0,0,null,0,0,0,0,0,0,0,0,0,0,null,"NEmact=",{"$f":"IF(Otlama=\"Otlamıyor\",0,((0.006*pI*(0.9*(TDNp/100)))+(0.05*   IF(TERRAIN=\"Düz\",1,IF(TERRAIN=\"Engebeli\",1.5,2))   /((0.002471*pAVAIL)+3)))*BW/4.184)","v":0},"NEm ihtiyacına aktivitenin etkisi, Mcal/kg",null,"Longhorn",3.8,1,32,5,550,286.8,370,1,4,30,0.6,7.0000000000000007E-2,null,null,null,null,null,null,null,null,"Rasyon tipi",null,"Min. eNDF ihtiyacı, % KM'de"]
[{"$f":"Besi!A18","v":0},{"$f":"Besi!B18","v":0},{"$f":"Besi!C18","v":0},{"$f":"Besi!D18","v":0},{"$f":"Besi!E18","v":0},{"$f":"Besi!F18","v":0},"P, % KM",null,{"$f":"Psup/10/TotalDMFed","v":0.19033608035024466},null,null,null,null,null,null,null,null,null,null,null,null,null,{"$f":"IF(Besi!B18=0,0,IF(Besi!C18<=0,0,Besi!C18*Besi!D18))","v":0},0,{"$f":"IF(Besi!B18=0,0,IF(Besi!C18<=0,0,Besi!C18))","v":0},0,0,0,0,0,0,0,0,0,0,0,0,0,0,0,0,0,0,0,0,0,0,0,0,0,0,0,0,0,0,0,0,0,0,0,0,0,0,0,0,0,0,0,0,0,0,0,0,0,0,0,0,0,null,0,0,0,0,0,0,0,0,0,0,null,"NEma :",{"$f":"(0.0533*ADG^2 + 0.541*ADG + 0.6957) + IF(BW<=400,0, (0.000003*BW^2 - 0.0014*BW + 0.046 ))","v":1.4216519999999999},"Rasyonun yaşama payı net enerji değeri, Mcal/kg, değiştiridik, sabitledik",null,"Meyn Anju",3.8,1,40.6,9,771.8,284.8,370,1,4,30,0.6,7.0000000000000007E-2,null,null,null,null,null,null,null,null,"Yüksek konsantre, mix rasyon, iyi bakım, ionofor",null,"5-8","a"]
[{"$f":"Besi!A19","v":0},{"$f":"Besi!B19","v":0},{"$f":"Besi!C19","v":0},{"$f":"Besi!D19","v":0},{"$f":"Besi!E19","v":0},{"$f":"Besi!F19","v":0},"Ca / P",{"$f":"H15/H17","v":1.8376382050016808},{"$f":"I15/I17","v":1.0379866725298517},{"$f":"IF(H19=\"\",\"\",IF(I19>(H19*1.05),\"FAZLA\",IF(I19<(H19*0.95),\"EKSİK\",\"TAMAM\")))","v":"EKSİK"},null,null,null,null,null,null,null,null,null,null,null,null,{"$f":"IF(Besi!B19=0,0,IF(Besi!C19<=0,0,Besi!C19*Besi!D19))","v":0},0,{"$f":"IF(Besi!B19=0,0,IF(Besi!C19<=0,0,Besi!C19))","v":0},0,0,0,0,0,0,0,0,0,0,0,0,0,0,0,0,0,0,0,0,0,0,0,0,0,0,0,0,0,0,0,0,0,0,0,0,0,0,0,0,0,0,0,0,0,0,0,0,0,0,0,0,0,null,0,0,0,0,0,0,0,0,0,0,null,"ADTV =",1,"Rasyon ionofor içeriyorsa 1,12 içermiyorsa 1",null,"Piedmontese",3.8,1,37.1,7,550,287.2,340,1,4,30,0.6,7.0000000000000007E-2,null,null,null,null,null,null,null,null,"Mix rasyon, değişken bakım, ionofor yok",null,20]
[{"$f":"Besi!A20","v":0},{"$f":"Besi!B20","v":0},{"$f":"Besi!C20","v":0},{"$f":"Besi!D20","v":0},{"$f":"Besi!E20","v":0},{"$f":"Besi!F20","v":0},"NDF, % KM",null,{"$f":"NDF","v":37.966211691990736},null,null,null,null,null,null,null,null,null,null,null,null,null,{"$f":"IF(Besi!B20=0,0,IF(Besi!C20<=0,0,Besi!C20*Besi!D20))","v":0},0,{"$f":"IF(Besi!B20=0,0,IF(Besi!C20<=0,0,Besi!C20))","v":0},0,0,0,0,0,0,0,0,0,0,0,0,0,0,0,0,0,0,0,0,0,0,0,0,0,0,0,0,0,0,0,0,0,0,0,0,0,0,0,0,0,0,0,0,0,0,0,0,0,0,0,0,0,null,0,0,0,0,0,0,0,0,0,0,null,"Im =",{"$f":"(NEm+NEmact)/(NEma*ADTV)","v":4.3077964262877693},"Yaşama payı için tüketim (stres yok), kg KM/gün",null,"Pinzgauer",3.8,1,38.200000000000003,11,590.20000000000005,285.2,343,1,4,30,0.6,7.0000000000000007E-2,null,null,null,null,null,null,null,null,"NFC ve mikrobiyel protein verimini artırmak için yüksek konsantre yem",null,20,"b"]
[{"$f":"Besi!A21","v":0},{"$f":"Besi!B21","v":0},{"$f":"Besi!C21","v":0},{"$f":"Besi!D21","v":0},{"$f":"Besi!E21","v":0},{"$f":"Besi!F21","v":0},"eNDF, % KM",null,{"$f":"eNDF","v":28.923595158382696},{"$f":"IF(I21<8,\"DİKKAT\",\"\")","v":""},null,null,null,null,null,null,null,null,null,null,null,null,{"$f":"IF(Besi!B21=0,0,IF(Besi!C21<=0,0,Besi!C21*Besi!D21))","v":0},0,{"$f":"IF(Besi!B21=0,0,IF(Besi!C21<=0,0,Besi!C21))","v":0},0,0,0,0,0,0,0,0,0,0,0,0,0,0,0,0,0,0,0,0,0,0,0,0,0,0,0,0,0,0,0,0,0,0,0,0,0,0,0,0,0,0,0,0,0,0,0,0,0,0,0,0,0,null,0,0,0,0,0,0,0,0,0,0,null,"Büyüyen sığırlar için",null,"ısı artışını hesaplamak için kullanılır",null,"Polled Hereford",3.8,1,33,7,550,null,383,1.2,4,30,0.6,7.0000000000000007E-2,null,null,null,null,null,null,null,null,"a: Rumen pH'sını 5,6-5,7'nin üzerinde tutmak için"]
[{"$f":"Besi!A22","v":0},{"$f":"Besi!B22","v":0},{"$f":"Besi!C22","v":0},{"$f":"Besi!D22","v":0},{"$f":"Besi!E22","v":0},{"$f":"Besi!F22","v":0},"NSC, % KM",null,{"$f":"AS33/(TotalDMFed*10)","v":47.935497810970901},null,null,null,null,null,null,null,null,null,null,null,null,null,{"$f":"IF(Besi!B22=0,0,IF(Besi!C22<=0,0,Besi!C22*Besi!D22))","v":0},0,{"$f":"IF(Besi!B22=0,0,IF(Besi!C22<=0,0,Besi!C22))","v":0},0,0,0,0,0,0,0,0,0,0,0,0,0,0,0,0,0,0,0,0,0,0,0,0,0,0,0,0,0,0,0,0,0,0,0,0,0,0,0,0,0,0,0,0,0,0,0,0,0,0,0,0,0,null,0,0,0,0,0,0,0,0,0,0,null,"NEga :",{"$f":"(0.0248*ADG^2 + 0.5395*ADG + 0.1636) + IF(BW<=400,0, (0.0000051*BW^2 - 0.0035*BW + 0.5454 ))","v":0.84671199999999991},"Rasyonun ağırlık artışı, büyüme net enerji içeriği, Mcal/kg, değiştiridik, sabitledik",null,"Red Poll",3.8,1,35.1,10,550,284.60000000000002,353,1.2,4,30,0.6,7.0000000000000007E-2,null,null,null,null,null,null,null,null,"b: Rumen pH'sını 6,2'nin üzerinde tutmak için"]
[{"$f":"Besi!A23","v":0},{"$f":"Besi!B23","v":0},{"$f":"Besi!C23","v":0},{"$f":"Besi!D23","v":0},{"$f":"Besi!E23","v":0},{"$f":"Besi!F23","v":0},"TSBM, % KM",null,{"$f":"TDN/TotalDMFed/10","v":67.843291269636879},null,null,null,null,null,null,null,null,null,null,null,null,null,{"$f":"IF(Besi!B23=0,0,IF(Besi!C23<=0,0,Besi!C23*Besi!D23))","v":0},0,{"$f":"IF(Besi!B23=0,0,IF(Besi!C23<=0,0,Besi!C23))","v":0},0,0,0,0,0,0,0,0,0,0,0,0,0,0,0,0,0,0,0,0,0,0,0,0,0,0,0,0,0,0,0,0,0,0,0,0,0,0,0,0,0,0,0,0,0,0,0,0,0,0,0,0,0,null,0,0,0,0,0,0,0,0,0,0,null,"DMI=",{"$f":"DMIreal","v":7.7633075434650332},"Eq. 7-2",null,"Seylırz",3.8,1,37.1,9,550,284.8,360,1.2,4,30,0.6,7.0000000000000007E-2]
[{"$f":"Besi!A24","v":0},{"$f":"Besi!B24","v":0},{"$f":"Besi!C24","v":0},{"$f":"Besi!D24","v":0},{"$f":"Besi!E24","v":0},{"$f":"Besi!F24","v":0},"Rumen pH'sı",null,{"$f":"pH","v":6.46},null,null,null,null,null,null,null,null,null,null,null,null,null,{"$f":"IF(Besi!B24=0,0,IF(Besi!C24<=0,0,Besi!C24*Besi!D24))","v":0},0,{"$f":"IF(Besi!B24=0,0,IF(Besi!C24<=0,0,Besi!C24))","v":0},0,0,0,0,0,0,0,0,0,0,0,0,0,0,0,0,0,0,0,0,0,0,0,0,0,0,0,0,0,0,0,0,0,0,0,0,0,0,0,0,0,0,0,0,0,0,0,0,0,0,0,0,0,null,0,0,0,0,0,0,0,0,0,0,null,"RE=",{"$f":"IF(AnimalType=\"Laktasyondaki İnek\",((DMIreal-Im)*NEga)+YEn+NEpreg,(DMIreal-Im)*NEga)","v":2.925822729047395},"ısı artışını hesaplamak için kullanılır",null,"Santa Gertudis",3.8,0.95,37.4,8,550,285.2,391,1,4,24,0.62,6.7000000000000004E-2,null,null,null,null,null,null,null,null,"Tablo 10-2. Kalsiyum ve fosfor ihtiyaçları"]
[{"$f":"Besi!A25","v":0},{"$f":"Besi!B25","v":0},{"$f":"Besi!C25","v":0},{"$f":"Besi!D25","v":0},{"$f":"Besi!E25","v":0},{"$f":"Besi!F25","v":0},"Rasyon maliyeti, Kuruş",null,{"$f":"IF(Besi!D4>0,Besi!D4,FİYAT)","v":481},null,null,null,null,null,null,null,null,null,null,null,null,null,{"$f":"IF(Besi!B25=0,0,IF(Besi!C25<=0,0,Besi!C25*Besi!D25))","v":0},0,{"$f":"IF(Besi!B25=0,0,IF(Besi!C25<=0,0,Besi!C25))","v":0},0,0,0,0,0,0,0,0,0,0,0,0,0,0,0,0,0,0,0,0,0,0,0,0,0,0,0,0,0,0,0,0,0,0,0,0,0,0,0,0,0,0,0,0,0,0,0,0,0,0,0,0,0,null,0,0,0,0,0,0,0,0,0,0,null,null,null,"(RE+YEn+NEpreg)=(DMIreal-Im)*NEma      NEma = NElactation farzedilir",{"$f":"1.8545+0.01937*BW","v":7.6654999999999998},"Şorthorn",3.8,1,38.9,8.5,542.1,284,349,1,4,24,0.6,7.0000000000000007E-2,null,null,null,null,null,null,null,null,null,"İhtiyaçlar, g/gün",null,null,null,"Maksimum"]
[{"$f":"Besi!A26","v":0},{"$f":"Besi!B26","v":0},{"$f":"Besi!C26","v":0},{"$f":"Besi!D26","v":0},{"$f":"Besi!E26","v":0},{"$f":"Besi!F26","v":0},null,null,null,null,null,null,null,null,null,null,null,null,null,null,null,null,{"$f":"IF(Besi!B26=0,0,IF(Besi!C26<=0,0,Besi!C26*Besi!D26))","v":0},0,{"$f":"IF(Besi!B26=0,0,IF(Besi!C26<=0,0,Besi!C26))","v":0},0,0,0,0,0,0,0,0,0,0,0,0,0,0,0,0,0,0,0,0,0,0,0,0,0,0,0,0,0,0,0,0,0,0,0,0,0,0,0,0,0,0,0,0,0,0,0,0,0,0,0,0,0,null,0,0,0,0,0,0,0,0,0,0,null,"YEn=",{"$f":"EMilk","v":0},"net enerji süt, Mcal /kg",null,"Simental",3.8,1.2,39.9,12,577.5,286.39999999999998,358,1,4,27,0.56999999999999995,8.4000000000000005E-2,null,null,null,null,null,null,null,null,"Mineral","Yaşama payı","Büyüme","Laktasyon","Gebelik(son 90 gün)","tolerans"]
[{"$f":"Besi!A27","v":0},{"$f":"Besi!B27","v":0},{"$f":"Besi!C27","v":0},{"$f":"Besi!D27","v":0},{"$f":"Besi!E27","v":0},{"$f":"Besi!F27","v":0},"Kesif yem; Miktarı,kg",null,{"$f":"IF(OR(J4=\"TAMAM\",J4=\"FAZLA\")=TRUE,\"\",(H4-I4)/0.88)","v":""},null,null,null,null,null,null,null,null,null,null,null,null,null,{"$f":"IF(Besi!B27=0,0,IF(Besi!C27<=0,0,Besi!C27*Besi!D27))","v":0},0,{"$f":"IF(Besi!B27=0,0,IF(Besi!C27<=0,0,Besi!C27))","v":0},0,0,0,0,0,0,0,0,0,0,0,0,0,0,0,0,0,0,0,0,0,0,0,0,0,0,0,0,0,0,0,0,0,0,0,0,0,0,0,0,0,0,0,0,0,0,0,0,0,0,0,0,0,null,0,0,0,0,0,0,0,0,0,0,null,"Soğuk stresi için ayarlama",null,null,null,"South Devon",3.8,1,36.9,8,550,286,352,1,4,27,0.6,7.0000000000000007E-2,null,null,null,null,null,null,null,null,"Ca, g/gün","0,0154*SBW/0,5","NPg*0,071/0,5","Milk*1,23/0,5","CBW*(13,7/90)/0,5","0,2*DMIreal"]
[{"$f":"Besi!A28","v":0},{"$f":"Besi!B28","v":0},{"$f":"Besi!C28","v":0},{"$f":"Besi!D28","v":0},{"$f":"Besi!E28","v":0},{"$f":"Besi!F28","v":0},"HP,% KM",null,{"$f":"IF(OR(CPtotal>=(H8/0.67),I27=\"\")=TRUE,\"\",((((H8/0.67)-CPtotal)/10/($H4-$I4))))","v":""},null,null,null,null,null,null,null,null,null,null,null,null,null,{"$f":"IF(Besi!B28=0,0,IF(Besi!C28<=0,0,Besi!C28*Besi!D28))","v":0},0,{"$f":"IF(Besi!B28=0,0,IF(Besi!C28<=0,0,Besi!C28))","v":0},0,0,0,0,0,0,0,0,0,0,0,0,0,0,0,0,0,0,0,0,0,0,0,0,0,0,0,0,0,0,0,0,0,0,0,0,0,0,0,0,0,0,0,0,0,0,0,0,0,0,0,0,0,null,0,0,0,0,0,0,0,0,0,0,null,"SA =",{"$f":"0.09*BW^0.67","v":4.110680758105433},"Hayvanın yüzey alanı, m2",null,"Tarentez",3.8,1,37.299999999999997,9,550,287,358,1.2,4,30,0.6,7.0000000000000007E-2,null,null,null,null,null,null,null,null,"P, g/gün","0,016*SBW/0,68","NPg*0,045/0,68","Milk*0,95/0,68","CBW*(7,6/90)/0,68","0,1*DMIreal"]
[{"$f":"Besi!A29","v":0},{"$f":"Besi!B29","v":0},{"$f":"Besi!C29","v":0},{"$f":"Besi!D29","v":0},{"$f":"Besi!E29","v":0},{"$f":"Besi!F29","v":0},"ME,Mcal/kg KM",null,{"$f":"IF(OR(J11=\"TAMAM\",J11=\"FAZLA\",I27=\"\")=TRUE,\"\",((H11-I11))/($H4-$I4))","v":""},null,null,null,null,null,null,null,null,null,null,null,null,null,{"$f":"IF(Besi!B29=0,0,IF(Besi!C29<=0,0,Besi!C29*Besi!D29))","v":0},0,{"$f":"IF(Besi!B29=0,0,IF(Besi!C29<=0,0,Besi!C29))","v":0},0,0,0,0,0,0,0,0,0,0,0,0,0,0,0,0,0,0,0,0,0,0,0,0,0,0,0,0,0,0,0,0,0,0,0,0,0,0,0,0,0,0,0,0,0,0,0,0,0,0,0,0,0,null,0,0,0,0,0,0,0,0,0,0,null,"HE=",{"$f":"(MEI-(RE+YEn+NEpreg))/SA","v":3.9550936274715229},"Isı üretimi, Mcal/gün",null,null,null,null,null,null,null,null,null,null,null,null,null,null,null,null,null,null,null,null,null,null,"SWB: Shrunk Body weight,kg;  DMIreal: KM tüketimi, kg; NPg: Alıkonulan protein, g; Milk: Süt verimi, kg; CBW: Beklenen buzağı doğum ağırlığı, kg"]
[{"$f":"Besi!A30","v":0},{"$f":"Besi!B30","v":0},{"$f":"Besi!C30","v":0},{"$f":"Besi!D30","v":0},{"$f":"Besi!E30","v":0},{"$f":"Besi!F30","v":0},"Ca,% KM",null,{"$f":"IF(OR(J15=\"TAMAM\",J15=\"FAZLA\",I27=\"\")=TRUE,\"\",((H15-I15)/10)/($H4-$I4))","v":""},null,null,null,null,null,null,null,null,null,null,null,null,null,{"$f":"IF(Besi!B30=0,0,IF(Besi!C30<=0,0,Besi!C30*Besi!D30))","v":0},0,{"$f":"IF(Besi!B30=0,0,IF(Besi!C30<=0,0,Besi!C30))","v":0},0,0,0,0,0,0,0,0,0,0,0,0,0,0,0,0,0,0,0,0,0,0,0,0,0,0,0,0,0,0,0,0,0,0,0,0,0,0,0,0,0,0,0,0,0,0,0,0,0,0,0,0,0,null,0,0,0,0,0,0,0,0,0,0,null,"MEI=",{"$f":"AF33","v":19.183949999999999},"Metabolik enerji tüketimi, Mcal/gün"]
[{"$f":"Besi!A31","v":0},{"$f":"Besi!B31","v":0},{"$f":"Besi!C31","v":0},{"$f":"Besi!D31","v":0},{"$f":"Besi!E31","v":0},{"$f":"Besi!F31","v":0},"P,% KM",null,{"$f":"IF(OR(J17=\"TAMAM\",J17=\"FAZLA\",I27=\"\")=TRUE,\"\",((H17-I17)/10)/($H4-$I4))","v":""},null,null,null,null,null,null,null,null,null,null,null,null,null,{"$f":"IF(Besi!B31=0,0,IF(Besi!C31<=0,0,Besi!C31*Besi!D31))","v":0},0,{"$f":"IF(Besi!B31=0,0,IF(Besi!C31<=0,0,Besi!C31))","v":0},0,0,0,0,0,0,0,0,0,0,0,0,0,0,0,0,0,0,0,0,0,0,0,0,0,0,0,0,0,0,0,0,0,0,0,0,0,0,0,0,0,0,0,0,0,0,0,0,0,0,0,0,0,null,0,0,0,0,0,0,0,0,0,0,null,"NEpreg=",{"$f":"NEm_req/1000/DMIreal","v":0},"Gebe uterus için alıkonulan net enerji, Mcal/kg"]
[null,null,null,null,null,null,null,null,null,null,null,null,null,null,null,null,null,null,null,null,null,null,null,null,null,null,null,null,null,null,null,null,null,null,null,null,null,null,null,null,null,null,null,null,null,null,null,null,null,null,null,null,null,null,null,null,null,null,null,null,null,null,null,null,null,null,null,null,null,null,null,null,null,null,null,null,null,null,null,"DIGBAA","DIGBAA","DIGBAA","DIGBAA","DIGBAA","DIGBAA","DIGBAA","DIGBAA","DIGBAA","DIGBAA",null,"EI=",{"$f":"IF((7.36-0.296*WIND+2.55*HAIR)*_MUD2*HIDE<0,0,(7.36-0.296*WIND+2.55*HAIR)*_MUD2*HIDE)","v":10.379},"eksternal  izolasyon değeri, ºC / Mcal / m2 / gün"]
[null,null,null,null,null,null,null,null,null,null,null,null,null,null,null,null,null,null,null,null,null,null,{"$f":"SUM(W36:W62)","v":2.67},null,{"$f":"SUM(Y36:Y62)","v":12.81},7.7659999999999991,2.9484560000000002,0.38745212699999992,2.2462064000000002,null,5268.71,19.183949999999999,11.767770000000001,7.0311399999999997,664.43899999999996,407.18918649999995,257.20914399999998,192.36600000000001,140.758454,163.85125999999997,87.436379999999986,6546.3,186.22379999999998,408.06169999999997,3722.67076,null,{"$f":"SUM(AU36:AU62)","v":3712.67076},null,null,null,null,null,null,null,null,null,null,null,null,null,{"$f":"SUM(BI36:BI62)","v":15.343000000000002},14.781499999999999,11.6532,24.3689,99.383399999999995,17.495899999999999,16.668799999999997,1.9769940000000004,59.300899999999999,0.13885700000000001,945.04370000000006,211.53320000000002,0.25061,103.1597,74.721999999999994,7.7568999999999999,331.197,481,null,{"$f":"SUM(CB35:CB61)","v":19.17963501567419},58.683957883779229,49.809798398915049,40.00528348418608,53.745917525266108,40.649375704861711,44.084534215131711,19.251200817971476,36.927953985402539,11.665225774458554,null,"MUD2 =",{"$f":"IF(Kirlilik=\"Kuru\",1,IF(Kirlilik=\"Hayvanın aşağı kısımları biraz çamurlu\",0.8,IF(Kirlilik=\"Üzeri ıslak ve keçeleşmiş\",0.5,0.2)))","v":1},"Kod 1=1,0   Kod 2=0,8   Kod 3=0,5   Kod 4=0,2",null,null,"Table 3. Condition score resulting from various rates of gain.",null,null,null,null,null,"Tablo 10-4 Sığırlarda KM tüketimi için düzeltme faktörleri",null,null,null,null,"Tablo 3-1 Vücut kompozisyonu ile büyüme döneminin ve canlı ağırlık artışının ilişkisi"]
[null,"Hayvan sayısını giriniz :",56,null,null,null,null,null,null,null,null,null,null,null,null,null,null,null,null,null,null,null,"Kaba","VERİLECEK YEMLER","MİKTAR","KM, kg","NDF, kg","Lignin, g","Effekt.NDF, kg",null,"TDN, g","ME,Mcal","NEm,Mcal","NEg,Mcal","HP,g","DIP, g","UIP, g","SoIP, g","NPN, g","NDFIP, g","ADFIP, g","Nişasta, g","HY, g","HK, g","Diet NSC,g","NFC, %","NFC, g",null,null,null,null,null,null,null,null,null,null,null,"Y","Yüssü","Ca, g","P, g","Mg, g","Cl, g","K, g","Na, g","S, g","Co, mg","Cu, mg","I, mg","Fe, mg","Mn, mg","Se, mg","Zn, mg","Vit A, 1000 IU","Vit D, 1000","Vit E, IU","FİYAT,Krş",null,"MET, g","LİZ, g","ARJ, g","TRE, g","LÖY, g","İZOLÖY, g","VAL, g","HIS, g","FENAL, g","TRİP, g",null,"HAIR =",{"$f":"VLOOKUP(MID(TEXT(I1,\"gg.aa.yyyy\"),4,2),CU64:CV75,2,FALSE)","v":1.3},"Kıl uzunluğu, yaz için 0,6, kış için 1,3 cm",null,null,"Condition score",null,null,null,null,null,"Irk (BI)",null,null,"Çarpan",null,null,null,"Shrunk Body Weight, kg"]
[null,"Öğün sayısını giriniz :",2,null,null,null,null,null,null,null,null,null,null,null,null,null,null,null,null,null,null,null,null,"KABA YEMLER","  ",null,null,null,null,null,null,null,null,null,null,null,null,null,null,null,null,null,null,null,null,null,null,null,null,null,null,null,null,null,null,null,null,null,null,null,null,null,null,null,null,null,null,null,null,null,null,null,null,null,null,null,null,null,null,{"$f":"IF(ISERROR(2.68*0.01*BL66)=TRUE,0,2.68*0.01*BL66)","v":0.46214030268394146},{"$f":"IF(ISERROR(8.2*0.01*BL66)=TRUE,0,8.2*0.01*BL66)","v":1.4140113738837012},{"$f":"IF(ISERROR(6.96*0.01*BL66)=TRUE,0,6.96*0.01*BL66)","v":1.2001852636866537},{"$f":"IF(ISERROR(5.59*0.01*BL66)=TRUE,0,5.59*0.01*BL66)","v":0.96394190000120616},{"$f":"IF(ISERROR(7.51*0.01*BL66)=TRUE,0,7.51*0.01*BL66)","v":1.2950274899837313},{"$f":"IF(ISERROR(5.68*0.01*BL66)=TRUE,0,5.68*0.01*BL66)","v":0.97946153703163696},{"$f":"IF(ISERROR(6.16*0.01*BL66)=TRUE,0,6.16*0.01*BL66)","v":1.0622329345272683},{"$f":"IF(ISERROR(2.69*0.01*BL66)=TRUE,0,2.69*0.01*BL66)","v":0.46386470679843372},{"$f":"IF(ISERROR(5.16*0.01*BL66)=TRUE,0,5.16*0.01*BL66)","v":0.88979252307803647},{"$f":"IF(ISERROR(1.63*0.01*BL66)=TRUE,0,1.63*0.01*BL66)","v":0.28107787066224793},"AnimalType grubu","HIDE =",{"$f":"VLOOKUP(Breed,CQ3:CY30,9,FALSE)","v":1},"Deri kalınlığı, 0,8=ince, 1=orta, 1,2=kalın, Tablo 10-1'den alınıyor",null,null,1,3,5,7,9,null,"Siyah Alaca",null,null,1.08,null,"Shrunk ADG,kg",200,250,300,350,400,450,500]
[null,null,null,null,null,null,null,null,null,null,null,null,null,null,null,null,null,null,null,null,null,null,{"$f":"IF(OR(A5=1,A5=2)=TRUE,Z36,0)","v":2.67},{"$f":"X5","v":"BUĞDAY SAMANI"},3,{"$f":"IF(B5=0,0,IF(OR(C5<=0,C5=\"\")=TRUE,0,Y5*Z5/100))","v":2.67},{"$f":"IF(B5=0,0,IF(C5<=0,0,Z36*AA5/100))","v":2.10663},{"$f":"IF(B5=0,0,IF(C5<=0,0,AA36*AB5/100))","v":0.34696196099999993},{"$f":"IF(B5=0,0,IF(C5<=0,0,AA36*AC5/100))","v":2.0644974},null,{"$f":"IF(B5=0,0,IF(C5<=0,0,Z36*AE5*10))","v":1094.7},{"$f":"IF(B5=0,0,IF(C5<=0,0,Z36*AF5))","v":3.9516},{"$f":"IF(B5=0,0,IF(C5<=0,0,Z36*AG5))","v":1.7088000000000001},{"$f":"IF(B5=0,0,IF(C5<=0,0,Z36*AH5))","v":0.29370000000000002},{"$f":"IF(B5=0,0,IF(C5<=0,0,Z36*AI5*10))","v":93.449999999999989},{"$f":"IF(B5=0,0,IF(C5<=0,0,AI36*AJ5/100))","v":28.969499999999996},{"$f":"IF(B5=0,0,IF(C5<=0,0,AI36*AK5/100))","v":64.480499999999992},{"$f":"IF(B5=0,0,IF(C5<=0,0,AI36*AL5/100))","v":18.689999999999998},{"$f":"IF(B5=0,0,IF(C5<=0,0,AL36*AM5/100))","v":17.755499999999998},{"$f":"IF(B5=0,0,IF(C5<=0,0,AI36*AN5/100))","v":70.087499999999991},{"$f":"IF(B5=0,0,IF(C5<=0,0,AI36*AO5/100))","v":60.742499999999993},{"$f":"IF(B5=0,0,IF(C5<=0,0,Z36*AP5*10))","v":2670},{"$f":"IF(B5=0,0,IF(C5<=0,0,Z36*AQ5*10))","v":53.4},{"$f":"IF(B5=0,0,IF(C5<=0,0,Z36*AR5*10))","v":205.59},{"$f":"IF(ISERROR((100-(AI5+AQ5+(AA5-(AN5*AI5/100))+AR5))*Z36*10)=TRUE,0,(100-(AI5+AQ5+(AA5-(AN5*AI5/100))+AR5))*Z36*10)","v":281.01749999999976},{"$f":"IF(ISERROR(BH96-BL96-BJ96)=TRUE,0,BH96-BL96-BJ96)","v":10.524999999999988},{"$f":"IF(ISERROR(AT36*AZ36*10)=TRUE,0,BI96-BM96-BK96)","v":281.0174999999997},null,null,null,null,null,null,null,null,null,null,null,{"$f":"IF(ISERROR(1/((0.05/(AU5/100-0.02))+(2.5)))=TRUE,0,(1/((0.05/(AU5/100-0.02))+(2.5))))","v":0.1333333333333333},{"$f":"IF(ISERROR(relY*BG36)=TRUE,0,relY*BG36)","v":0.13208985619993682},{"$f":"IF(ISERROR(Z36*BI5*10)=TRUE,0,Z36*BI5*10)","v":4.5390000000000006},{"$f":"IF(ISERROR(Z36*BJ5*10)=TRUE,0,Z36*BJ5*10)","v":1.335},{"$f":"IF(ISERROR(Z36*BK5*10)=TRUE,0,Z36*BK5*10)","v":3.2039999999999997},{"$f":"IF(ISERROR(Z36*BL5*10)=TRUE,0,Z36*BL5*10)","v":8.5440000000000005},{"$f":"IF(ISERROR(Z36*BM5*10)=TRUE,0,Z36*BM5*10)","v":37.646999999999991},{"$f":"IF(ISERROR(Z36*BN5*10)=TRUE,0,Z36*BN5*10)","v":3.7380000000000004},{"$f":"IF(ISERROR(Z36*BO5*10)=TRUE,0,Z36*BO5*10)","v":5.0729999999999995},{"$f":"IF(ISERROR(Z36*BP5)=TRUE,0,Z36*BP5)","v":0.12282},{"$f":"IF(ISERROR(Z36*BQ5)=TRUE,0,Z36*BQ5)","v":9.6120000000000001},{"$f":"IF(ISERROR(Z36*BR5)=TRUE,0,Z36*BR5)","v":0},{"$f":"IF(ISERROR(Z36*BS5)=TRUE,0,Z36*BS5)","v":419.19},{"$f":"IF(ISERROR(Z36*BT5)=TRUE,0,Z36*BT5)","v":109.47},{"$f":"IF(ISERROR(Z36*BU5)=TRUE,0,Z36*BU5)","v":0},{"$f":"IF(ISERROR(Z36*BV5)=TRUE,0,Z36*BV5)","v":16.02},{"$f":"IF(ISERROR(Z36*BW5)=TRUE,0,Z36*BW5)","v":2.67},{"$f":"IF(ISERROR(Z36*BX5)=TRUE,0,Z36*BX5)","v":0.18690000000000001},{"$f":"IF(ISERROR(Z36*BY5)=TRUE,0,Z36*BY5)","v":0},{"$f":"IF(ISERROR(Y5*BZ5)=TRUE,0,Y5*BZ5)","v":60},null,0.49553613929853246,1.5161926650178976,1.2869147498200693,1.0335996338353717,1.3886105993029771,1.0502407728416658,1.1389935142085672,0.49738515474367623,0.95409196969418941,0.30138951755843574,"Besi Sığırı","TI=",{"$f":"IF(Age*30.4<31,2.5,IF(Age*30.4<184,6.5,IF(Age*30.4<364,5.1875+(0.3125*CS),5.25+(0.75*CS))))","v":9},"doku (internal) izolasyon değeri, ºC / Mcal / m2 / gün",null,null,"Very thin",null,"Average","Very fat",null,null,"Siyah AlacaXEtçi",null,null,1.04,null,null,null,"NEg ihtiyacı, Mcal/gün"]
[null,null,null,"Hayvan",null,"Bir öğünde",null,null,null,null,null,null,null,null,null,null,null,null,null,null,null,null,{"$f":"IF(OR(A6=1,A6=2)=TRUE,Z37,0)","v":0},"ARPA, HAFİF",0.5,0.44,0.1232,1.2751200000000001E-2,4.1888000000000009E-2,null,338.8,1.2231999999999998,0.81400000000000006,0.53679999999999994,61.6,41.222720000000002,20.371120000000001,10.472000000000001,3.0368800000000005,4.9279999999999999,3.08,396,10.120000000000001,17.600000000000001,232.40800000000002,52.820000000000007,232.40800000000004,null,null,null,null,null,null,null,null,null,null,null,0.24000000000000005,0.23776174115988638,0.26400000000000001,1.716,0.66,0.57200000000000006,2.2880000000000003,0.13200000000000001,0.748,8.4920000000000009E-2,3.7839999999999998,2.2000000000000002E-2,39.6,7.9640000000000004,7.8759999999999997E-2,19.535999999999998,1.6719999999999999,0,11.528,35,null,2.0015400478852308,6.1241150718876458,5.198029378090002,4.1748540551038955,5.6087931938873448,4.2420699522343694,4.6005547369302322,2.0090084808997277,3.8537114354805189,1.217354581363032,null,"IN=",{"$f":"TI+EI","v":19.378999999999998},"izolasyon değeri,ºC/Mcal/m2/gün",null,"Mature or","Önceki günlük canlı ağırlık artışı, lb/d",null,null,null,null,null,null,null,null,null,null,0.6,1.68,1.99,2.2799999999999998,2.56,2.83,3.09,3.34]
[null,null,null,"başına","Günlük"," hayvan","Bir öğünde",null,null,null,null,null,null,null,null,null,null,null,null,null,null,null,0,"BUĞDAY, ÖĞÜTÜLMÜŞ",1.3,1.157,0.13652600000000001,8.5328750000000005E-3,0,null,1018.1600000000001,3.6792600000000002,2.5222600000000002,1.7355,164.29400000000001,126.50638000000001,37.787620000000004,49.288200000000003,12.322050000000001,6.5717600000000003,3.2858800000000001,1041.3,27.073800000000002,23.255699999999997,812.42226000000005,70.217999999999989,812.42225999999982,null,null,null,null,null,null,null,null,null,null,null,0.31111111111111112,0.30820966446651932,0.57850000000000001,5.0907999999999998,1.5041000000000002,1.0413000000000001,4.6280000000000001,0.1157,1.6198000000000001,0.57502900000000001,7.5205000000000002,0.11685700000000002,52.180700000000002,42.346200000000003,5.7850000000000006E-2,44.081700000000005,0,0,19.669,104,null,2.1368871358635033,6.5382367589853443,5.549527785675366,4.4571638393570829,5.9880680560951145,4.528924974516678,4.9116510287011863,2.1448605953256803,4.1143050824834608,1.2996738923348916,null,"LCT=",{"$f":"39-(IN*HE*0.85)","v":-26.148895495755042},"hayvanın alt kritik sıcaklığı, ºC           -15 gibi",null,"Finishing wt, lb",null,null,null,null,null,null,"Empty vücut yağı etkisi (BFAF)",null,null,null,null,0.8,2.31,2.73,3.13,3.51,3.88,4.24,4.59]
[null,"VERİLECEK YEMLER ","Oran, %","günlük","toplam","başına","toplam",null,null,null,null,null,null,null,null,null,null,null,null,null,null,null,0,"MISIR, 72 kg/hektolitre, ÖĞÜTÜLMÜŞ",2,1.76,0.15839999999999999,3.5164800000000002E-3,0,null,1548.8,5.5968,3.8368000000000002,2.64,172.48000000000002,98.934528000000014,73.528224000000009,18.972800000000003,13.850144000000002,25.872000000000003,8.6240000000000006,1584,75.679999999999993,28.160000000000004,1351.1519999999998,76.770000000000024,1351.1520000000003,null,null,null,null,null,null,null,null,null,null,null,0.26666666666666666,0.2641797123998737,0.52800000000000002,5.4559999999999995,1.9359999999999999,1.056,5.8079999999999998,0.17600000000000002,2.4640000000000004,0.75504000000000004,8.4480000000000004,0,52.8,11.264000000000001,0,0,0,0,0,160,null,13.070879581254117,39.992989763538709,33.94526936027188,27.263513753436754,36.627725990753142,27.70246120206096,30.043514261390058,13.119651519990139,25.166320387787774,7.9498260139717187,null,"MEcs=",{"$f":"IF(LCT>Tc,SA*(LCT-Tc)/IN,0)","v":0},"soğuk stresine bağlı gerekli ME,Mcal/gün",null,880,0.66,0.97,1.3,1.6,1.9,null,21.3,"(350 kg EQW'a kadar)",null,1,null,1,2.95,3.48,4,4.49,4.96,5.42,5.86]
[null,null,null,"miktar,kg","miktar,kg","miktar,kg","miktar,kg",null,null,null,null,null,null,null,null,null,null,null,null,null,null,null,0,"MELAS,ŞEKER PANCARI",1,0.77900000000000003,0,0,0,null,584.25,2.1110899999999999,1.3944100000000001,0.90364,66.215000000000003,66.208378499999995,0,66.215000000000003,66.215000000000003,0,0,0,0,88.806000000000012,623.97900000000004,80.099999999999994,623.97900000000004,null,null,null,null,null,null,null,null,null,null,null,0.1333333333333333,0.13208985619993682,1.1684999999999999,0.23369999999999999,2.2591000000000001,12.775600000000001,47.2074,11.529199999999999,4.6739999999999995,0.36223500000000003,16.826400000000003,0,67.772999999999996,4.6740000000000004,0,14.022,0,0,0,45,null,1.0126518086888636,3.0984122504659255,2.6298718613710785,2.1122103024517713,2.8376921952437932,2.1462172661763974,2.3275877393744029,1.016430360213822,1.9497325868785582,0.61590389856822669,null,"NEmcs=",{"$f":"km*MEcs","v":0},"soğuk stresine bağlı gerekli NE,Mcal/gün",null,1030,0.73,1.06,1.39,1.72,2.0499999999999998,null,23.8,"(400 kg EQW)",null,0.97,null,1.3,3.93,4.6500000000000004,5.33,5.98,6.61,7.22,7.81]
[null,{"$f":"Besi!B5","v":"BUĞDAY SAMANI"},{"$f":"ROUND((Besi!C5/Besi!$C$4)*100,2)","v":23.42},{"$f":"ROUND(Besi!C5,2)","v":3},{"$f":"ROUND(C$34*Besi!C5,2)","v":168},{"$f":"IF(ISERROR(ROUND(D41/$C$35,2))=TRUE,\"\",ROUND(D41/$C$35,2))","v":1.5},{"$f":"IF(ISERROR(ROUND(F41*$C$34,2))=TRUE,\"\",ROUND(F41*$C$34,2))","v":84},null,null,30.95,5,50,2.5,25,null,null,null,null,null,null,null,null,0,"ŞEK. PAN. POSASI, YAŞ",5,0.95,0.42369999999999997,1.5689610999999999E-2,0.139821,null,683.99999999999989,2.6219999999999999,1.4915,0.92149999999999999,106.39999999999999,45.34767999999999,61.041679999999999,28.727999999999998,27.578879999999998,56.391999999999996,11.703999999999999,855,19.95,44.65,411.69199999999995,43.335999999999999,411.69199999999989,null,null,null,null,null,null,null,null,null,null,null,0.3,0.29720217644985791,8.2650000000000006,0.95,2.09,0.38,1.8049999999999999,1.8049999999999999,2.09,7.6950000000000005E-2,13.11,0,313.5,35.814999999999998,0.11399999999999999,9.5,0.38,0.56999999999999995,0,75,null,0,0,0,0,0,0,0,0,0,0,null,"km :",0.57599999999999996,"diet NEm/diet ME;",null,1180,0.79,1.1499999999999999,1.5,1.85,2.2000000000000002,null,26.5,"(450 kg EQW)",null,0.9,null,null,null,"Ağırlık artışındaki protein, %"]
[null,{"$f":"Besi!B6","v":"ARPA, HAFİF"},{"$f":"ROUND((Besi!C6/Besi!$C$4)*100,2)","v":3.9},{"$f":"ROUND(Besi!C6,2)","v":0.5},{"$f":"ROUND(C$34*Besi!C6,2)","v":28},{"$f":"IF(ISERROR(ROUND(D42/$C$35,2))=TRUE,\"\",ROUND(D42/$C$35,2))","v":0.25},{"$f":"IF(ISERROR(ROUND(F42*$C$34,2))=TRUE,\"\",ROUND(F42*$C$34,2))","v":14},null,null,2.4500000000000002,0.4,3.97,0.2,2,null,null,null,null,null,null,null,null,0,"VİT. KAR. (KAVIMIX 802-EKONOMİK) (SÜT, BESİ, BUZAĞI)",0.01,0.01,0,0,0,null,0,0,0,0,0,0,0,0,0,0,0,0,0,0,10,0,0,null,null,null,null,null,null,null,null,null,null,null,0,0,0,0,0,0,0,0,0,0,0,0,0,0,0,0,70,7,300,2,null,0,0,0,0,0,0,0,0,0,0,null,"NEmhs =",{"$f":"IF(Tc>=30,IF(HeatStress=\"Normal\",1,IF(HeatStress=\"Yüzeysel hızlı soluma\",1.07,1.18)),1)","v":1},"1,07 yüzeysel hızlı soluma için, ve 1,18 ağzı açık soluma eğer sıcaklık ≥30 ºC",null,1325,0.84,1.21,1.6,1.97,2.35,null,29,"(500 kg EQW)",null,0.82,null,0.6,20.399999999999999,19.5,18.8,18,17.3,16.600000000000001,16]
[null,{"$f":"Besi!B7","v":"BUĞDAY, ÖĞÜTÜLMÜŞ"},{"$f":"ROUND((Besi!C7/Besi!$C$4)*100,2)","v":10.15},{"$f":"ROUND(Besi!C7,2)","v":1.3},{"$f":"ROUND(C$34*Besi!C7,2)","v":72.8},0.65,36.4,null,null,11.43,1.85,18.47,0.93,9.3000000000000007,null,null,null,null,null,null,null,null,0,0,0,0,0,0,0,null,0,0,0,0,0,0,0,0,0,0,0,0,0,0,0,100,0,null,null,null,null,null,null,null,null,null,null,null,0,0,0,0,0,0,0,0,0,0,0,0,0,0,0,0,0,0,0,0,null,0,0,0,0,0,0,0,0,0,0,null,"NEmtotal=",{"$f":"IF(HeatStress=\"Normal\",NEm+NEmact+NEmcs,NEm*NEmhs+NEmact)","v":6.1241874050248599},"ırk, laktasyon, cinsiyet, otlama, çevre sıcaklığına uyum ve stres etkileri için ayarlamada gerekli yaşama payı net enerjisi, Mcal/gün",null,1470,0.88,1.3,1.7,2.09,2.5,null,31.5,"(550 kg EQW)",null,0.73,null,0.8,18.7,17.600000000000001,16.5,15.5,14.6,13.6,12.7]
[null,{"$f":"Besi!B8","v":"MISIR, 72 kg/hektolitre, ÖĞÜTÜLMÜŞ"},{"$f":"ROUND((Besi!C8/Besi!$C$4)*100,2)","v":15.61},{"$f":"ROUND(Besi!C8,2)","v":2},{"$f":"ROUND(C$34*Besi!C8,2)","v":112},1,56,null,null,23.66,3.82,38.22,1.91,19.100000000000001,null,null,null,null,null,null,null,null,0,0,0,0,0,0,0,null,0,0,0,0,0,0,0,0,0,0,0,0,0,0,0,100,0,null,null,null,null,null,null,null,null,null,null,null,0,0,0,0,0,0,0,0,0,0,0,0,0,0,0,0,0,0,0,0,null,0,0,0,0,0,0,0,0,0,0,"Yağlılık düzeyi","Imtotal=",{"$f":"NEmtotal/NEma","v":4.3077964262877693},"streste yaşama payı için tüketim, kg KM/gün",null,"CA,kg",null,"GCAA, g/gün",null,null,null,null,null,null,null,null,null,1,17,15.6,14.2,13,11.7,10.5,9.3000000000000007]
[null,{"$f":"Besi!B9","v":"MELAS,ŞEKER PANCARI"},{"$f":"ROUND((Besi!C9/Besi!$C$4)*100,2)","v":7.81},{"$f":"ROUND(Besi!C9,2)","v":1},{"$f":"ROUND(C$34*Besi!C9,2)","v":56},0.5,28,null,null,0,0,0,0,0,null,null,null,null,null,null,null,null,0,0,0,0,0,0,0,null,0,0,0,0,0,0,0,0,0,0,0,0,0,0,0,100,0,null,null,null,null,null,null,null,null,null,null,null,0,0,0,0,0,0,0,0,0,0,0,0,0,0,0,0,0,0,0,0,null,0,0,0,0,0,0,0,0,0,0,"Yağlı, % 28 yağlı","MEtotal=",{"$f":"(NEmtotal/(0.35*((MEconc*4.184)/18.4)+0.503))+(pRE/(0.78*((MEconc*4.184)/18.4)+0.006))+(CN92/(0.35*((MEconc*4.184)/18.4)+0.42))+((NEm_req/1000)/(0.78*((MEconc*4.184)/18.4)+0.006))","v":19.479061362590272},"Metabolik Enerji ihtiyacı, Mcal/gün (McDonald 2002, sy.296)",null,{"$f":"880*0.454","v":399.52000000000004},{"$f":"0.66*0.454","v":0.29964000000000002},{"$f":"0.97*0.454","v":0.44037999999999999},{"$f":"1.3*0.454","v":0.59020000000000006},{"$f":"1.6*0.454","v":0.72640000000000005},{"$f":"1.9*0.454","v":0.86260000000000003},null,"Anabolik implant (ADTV)",null,null,1,null,1.3,14.4,12.5,10.7,9,7.3,5.7,4.2]
[null,{"$f":"Besi!B10","v":"ŞEK. PAN. POSASI, YAŞ"},{"$f":"ROUND((Besi!C10/Besi!$C$4)*100,2)","v":39.03},{"$f":"ROUND(Besi!C10,2)","v":5},{"$f":"ROUND(C$34*Besi!C10,2)","v":280},2.5,140,null,null,0.34,0.05,0.54,0.03,0.3,null,null,null,null,null,null,null,null,0,{"$f":"X15","v":0},{"$f":"Y15","v":0},0,0,0,0,null,0,0,0,0,0,0,0,0,0,0,0,0,0,0,0,100,0,null,null,null,null,null,null,null,null,null,null,null,0,0,0,0,0,0,0,0,0,0,0,0,0,0,0,0,0,0,0,0,null,0,0,0,0,0,0,0,0,0,0,"Az yağlı, % 27 yağlı","MEconc =",{"$f":"(0.0857*ADG^2 + 0.5357*ADG + 1.6021) + IF(BW<=400,0, (0.0000035*BW^2 - 0.0016*BW + 0.0539 ))","v":2.3683480000000001},"Rasyonun Metabolik Enerji konsantrasyonu, Mcal/kg KM, değiştirdik, sabitledik",{"$f":"MEI/TotalDMFed","v":2.4702485191861965},{"$f":"1030*0.454","v":467.62},{"$f":"0.73*0.454","v":0.33141999999999999},{"$f":"1.06*0.454","v":0.48124000000000006},{"$f":"1.39*0.454","v":0.63105999999999995},{"$f":"1.72*0.454","v":0.78088000000000002},{"$f":"2.05*0.454","v":0.93069999999999997},null,"Anabolik stimulan yoksa",null,null,0.94,null,null,null,"Ağırlık artışındaki yağ, %"]
[null,{"$f":"Besi!B11","v":"VİT. KAR. (KAVIMIX 802-EKONOMİK) (SÜT, BESİ, BUZAĞI)"},{"$f":"ROUND((Besi!C11/Besi!$C$4)*100,2)","v":0.08},{"$f":"ROUND(Besi!C11,2)","v":0.01},{"$f":"ROUND(C$34*Besi!C11,2)","v":0.56000000000000005},0.01,0.56000000000000005,null,null,30.95,5,50,2.5,25,null,null,null,null,null,null,null,null,0,0,0,0,0,0,0,null,0,0,0,0,0,0,0,0,0,0,0,0,0,0,0,100,0,null,null,null,null,null,null,null,null,null,null,null,0,0,0,0,0,0,0,0,0,0,0,0,0,0,0,0,0,0,0,0,null,0,0,0,0,0,0,0,0,0,0,"Çok az yağlı, % 25 yağlı","PROTEİN İHTİYACI",null,null,null,{"$f":"1180*0.454","v":535.72},{"$f":"0.79*0.454","v":0.35866000000000003},{"$f":"1.15*0.454","v":0.52210000000000001},{"$f":"1.5*0.454","v":0.68100000000000005},{"$f":"1.85*0.454","v":0.83990000000000009},{"$f":"2.2*0.454","v":0.99880000000000013},null,null,null,null,null,null,0.6,5.9,9.6999999999999993,13.2,16.600000000000001,19.899999999999999,23.1,26.2]
[null,{"$f":"Besi!B12","v":0},{"$f":"ROUND((Besi!C12/Besi!$C$4)*100,2)","v":0},{"$f":"ROUND(Besi!C12,2)","v":0},{"$f":"ROUND(C$34*Besi!C12,2)","v":0},0,0,null,null,0.04,0.01,0.06,0.01,0.1,null,null,null,null,null,null,null,null,0,0,0,0,0,0,0,null,0,0,0,0,0,0,0,0,0,0,0,0,0,0,0,100,0,null,null,null,null,null,null,null,null,null,null,null,0,0,0,0,0,0,0,0,0,0,0,0,0,0,0,0,0,0,0,0,null,0,0,0,0,0,0,0,0,0,0,null,"Yaşama Payı",null,null,null,{"$f":"1325*0.454","v":601.55000000000007},{"$f":"0.84*0.454","v":0.38135999999999998},{"$f":"1.21*0.454","v":0.54934000000000005},{"$f":"1.6*0.454","v":0.72640000000000005},{"$f":"1.97*0.454","v":0.89438000000000006},{"$f":"2.35*0.454","v":1.0669000000000002},null,"Sıcaklık, °C (TEMP)",null,null,null,null,0.8,13.6,18.7,23.6,28.2,32.799999999999997,37.1,41.4]
[null,{"$f":"Besi!B13","v":0},{"$f":"ROUND((Besi!C13/Besi!$C$4)*100,2)","v":0},{"$f":"ROUND(Besi!C13,2)","v":0},{"$f":"ROUND(C$34*Besi!C13,2)","v":0},0,0,null,null,0.03,0.01,0.05,0.01,0.1,null,null,null,null,null,null,null,null,0,0,0,0,0,0,0,null,0,0,0,0,0,0,0,0,0,0,0,0,0,0,0,100,0,null,null,null,null,null,null,null,null,null,null,null,0,0,0,0,0,0,0,0,0,0,0,0,0,0,0,0,0,0,0,0,null,0,0,0,0,0,0,0,0,0,0,null,"MPmaint=",{"$f":"3.8*SBW^0.75","v":265.66109747824737},"Yaşama payı için gerekli MP, g/gün",null,{"$f":"1470*0.454","v":667.38},{"$f":"0.88*0.454","v":0.39952000000000004},{"$f":"1.3*0.454","v":0.59020000000000006},{"$f":"1.7*0.454","v":0.77180000000000004},{"$f":"2.09*0.454","v":0.94885999999999993},{"$f":"2.5*0.454","v":1.135},null,">35, gece soğutması yok",null,null,0.65,null,1,21.4,27.9,34.1,40.1,45.6,51.5,56.9]
[null,{"$f":"Besi!B14","v":0},{"$f":"ROUND((Besi!C14/Besi!$C$4)*100,2)","v":0},{"$f":"ROUND(Besi!C14,2)","v":0},{"$f":"ROUND(C$34*Besi!C14,2)","v":0},0,0,null,null,0.16,0.03,0.25,0.02,0.2,null,null,null,null,null,null,null,null,0,0,0,0,0,0,0,null,0,0,0,0,0,0,0,0,0,0,0,0,0,0,0,100,0,null,null,null,null,null,null,null,null,null,null,null,0,0,0,0,0,0,0,0,0,0,0,0,0,0,0,0,0,0,0,0,null,0,0,0,0,0,0,0,0,0,0,"Kaba yemler","Büyüme",null,"Enerji ve Protein İhtiyaçları",null,null,null,null,null,null,null,null,">35, gece soğutmalı",null,null,0.9,null,1.3,22.3,29,35.4,41.5,47.4,53.2,58.7]
[null,{"$f":"Besi!B15","v":0},{"$f":"ROUND((Besi!C15/Besi!$C$4)*100,2)","v":0},{"$f":"ROUND(Besi!C15,2)","v":0},{"$f":"ROUND(C$34*Besi!C15,2)","v":0},0,0,null,null,null,null,null,null,null,null,null,null,null,null,null,null,null,0,0,0,0,0,0,0,null,0,0,0,0,0,0,0,0,0,0,0,0,0,0,0,100,0,null,null,null,null,null,null,null,null,null,null,null,0,0,0,0,0,0,0,0,0,0,0,0,0,0,0,0,0,0,0,0,null,0,0,0,0,0,0,0,0,0,0,"Baklagil Kuru Otu","SRW=",{"$f":"IF(OR(AnimalType=\"Damızlık Düve\",AnimalType=\"Damızlık Boğa\",Yaglanma=\"Yağlı, % 28 yağlı\")=TRUE,478,IF(Yaglanma=\"Az yağlı, % 27 yağlı\",462,435))","v":478},"Damızlık düve, Damızlık Boğa ve yağlanacak besiler için 478 kg (% 28 yağlı)",null,null,null,null,null,null,null,null,"25-35",null,null,0.9,null,null,null,"Vücut yağı, %"]
[null,{"$f":"Besi!B16","v":0},{"$f":"ROUND((Besi!C16/Besi!$C$4)*100,2)","v":0},{"$f":"ROUND(Besi!C16,2)","v":0},{"$f":"ROUND(C$34*Besi!C16,2)","v":0},0,0,null,null,null,null,null,null,null,null,null,null,null,null,null,null,null,0,0,0,0,0,0,0,null,0,0,0,0,0,0,0,0,0,0,0,0,0,0,0,100,0,null,null,null,null,null,null,null,null,null,null,null,0,0,0,0,0,0,0,0,0,0,0,0,0,0,0,0,0,0,0,0,null,0,0,0,0,0,0,0,0,0,0,"Mısır Silajı",null,null,"Az yağlanacak besiler için 462 kg (% 26,8 yağlı)",null,"Hayvanın Tipi :","Besi Sığırı",null,"KONTROL",null,null,null,"15-25",null,null,1,null,0.6,11.6,10.8,10.9,11.5,12.3,13.4,14.5]
[null,{"$f":"Besi!B17","v":0},{"$f":"ROUND((Besi!C17/Besi!$C$4)*100,2)","v":0},{"$f":"ROUND(Besi!C17,2)","v":0},{"$f":"ROUND(C$34*Besi!C17,2)","v":0},0,0,null,null,null,null,null,null,null,null,null,null,null,null,null,null,null,0,0,0,0,0,0,0,null,0,0,0,0,0,0,0,0,0,0,0,0,0,0,0,100,0,null,null,null,null,null,null,null,null,null,null,null,0,0,0,0,0,0,0,0,0,0,0,0,0,0,0,0,0,0,0,0,null,0,0,0,0,0,0,0,0,0,0,null,null,null,"Yağlanmayacak besiler için 435 kg (%25,2 yağlı)",null,"Irkı :","Esmer",null,null,null,null,null,"5-15",null,null,1.03,null,0.8,11.6,12.5,13.9,15.6,17.5,19.399999999999999,21.4]
[null,{"$f":"Besi!B18","v":0},{"$f":"ROUND((Besi!C18/Besi!$C$4)*100,2)","v":0},{"$f":"ROUND(Besi!C18,2)","v":0},{"$f":"ROUND(C$34*Besi!C18,2)","v":0},0,0,null,null,null,null,null,null,null,null,null,null,null,null,null,null,null,0,0,0,0,0,0,0,null,0,0,0,0,0,0,0,0,0,0,0,0,0,0,0,100,0,null,null,null,null,null,null,null,null,null,null,null,0,0,0,0,0,0,0,0,0,0,0,0,0,0,0,0,0,0,0,0,null,0,0,0,0,0,0,0,0,0,0,null,"EQSBW=",{"$f":"SBW*(SRW/FSBW)","v":286.8},"SBW eşdeğeri",null,"Yaşı :",12,"ay","12",null,null,null,"-5-+5",null,null,1.05,null,1,11.6,14.2,17,19.899999999999999,22.8,25.6,28.5]
[null,{"$f":"Besi!B19","v":0},{"$f":"ROUND((Besi!C19/Besi!$C$4)*100,2)","v":0},{"$f":"ROUND(Besi!C19,2)","v":0},{"$f":"ROUND(C$34*Besi!C19,2)","v":0},0,0,null,null,null,null,null,null,null,null,null,null,null,null,null,null,null,0,0,0,0,0,0,0,null,0,0,0,0,0,0,0,0,0,0,0,0,0,0,0,100,0,null,null,null,null,null,null,null,null,null,null,null,0,0,0,0,0,0,0,0,0,0,0,0,0,0,0,0,0,0,0,0,null,0,0,0,0,0,0,0,0,0,0,"Kaçıncı doğumunu yapacak","FSBW=",{"$f":"IF(AnimalType=\"Damızlık Boğa\",(VLOOKUP(Breed,CQ3:CZ30,6,FALSE)*0.6)*0.96,IF(AnimalType=\"Damızlık Düve\",VLOOKUP(Breed,CQ3:CZ30,6,FALSE)*0.96,BesiSonAg*0.96))","v":480},"Shrunk besi sonu ağırlığı, kg",null,"Kondisyon Skoru :",5,null,null,null,null,null,"-15--5",null,null,1.07,null,1.3,11.6,14.4,17.399999999999999,20.399999999999999,23.4,26.4,29.3]
[null,{"$f":"Besi!B20","v":0},{"$f":"ROUND((Besi!C20/Besi!$C$4)*100,2)","v":0},{"$f":"ROUND(Besi!C20,2)","v":0},{"$f":"ROUND(C$34*Besi!C20,2)","v":0},0,0,null,null,null,null,null,null,null,null,null,null,null,null,null,null,null,0,0,0,0,0,0,0,null,0,0,0,0,0,0,0,0,0,0,0,0,0,0,0,100,0,null,null,null,null,null,null,null,null,null,null,null,0,0,0,0,0,0,0,0,0,0,0,0,0,0,0,0,0,0,0,0,null,0,0,0,0,0,0,0,0,0,0,1,"EQEBW=",{"$f":"0.891*EQSBW","v":255.53880000000001},"EBW eşdeğeri",null,"Canlı ağırlığı :",300,"kg",null,null,null,null,"< -15",null,null,1.1599999999999999,null,">1,3",11.6,14.2,17,20.100000000000001,23.1,26.1,29.1]
[null,{"$f":"Besi!B21","v":0},{"$f":"ROUND((Besi!C21/Besi!$C$4)*100,2)","v":0},{"$f":"ROUND(Besi!C21,2)","v":0},{"$f":"ROUND(C$34*Besi!C21,2)","v":0},0,0,null,null,null,null,null,null,null,null,null,null,null,null,null,null,null,0,0,0,0,0,0,0,null,0,0,0,0,0,0,0,0,0,0,0,0,0,0,0,100,0,null,null,null,null,null,null,null,null,null,null,null,0,0,0,0,0,0,0,0,0,0,0,0,0,0,0,0,0,0,0,0,null,0,0,0,0,0,0,0,0,0,0,2,"pRE=",{"$f":"0.0635*EBW^0.75*EBG^1.097","v":4.5258697008785971},"Alıkonulan enerji, Mcal/gün (NEb)",null,"Hedef besi sonu ağırlığı :",500,"kg",null,null,null,null,"Çamur (MUD1)",null,null,null,null,"NEg ihtiyaçları NRC 1984'de 72 kesim çalışmasından elde edildi, RE=0,0635 EBW^0,75 EBG^1,097"]
[null,{"$f":"Besi!B22","v":0},{"$f":"ROUND((Besi!C22/Besi!$C$4)*100,2)","v":0},{"$f":"ROUND(Besi!C22,2)","v":0},{"$f":"ROUND(C$34*Besi!C22,2)","v":0},0,0,null,null,null,null,null,null,null,null,null,null,null,null,null,null,null,0,0,0,0,0,0,0,null,0,0,0,0,0,0,0,0,0,0,0,0,0,0,0,100,0,null,null,null,null,null,null,null,null,null,null,null,0,0,0,0,0,0,0,0,0,0,0,0,0,0,0,0,0,0,0,0,null,0,0,0,0,0,0,0,0,0,0,3,"NPg=",{"$f":"SWG*(268-(29.4*(pRE/SWG)))","v":175.67543079416924},"Büyüme için net protein ihtiyacı, g/gün",null,"İstenilen canlı ağırlık artışı :",1.2,"kg/gün",null,null,null,null,"Yok",null,null,1,null,"SBWG'deki yağ oranı= 0,122 RE-0,146,   protein oranı= 0,248-0,0264 RE"]
[null,{"$f":"Besi!B23","v":0},{"$f":"ROUND((Besi!C23/Besi!$C$4)*100,2)","v":0},{"$f":"ROUND(Besi!C23,2)","v":0},{"$f":"ROUND(C$34*Besi!C23,2)","v":0},0,0,null,null,null,null,null,null,null,null,null,null,null,null,null,null,null,0,{"$f":"X28","v":0},0,0,0,0,0,null,0,0,0,0,0,0,0,0,0,0,0,0,0,0,0,100,0,null,null,null,null,null,null,null,null,null,null,null,0,0,0,0,0,0,0,0,0,0,0,0,0,0,0,0,0,0,0,0,null,0,0,0,0,0,0,0,0,0,0,4,"MPg=",{"$f":"IF(EQSBW<=300,NPg/(0.834-(EQSBW*0.00114)),NPg/0.492)","v":346.46706188402135},"Büyüme için MP ihtiyacı, g/gün",null,"Hedef yağlılık düzeyi :","Yağlı, % 28 yağlı",null,null,null,null,null,"Orta (10-20 cm)",null,null,0.85]
[null,{"$f":"Besi!B24","v":0},{"$f":"ROUND((Besi!C24/Besi!$C$4)*100,2)","v":0},{"$f":"ROUND(Besi!C24,2)","v":0},{"$f":"ROUND(C$34*Besi!C24,2)","v":0},0,0,null,null,null,null,null,null,null,null,null,null,null,null,null,null,null,0,0,0,0,0,0,0,null,0,0,0,0,0,0,0,0,0,0,0,0,0,0,0,100,0,null,null,null,null,null,null,null,null,null,null,null,0,0,0,0,0,0,0,0,0,0,0,0,0,0,0,0,0,0,0,0,null,0,0,0,0,0,0,0,0,0,0,null,"EBG=",{"$f":"12.341*EQEBW^-0.6837*pRE^0.9116","v":1.1043585271637186},"ME'nin sağlayabileceği GCAA,kg ",null,null,null,null,null,null,null,null,"Şiddetli (30-60 cm)",null,null,0.7]
[null,{"$f":"Besi!B25","v":0},{"$f":"ROUND((Besi!C25/Besi!$C$4)*100,2)","v":0},{"$f":"ROUND(Besi!C25,2)","v":0},{"$f":"ROUND(C$34*Besi!C25,2)","v":0},0,0,null,null,null,null,null,null,null,null,null,null,null,null,null,null,null,0,0,0,0,0,0,0,null,0,0,0,0,0,0,0,0,0,0,0,0,0,0,0,100,0,null,null,null,null,null,null,null,null,null,null,null,0,0,0,0,0,0,0,0,0,0,0,0,0,0,0,0,0,0,0,0,null,0,0,0,0,0,0,0,0,0,0,null,"SWG=",{"$f":"13.91*pRE^0.9116*EQSBW^-0.6837","v":1.1503188931033352},null,null,"Kaç gün önce doğurdu? :",null,"gün"]
[null,{"$f":"Besi!B26","v":0},{"$f":"ROUND((Besi!C26/Besi!$C$4)*100,2)","v":0},{"$f":"ROUND(Besi!C26,2)","v":0},{"$f":"ROUND(C$34*Besi!C26,2)","v":0},0,0,null,null,null,null,null,null,null,null,null,null,null,null,null,null,null,0,0,0,0,0,0,0,null,0,0,0,0,0,0,0,0,0,0,0,0,0,0,0,100,0,null,null,null,null,null,null,null,null,null,null,null,0,0,0,0,0,0,0,0,0,0,0,0,0,0,0,0,0,0,0,0,null,"REFAA","REFAA","REFAA","REFAA","REFAA","REFAA","REFAA","REFAA","REFAA","REFAA",null,"Damızlık düvelerin","Büyüme İhtiyaçları","Hedef Ağırlıkları ve Ağırlık Artış Oranlarının Tahmini",null,"Kaç günlük gebe? :",0,"gün"]
[null,{"$f":"Besi!B27","v":0},{"$f":"ROUND((Besi!C27/Besi!$C$4)*100,2)","v":0},{"$f":"ROUND(Besi!C27,2)","v":0},{"$f":"ROUND(C$34*Besi!C27,2)","v":0},0,0,null,null,null,null,null,null,null,null,null,null,null,null,null,null,null,null,null,null,null,null,null,null,null,null,null,null,null,null,null,null,null,null,null,null,null,null,null,null,null,null,null,null,null,null,null,null,null,null,null,null,null,null,null,null,null,null,null,null,null,null,null,null,null,null,null,null,null,null,null,null,null,null,{"$f":"SUM(CB65:CB91)","v":3.6348436512043603},10.399164444264612,13.601313690187332,11.856794743816973,36.539335977494268,12.760519831900275,17.033809479560446,7.7242571715509909,16.043825332130417,6.0841320474993204,null,"MW :",{"$f":"VLOOKUP(Breed,CQ3:CV30,6,FALSE)","v":600},"Ergin canlı ağırlık, kg",null,"Kaçıncı doğumunu yapacak :",0,null,null,"Ay","HAIR, cm","TDNp"]
[null,{"$f":"Besi!B28","v":0},{"$f":"ROUND((Besi!C28/Besi!$C$4)*100,2)","v":0},{"$f":"ROUND(Besi!C28,2)","v":0},{"$f":"ROUND(C$34*Besi!C28,2)","v":0},0,0,null,null,null,null,null,null,null,null,null,null,null,null,null,null,null,null,null,null,"önhesap",{"$f":"SUM(AA66:AA92)","v":0.78063081983896443},{"$f":"SUM(AB66:AB92)","v":25.219369180161035},null,{"$f":"SUM(AD66:AD92)","v":29.980276134122274},5.5473146319741051,140.758454,45.233435304542802,70.547827471113337,0.53167826641569593,116.31294104207184,6.3741106954571958,237.6739125288866,75.883201733584301,87.436379999999986,{"$f":"SUM(AO66:AO92)","v":827.19953261280864},1315.1655905828684,205.95779187419487,77.546893387191332,1492.7587434171314,1648.7618433258056,929.88510480000002,70.703407104256542,4.4592451302066909,39.358350274206693,{"$f":"IF(SUM(AY66:AY92)>0.18,0.18,SUM(AY66:AY92))","v":0.18},null,{"$f":"SUM(BA66:BA92)","v":0.61043473977227447},9.4153811365625302,1.0760176710270875,19.86446192838234,1888.5569326660643,1908.4213945944466,190.84213945944464,188.85569326660641,1.9864461928382342,116.31294104207184,18.610070566731494,715.65802297291748,{"$f":"SUM(BM66:BM92)","v":298.19084290538228},178.91450574322937,400.76849286483372,229.01056735133355,83.970541362155643,6.3741106954571958,{"$f":"SUM(BS66:BS92)","v":237.6739125288866},60.706561386867449,304.75458461121127,715.65802297291748,178.91450574322937,1199.3271133273581,{"$f":"SUM(BY66:BY92)","v":1526.868319615201},{"$f":"SUM(BZ66:BZ92)","v":380.73006822159198},null,"MET, g","LİZ, g","ARJ, g","TRE, g","LÖY, g","İZOLÖY, g","VAL, g","HIS, g","FENAL, g","TRİP, g",null,"TPW=",{"$f":"IF(OR(AnimalType=\"Damızlık Boğa\",AnimalType=\"Kastre Erkek\",AnimalType=\"Buzağı\",AnimalType=\"Besi Sığırı\")=TRUE,0,MW*VLOOKUP(Breed,CQ3:DB30,12,FALSE))","v":0},"Hedef gebelik ağırlığı, kg",{"$f":"TPW-SBW","v":-288},"Mevcut hava sıcaklığı :",20,"ºC",null,"01",1.3,50]
[null,{"$f":"Besi!B29","v":0},{"$f":"ROUND((Besi!C29/Besi!$C$4)*100,2)","v":0},{"$f":"ROUND(Besi!C29,2)","v":0},{"$f":"ROUND(C$34*Besi!C29,2)","v":0},0,0,null,null,null,null,null,null,null,null,null,null,null,null,null,null,null,null,null,"Kdüssü","Kdüssü","RD","RESC","Kpj","Af_forages","Af_conc","RDPAj","RDPB1j","RDPB2j","RDPB3j","RDPEPj","REPB1j","REPB2j","REPB3j","REPCj","RDCAj","RDCB1j","RDCB2j","RECAj","RECB1j","RECB2j","RECCj","1/Y1j","1/Y2j","1/Y3j","RATIOj","IMPj","Y1j","Y2j","Y3j","FCBACTj","NFCBACTj","BACTj","BACTNj","NFCBACTNj","FCBACTNj","PEPUPj","PEPUPNj","REBTPj","REBCWj","REBNAj","REBCHOj","REBFATj","REBASHj","DIGPB1j","DIGPB2j","DIGPB3j","DIGFPj","DIGBTPj","DIGBNAj","DIGPj","DIGFCj","DIGBCj",null,{"$f":"IF(ISERROR(AY5*0.01*(AK66+AL66+AM66+AN66))=TRUE,0,AY5*0.01*(AK66+AL66+AM66+AN66))","v":0.4941910433296387},{"$f":"IF(ISERROR(AZ5*0.01*(AK66+AL66+AM66+AN66))=TRUE,0,AZ5*0.01*(AK66+AL66+AM66+AN66))","v":2.0874039591386233},{"$f":"IF(ISERROR(BA5*0.01*(AK66+AL66+AM66+AN66))=TRUE,0,BA5*0.01*(AK66+AL66+AM66+AN66))","v":2.0874039591386233},{"$f":"IF(ISERROR(BB5*0.01*(AK66+AL66+AM66+AN66))=TRUE,0,BB5*0.01*(AK66+AL66+AM66+AN66))","v":2.0874039591386233},{"$f":"IF(ISERROR(BC5*0.01*(AK66+AL66+AM66+AN66))=TRUE,0,BC5*0.01*(AK66+AL66+AM66+AN66))","v":4.0494161610145021},{"$f":"IF(ISERROR(BD5*0.01*(AK66+AL66+AM66+AN66))=TRUE,0,BD5*0.01*(AK66+AL66+AM66+AN66))","v":2.0874039591386233},{"$f":"IF(ISERROR(BE5*0.01*(AK66+AL66+AM66+AN66))=TRUE,0,BE5*0.01*(AK66+AL66+AM66+AN66))","v":2.8250025312724123},{"$f":"IF(ISERROR(BF5*0.01*(AK66+AL66+AM66+AN66))=TRUE,0,BF5*0.01*(AK66+AL66+AM66+AN66))","v":0.7375985721337891},{"$f":"IF(ISERROR(BG5*0.01*(AK66+AL66+AM66+AN66))=TRUE,0,BG5*0.01*(AK66+AL66+AM66+AN66))","v":2.5815950024682621},{"$f":"IF(ISERROR(BH5*0.01*(AK66+AL66+AM66+AN66))=TRUE,0,BH5*0.01*(AK66+AL66+AM66+AN66))","v":3.3191935746020507},null,"GS :",{"$f":"IF(OR(AnimalType=\"Damızlık Boğa\",AnimalType=\"Kastre Erkek\",AnimalType=\"Buzağı\",AnimalType=\"Besi Sığırı\")=TRUE,  0,  VLOOKUP(Breed,CQ3:CX30,7,FALSE))","v":0},"Irka özgü gebelik süresi, gün",null,"Geçen ayın sıcaklık ortalaması :",20,"°C",null,"02",1.2,50]
[null,{"$f":"Besi!B30","v":0},{"$f":"ROUND((Besi!C30/Besi!$C$4)*100,2)","v":0},{"$f":"ROUND(Besi!C30,2)","v":0},{"$f":"ROUND(C$34*Besi!C30,2)","v":0},0,0,null,null,null,null,null,null,null,null,null,null,null,null,null,null,null,null,null,{"$f":"IF(ISERROR(IF(Z66>AU5/100,AU5/100,Z66))=TRUE,0,IF(Z66>AU5/100,AU5/100,Z66))","v":0.03},{"$f":"IF(ISERROR(IF(pH<5.7,0,büyükA*((BH36/((-0.1058+(0.0752*pH))-BH36))+1)))=TRUE,0,IF(pH<5.7,0,büyükA*((BH36/((-0.1058+(0.0752*pH))-BH36))+1)))","v":3.1272656800641133E-2},{"$f":"IF(ISERROR(AU5/(AU5+AC66))=TRUE,0,AU5/(AU5+AC66))","v":8.2618579293882485E-2},{"$f":"IF(ISERROR(AC66/(AU5+AC66))=TRUE,0,AC66/(AU5+AC66))","v":0.9173814207061175},{"$f":"IF(ISERROR(IF(A5<3,Kp_forages*AD66,Kp_conc*AE66))=TRUE,0,IF(A5<3,Kp_forages*AD66,Kp_conc*AE66))","v":33.311445024111372},{"$f":"IF(ISERROR(IF(A5<3,100/((AC5/100)+70),\"\"))=TRUE,0,IF(A5<3,100/((AC5/100)+70),\"\"))","v":1.4088475626937165},{"$f":"IF(ISERROR(IF(OR(A5=3,A5=4,A5=5,A5=6)=TRUE,100/((AC5/100)+90),\"\"))=TRUE,0,IF(OR(A5=3,A5=4,A5=5,A5=6)=TRUE,100/((AC5/100)+90),\"\"))","v":""},{"$f":"IF(ISERROR(BR96*Z36*10)=TRUE,0,BR96*Z36*10)","v":17.755499999999998},{"$f":"IF(ISERROR(BT96*Z36*10*(AV5/(AV5+AC66)))=TRUE,0,BT96*Z36*10*(AV5/(AV5+AC66)))","v":0.74954795844054134},{"$f":"IF(ISERROR(BZ96*Z36*10*(AW5/(AW5+AC66)))=TRUE,0,BZ96*Z36*10*(AW5/(AW5+AC66)))","v":1.1599147798505061},{"$f":"IF(ISERROR(BX96*Z36*10*(AX5/(AX5+AC66)))=TRUE,0,BX96*Z36*10*(AX5/(AX5+AC66)))","v":2.5180048330031065E-2},{"$f":"IF(ISERROR(AG66+AH66+AI66)=TRUE,0,AG66+AH66+AI66)","v":1.9346427866210785},{"$f":"IF(ISERROR(BT96*Z36*10*(AC66/(AC66+AV5)))=TRUE,0,BT96*Z36*10*(AC66/(AC66+AV5)))","v":0.18495204155945935},{"$f":"IF(ISERROR(BZ96*Z36*10*(AC66/(AW5+AC66)))=TRUE,0,BZ96*Z36*10*(AC66/(AW5+AC66)))","v":3.5125852201494885},{"$f":"IF(ISERROR(BX96*Z36*10*(AC66/(AX5+AC66)))=TRUE,0,BX96*Z36*10*(AC66/(AX5+AC66)))","v":9.3198199516699685},{"$f":"IF(ISERROR(BV96*Z36*10)=TRUE,0,BV96*Z36*10)","v":60.742499999999993},{"$f":"IF(ISERROR(Z36*10*BP96*(AS5/(AS5+AC66)))=TRUE,0,Z36*10*BP96*(AS5/(AS5+AC66)))","v":0},{"$f":"IF(ISERROR(Z36*10*BN96*(AT5/(AT5+AC66)))=TRUE,0,Z36*10*BN96*(AT5/(AT5+AC66)))","v":168.65479882066001},{"$f":"IF(ISERROR(Z36*10*BL96*(AU5/(AU5+AC66)))=TRUE,0,Z36*10*BL96*(AU5/(AU5+AC66)))","v":99.459037733196979},{"$f":"IF(ISERROR(Z36*10*BP96*(AC66/(AS5+AC66)))=TRUE,0,Z36*10*BP96*(AC66/(AS5+AC66)))","v":0},{"$f":"IF(ISERROR(Z36*10*BN96*(AC66/(AT5+AC66)))=TRUE,0,Z36*10*BN96*(AC66/(AT5+AC66)))","v":112.3627011793396},{"$f":"IF(ISERROR(Z36*10*BL96*(AC66/(AU5+AC66)))=TRUE,0,Z36*10*BL96*(AC66/(AU5+AC66)))","v":1104.3747558668033},{"$f":"IF(ISERROR(Z36*10*BJ96)=TRUE,0,Z36*10*BJ96)","v":832.70870639999998},{"$f":"IF(ISERROR((_KM1/AU5)+(1/_YG1))=TRUE,0,(_KM1/AU5)+(1/_YG1))","v":18.564929393487205},{"$f":"IF(ISERROR((_KM2/AS5)+(1/_YG2))=TRUE,0,(_KM2/AS5)+(1/_YG2))","v":0.89171435210111516},{"$f":"IF(ISERROR((_KM2/AT5)+(1/_YG2))=TRUE,0,(_KM2/AT5)+(1/_YG2))","v":4.4558782817011151},{"$f":"IF(ISERROR(AJ66/(AO66+AP66+AJ66))=TRUE,0,AJ66/(AO66+AP66+AJ66))","v":1.134092924153463E-2},{"$f":"IF(ISERROR(EXP(0.404*LN(AY66*100)+1.942))=TRUE,0,EXP(0.404*LN(AY66*100)+1.942))","v":7.3363143975234406},{"$f":"IF(ISERROR(1/AV66)=TRUE,0,1/AV66)","v":5.3865004213310488E-2},{"$f":"IF(ISERROR((1/AW66)*(1+AZ66*0.01))=TRUE,0,(1/AW66)*(1+AZ66*0.01))","v":1.2037073771955187},{"$f":"IF(ISERROR((1/AX66)*(1+AZ66*0.01))=TRUE,0,(1/AX66)*(1+AZ66*0.01))","v":0.24088699827892468},{"$f":"IF(ISERROR(BA66*AQ66)=TRUE,0,BA66*AQ66)","v":5.3573614865504622},{"$f":"IF(ISERROR((BB66*AO66)+(BC66*AP66))=TRUE,0,(BB66*AO66)+(BC66*AP66))","v":40.626748233244712},{"$f":"IF(ISERROR(BD66+BE66)=TRUE,0,BD66+BE66)","v":45.984109719795171},{"$f":"IF(ISERROR(0.1*BF66)=TRUE,0,0.1*BF66)","v":4.5984109719795176},{"$f":"IF(ISERROR(0.1*BE66)=TRUE,0,0.1*BE66)","v":4.0626748233244712},{"$f":"IF(ISERROR(0.1*BD66)=TRUE,0,0.1*BD66)","v":0.53573614865504626},{"$f":"IF(ISERROR(AJ66)=TRUE,0,AJ66)","v":1.9346427866210785},{"$f":"IF(ISERROR(BJ66/6.25)=TRUE,0,BJ66/6.25)","v":0.30954284585937253},{"$f":"IF(ISERROR(0.6*0.625*BF66)=TRUE,0,0.6*0.625*BF66)","v":17.244041144923187},{"$f":"IF(ISERROR(0.25*0.625*BF66)=TRUE,0,0.25*0.625*BF66)","v":7.1850171437179959},{"$f":"IF(ISERROR(0.15*0.625*BF66)=TRUE,0,0.15*0.625*BF66)","v":4.3110102862307969},{"$f":"IF(ISERROR(0.21*BF66)=TRUE,0,0.21*BF66)","v":9.6566630411569854},{"$f":"IF(ISERROR(0.12*BF66)=TRUE,0,0.12*BF66)","v":5.5180931663754205},{"$f":"IF(ISERROR(0.044*BF66)=TRUE,0,0.044*BF66)","v":2.0233008276709876},{"$f":"AK66","v":0.18495204155945935},{"$f":"AL66","v":3.5125852201494885},{"$f":"IF(ISERROR(0.8*AM66)=TRUE,0,0.8*AM66)","v":7.4558559613359749},{"$f":"IF(ISERROR(BR66+BS66+BT66)=TRUE,0,BR66+BS66+BT66)","v":11.153393223044922},{"$f":"BL66","v":17.244041144923187},{"$f":"BN66","v":4.3110102862307969},{"$f":"IF(ISERROR(BU66+BV66+BW66)=TRUE,0,BU66+BV66+BW66)","v":32.708444654198907},{"$f":"IF(ISERROR(AR66+stdig*AS66+0.2*AT66)=TRUE,0,AR66+stdig*AS66+0.2*AT66)","v":305.14697705786534},{"$f":"IF(ISERROR(0.95*BO66)=TRUE,0,0.95*BO66)","v":9.1738298890991352},null,0.32993237512145185,1.2504844341022925,1.9673745331316199,1.2830703476945347,2.7820223729376736,1.5967097660198653,1.9877407291267712,0.93277177657793153,2.2810139514569503,0.51322813907781384,"İonofor ve İmplant","İBY :",{"$f":"IF(AnimalType=\"Damızlık Düve\",  IF(DaysPreg>0,  Tage+(GS-DaysPreg),  IF(Tage>=TPA,  IF(SBW>=TPW,  Tage+GS, Tage+ (TPW-SBW)+GS),  IF(SBW>=TPW,  VLOOKUP(Breed,CQ3:DA30,11,FALSE)*30.4,   IF(  (TPW-SBW)>((VLOOKUP(Breed,CQ3:DA30,11,FALSE)*30.4-GS)-Tage),  VLOOKUP(Breed,CQ3:DA30,11,FALSE)*30.4+(TPW-SBW)-((VLOOKUP(Breed,CQ3:DA30,11,FALSE)*30.4-GS)-Tage),   VLOOKUP(Breed,CQ3:DA30,11,FALSE)*30.4)  )   )   ), 0)","v":0},"Hedef ilk buzağılama yaşı, gün    TCA",null,"Sıcaklık Stresi :","Normal",null,null,"03",1.1000000000000001,64]
[null,{"$f":"Besi!B31","v":0},{"$f":"ROUND((Besi!C31/Besi!$C$4)*100,2)","v":0},{"$f":"ROUND(Besi!C31,2)","v":0},{"$f":"ROUND(C$34*Besi!C31,2)","v":0},0,0,null,null,null,null,null,null,null,null,null,null,null,null,null,null,null,null,null,0.05,5.4507098042460171E-2,0.11769925754293764,0.88230074245706236,37.481151575454582,"",1.1069293779056897,3.03688,6.6093646699593327,11.204266318551355,1.7097021186625823E-2,17.830728009697314,0.82575533004066692,34.995733681448648,1.8309029788133739,3.0800000000000005,20.659642671751197,92.989165915219189,10.318590333442705,2.581157328248787,116.17803408478083,77.350529666557293,30.602880000000006,11.139316753487202,0.74320752170111515,7.4260148897011158,0.13561599372224456,19.991873345188363,8.9772112790216366E-2,1.6145137103906186,0.16158313055849235,0.92632165524985477,48.380756881917549,49.307078537167406,4.9307078537167408,4.838075688191755,9.2632165524985488E-2,17.830728009697314,2.8529164815515702,18.490154451437778,7.704231021432407,4.6225386128594446,10.354486492805155,5.9168494244600884,2.1695114556353658,{"$f":"AK67","v":0.82575533004066692},{"$f":"AL67","v":34.995733681448648},1.4647223830506992,37.286211394540011,{"$f":"BL67","v":18.490154451437778},{"$f":"BN67","v":4.6225386128594446},60.398904458837237,105.18478882514587,9.8367621681648956,null,0.91015337690969356,2.7861838068664087,4.0213919612438502,2.6190127784544242,12.66784904188594,3.6963371837761025,4.1792757102996134,2.0710632964373641,4.4950432084111398,0.9844516117594645,"Yok","TPA =",{"$f":"IF(AnimalType=\"Damızlık Düve\",   İBY-GS,   0)","v":0},"Hedef gebelik yaşı, gün",{"$f":"TPA-Tage","v":0},"Geceleri serinliyor mu?","Hayır",null,null,"04",0.9,74]
[null,"TOPLAM",{"$f":"ROUND(SUM(C41:C67),0)","v":100},{"$f":"ROUND(SUM(D41:D67),2)","v":12.81},{"$f":"ROUND(SUM(E41:E67),2)","v":717.36},{"$f":"ROUND(SUM(F41:F67),2)","v":6.41},{"$f":"ROUND(SUM(G41:G67),2)","v":358.96},null,null,null,null,null,null,null,null,null,null,null,null,null,null,null,null,null,0.09,0.10800092537511009,0.19303881843051693,0.80696118156948304,37.622747036961854,"",1.1111111111111112,12.322050000000001,32.846853766005047,26.2220162666687,3.0286405112607686E-2,59.099156437786348,4.1192962339949517,82.212023733331279,3.255593594887392,3.2858799999999997,72.189057206301783,376.78647659909882,21.13299028087911,9.0531687936981999,354.39355740090105,88.342349719120904,20.478899999999999,6.1889083268205347,0.74320752170111515,5.5696795097011158,0.11631981984676089,18.789879159448461,0.16157938479494913,1.5983406476774118,0.21327955935802675,3.4146555684620856,195.74355815146137,199.15821371992345,19.915821371992347,19.574355815146138,0.34146555684620861,59.099156437786348,9.4558650300458158,74.684330144971298,31.118470893738039,18.671082536242825,41.823224881183926,23.898985646390813,8.7629614036766306,4.1192962339949517,82.212023733331279,2.6044748759099137,88.935794843236152,74.684330144971298,18.671082536242825,182.2912075244503,292.51680678819815,39.732063637124725,null,1.431098352737884,2.1083145375156325,2.3255348231990611,3.577745881844709,13.710433325783477,3.4371915793436671,4.7916239488991641,2.6321987559286075,4.6638473102618532,0.4727735629580509,"İonofor","Tage :",{"$f":"IF(OR(AnimalType=\"Damızlık Boğa\",AnimalType=\"Kastre Erkek\",AnimalType=\"Buzağı\",AnimalType=\"Besi Sığırı\")=TRUE,0,Age*30.4)","v":0},"Düvenin yaşı, gün",null,"Zemindeki çamur miktarı :","Yok",null,null,"05",0.8,74]
[null,null,8,null,5,6,7,null,null,null,null,null,null,null,null,null,null,null,null,null,null,null,null,null,0.06,6.6940726444938176E-2,0.13754291986509146,0.86245708013490852,37.622747036961854,"",1.1111111111111112,13.850144,4.0061844216389639,26.801309865837304,4.5723075212682422E-2,30.853217362688948,1.1164715783610375,100.8338901341627,17.202276924787316,8.6239999999999988,117.44133712643799,485.4612970276832,17.06748745944757,17.673862873562133,730.57550297231705,107.02096054055244,8.4395520000000008,9.2829135934872031,0.89171435210111516,8.9110831937011152,4.8683128193366398E-2,13.216023079324161,0.10772479889305334,1.2696445090578306,0.12705079799877977,1.8385916541786993,210.78699400388132,212.62558565806,21.262558565806003,21.078699400388132,0.18385916541786995,30.853217362688948,4.9365147780302321,79.734594621772501,33.222747759071879,19.933648655443125,44.651372988192598,25.515070278967201,9.3555257689546405,1.1164715783610375,100.8338901341627,13.761821539829853,115.7121832523536,79.734594621772501,19.933648655443125,215.38042652956923,587.00968221091046,42.418804338782969,null,0,0,0,0,0,0,0,0,0,0,"İmplant","BPADG=",{"$f":"IF(AnimalType=\"Damızlık Düve\",  IF(DaysPreg>0,  0,  IF(SBW>=TPW,  0,  IF(Tage>=TPA,  1,   (TPW-SBW)/(TPA-Tage))   )   ),0)","v":0},"Gebelik öncesi hedef günlük canlı ağırlık artışı, kg/gün",null,"Deri ve kıllarının durumu :","Kuru",null,null,"06",0.7,65]
[null,null,null,null,null,null,null,null,null,null,null,null,null,null,null,null,null,null,null,null,null,null,null,null,0.03,3.1272656800641133E-2,7.3850249400178619E-2,0.92614975059982141,37.622747036961854,"",1.1111111111111112,66.215000000000003,0,0,0,0,0,0,0,0,580.31305728689802,0,0,43.665942713101842,0,0,0,18.564929393487205,0.44619386090111512,7.4260148897011158,0,0,5.3865004213310488E-2,2.2411783030372501,0.1346617283769341,0,1300.5850329606085,1300.5850329606085,130.05850329606085,130.05850329606085,0,0,0,487.71938736022821,203.21641140009507,121.92984684005705,273.12285692172776,156.070203955273,57.225741450266767,0,0,0,0,487.71938736022821,121.92984684005705,609.64923420028526,43.665942713101842,259.46671407564133,null,0.46946850310569194,2.1667777066416547,3.1996084134741771,2.2895617766846819,3.3296150758726766,1.9428773436220172,3.2501665599624823,1.3506247704732983,2.0223258595322111,0.79448515910194017,"İonofor+İmplant","BUZAG=",{"$f":"IF(OR(AnimalType=\"Damızlık Düve\",AnimalType=\"Laktasyondaki İnek\",AnimalType=\"Kurudaki İnek\")=TRUE,  IF(DogumSay=1,0.8,  IF(DogumSay=2,0.92,  IF(DogumSay=3,0.96,  1))),  0) *MW","v":0},"Hedef buzağılama ağırlığı, kg",null,"Rüzgarın hızı :",1,"km/sa",null,"07",0.6,62]
[null,null,null,null,null,null,null,null,null,null,null,null,null,null,null,null,null,null,null,null,null,null,null,null,0.08,9.3641444452495823E-2,0.17588099530635731,0.82411900469364274,37.485300933538873,"",1.1070519207350824,27.578880000000005,1.0214844884989174,5.1603202402054809,0.41339171657374896,6.5951964452781464,0.12763551150107982,16.119679759794504,44.274608283426254,11.703999999999999,36.596438321419669,191.27385222020723,57.979686067228528,4.5727616785803686,179.24894777979276,271.67324753277154,37.655066399999995,6.9624096434872014,0.74320752170111515,5.5696795097011158,2.8128644987509357E-2,10.589025736194356,0.1436284348674346,1.4879965892039009,0.19855545645592965,8.3275315639412373,92.433842434950677,100.76137399889191,10.076137399889191,9.2433842434950684,0.83275315639412373,6.5951964452781464,1.0552314312445035,37.785515249584464,15.743964687326862,9.4463788123961159,21.159888539767302,12.091364879867029,4.4335004559512443,0.12763551150107982,16.119679759794504,35.419686626741004,51.667001898036588,37.785515249584464,9.4463788123961159,98.898895960017171,193.34412201997927,20.101894112778936,null,0,0,0,0,0,0,0,0,0,0,null,"BUZAG+1=",{"$f":"IF(OR(AnimalType=\"Damızlık Düve\",AnimalType=\"Laktasyondaki İnek\",AnimalType=\"Kurudaki İnek\")=TRUE,  IF(DogumSay=1,0.92,  IF(DogumSay=2,0.96,  1)),  0) *MW","v":0},"Sonraki hedef buzağılama ağırlığı, kg",null,"Merada otluyor mu?","Otlamıyor",null,null,"08",0.7,59]
[null,null,null,null,null,null,null,null,null,null,null,null,null,null,null,null,null,null,null,null,null,null,null,null,0,2.0401899680000002E-2,0,0,0,"","",0,0,0,0,0,0,0,0,0,0,0,0,0,0,0,0,0,0,0,0,0,0,0,0,0,0,0,0,0,0,0,0,0,0,0,0,0,0,0,0,0,0,0,0,0,0,0,null,0,0,0,0,0,0,0,0,0,0,"Fizyolojik durumu","APADG=",{"$f":"IF(AnimalType=\"Damızlık Düve\",  IF(DaysPreg>0,    IF(SBW>=BUZAG,  0,   IF((BUZAG-SBW) >= (GS-DaysPreg), 1,     (BUZAG-SBW)/(GS-DaysPreg))),  0),  IF(OR(AnimalType=\"Laktasyondaki İnek\",AnimalType=\"Kurudaki İnek\")=TRUE,  IF(DaysPreg>0,    IF(SBW>=BUZAG,  0,   IF((BUZAG - SBW) >= (GS-DaysPreg), 1,  (BUZAG - SBW) / (GS-DaysPreg)) ),  0  ),  0      ))","v":0},"Gebelik sonrası hedef günlük canlı ağırlık artışı, kg/gün",null,"Otlanan mera alanı :",null,"hektar",null,"09",0.8,57]
[null,null,null,null,null,null,null,null,null,null,null,null,null,null,null,null,null,null,null,null,null,null,null,null,0,2.0401899680000002E-2,0,1,33.777805254448936,1.4285714285714286,"",0,0,0,0,0,0,0,0,0,0,0,0,0,0,0,0,0,0,0,0,0,0,0,0,0,0,0,0,0,0,0,0,0,0,0,0,0,0,0,0,0,0,0,0,0,0,0,null,0,0,0,0,0,0,0,0,0,0,"Buzağı","CI :",{"$f":"IF(OR(AnimalType=\"Damızlık Boğa\",AnimalType=\"Kastre Erkek\",AnimalType=\"Buzağı\",AnimalType=\"Besi Sığırı\")=TRUE,0,360)","v":0},"Buzağılama aralığı, gün",null,"Merada otlanabilir ot miktarı :",null,"ton/hektar",null,"10",0.9,50]
[null,null,null,null,null,null,null,null,null,null,null,null,null,null,null,null,null,null,null,null,null,null,null,null,0,2.0401899680000002E-2,0,1,33.777805254448936,1.4285714285714286,"",0,0,0,0,0,0,0,0,0,0,0,0,0,0,0,0,0,0,0,0,0,0,0,0,0,0,0,0,0,0,0,0,0,0,0,0,0,0,0,0,0,0,0,0,0,0,0,null,0,0,0,0,0,0,0,0,0,0,"1 yaşında","ACADG=",{"$f":"IF(OR(AnimalType=\"Damızlık Boğa\",AnimalType=\"Kastre Erkek\",AnimalType=\"Buzağı\",AnimalType=\"Besi Sığırı\")=TRUE,   0,   (CN71-BUZAG)/CI)","v":0},"Buzağılama sonrası hedef günlük canlı ağırlık artışı, kg/gün",null,"Merada otlayan hayvan sayısı :",null,null,null,"11",1.1000000000000001,50]
[null,null,null,null,null,null,null,null,null,null,null,null,null,null,null,null,null,null,null,null,null,null,null,null,0,2.0401899680000002E-2,0,1,33.777805254448936,1.4285714285714286,"",0,0,0,0,0,0,0,0,0,0,0,0,0,0,0,0,0,0,0,0,0,0,0,0,0,0,0,0,0,0,0,0,0,0,0,0,0,0,0,0,0,0,0,0,0,0,0,null,0,0,0,0,0,0,0,0,0,0,"Gebe İnek","ADGpreg=",{"$f":"IF(OR(AnimalType=\"Damızlık Boğa\",AnimalType=\"Kastre Erkek\",AnimalType=\"Buzağı\",AnimalType=\"Besi Sığırı\")=TRUE,  0,  IF(DaysPreg>0,  CBW*(18.28*(0.02-0.0000286*DaysPreg)*EXP((0.02*DaysPreg)-(0.0000143*DaysPreg^2)))/1000,  0)   )","v":0},"Gebeler için uterusa bağlı ağırlık artışı, kg/gün (günlük artışa (SWG) ilave edilmelidir)",null,"Merada kalınan süre :",null,"gün",null,"12",1.3,50]
[null,null,null,null,null,null,null,null,null,null,null,null,null,null,null,null,null,null,null,null,null,null,null,null,0,2.0401899680000002E-2,0,1,33.777805254448936,1.4285714285714286,"",0,0,0,0,0,0,0,0,0,0,0,0,0,0,0,0,0,0,0,0,0,0,0,0,0,0,0,0,0,0,0,0,0,0,0,0,0,0,0,0,0,0,0,0,0,0,0,null,0,0,0,0,0,0,0,0,0,0,"Gebe Olmayan İnek","Gebe düveler için büyüme ihtiyaçlarını hesaplamak için EQEBW'den fötal ve uterus dokusu ağırlıkları elde edilir",null,null,null,"Meranın arazi durumu :"]
[null,null,null,null,null,null,null,null,null,null,null,null,null,null,null,null,null,null,null,null,null,null,null,null,0,2.0401899680000002E-2,0,1,33.777805254448936,1.4285714285714286,"",0,0,0,0,0,0,0,0,0,0,0,0,0,0,0,0,0,0,0,0,0,0,0,0,0,0,0,0,0,0,0,0,0,0,0,0,0,0,0,0,0,0,0,0,0,0,0,null,0,0,0,0,0,0,0,0,0,0,"Diğerleri","CW=",{"$f":"IF(OR(AnimalType=\"Damızlık Boğa\",AnimalType=\"Kastre Erkek\",AnimalType=\"Buzağı\",AnimalType=\"Besi Sığırı\")=TRUE,0,(CBW*0.01828)*EXP((0.02*DaysPreg)-(0.0000143*DaysPreg^2)))","v":0},"Fötüs ağırlığı, kg",null,"Meradaki kuru madde tüketimi :",null,"kg/gün",null,"Table 5. Additive codes and adjustment factors"]
[null,null,null,null,null,null,null,null,null,null,null,null,null,null,null,null,null,null,null,null,null,null,null,null,0,2.0401899680000002E-2,0,1,33.777805254448936,1.4285714285714286,"",0,0,0,0,0,0,0,0,0,0,0,0,0,0,0,0,0,0,0,0,0,0,0,0,0,0,0,0,0,0,0,0,0,0,0,0,0,0,0,0,0,0,0,0,0,0,0,null,0,0,0,0,0,0,0,0,0,0,null,"CBW=",{"$f":"IF(OR(AnimalType=\"Damızlık Boğa\",AnimalType=\"Kastre Erkek\",AnimalType=\"Buzağı\",AnimalType=\"Besi Sığırı\")=TRUE,0,VLOOKUP(Breed,CQ3:CT30,4,FALSE))","v":0},"Buzağı doğum ağırlığı, kg  ",null,"TPA, TPW ve İBY KONTROLÜ",null,null,null,"Code","Additive","DMIreal","NEma"]
[null,null,null,null,null,null,null,null,null,null,null,null,null,null,null,null,null,null,null,null,null,null,null,null,0,2.0401899680000002E-2,0,1,33.777805254448936,1.4285714285714286,"",0,0,0,0,0,0,0,0,0,0,0,0,0,0,0,0,0,0,0,0,0,0,0,0,0,0,0,0,0,0,0,0,0,0,0,0,0,0,0,0,0,0,0,0,0,0,0,null,0,0,0,0,0,0,0,0,0,0,null,"Laktasyon",null,null,null,"IBYbreed",{"$f":"VLOOKUP(Breed,CQ3:DA30,11,FALSE)*30.4","v":820.8},null,null,"Yok","No anabolic implant or ionophore",0.94,1]
[null,null,null,null,null,null,null,null,null,null,null,null,null,null,null,null,null,null,null,null,null,null,null,null,0,2.0401899680000002E-2,0,1,33.777805254448936,1.4285714285714286,"",0,0,0,0,0,0,0,0,0,0,0,0,0,0,0,0,0,0,0,0,0,0,0,0,0,0,0,0,0,0,0,0,0,0,0,0,0,0,0,0,0,0,0,0,0,0,0,null,0,0,0,0,0,0,0,0,0,0,null,"küçükk=",{"$f":"IF(AnimalType=\"Laktasyondaki İnek\",1/LactPeak,0)","v":0},"ara oran sabiti",null,"TPAbreed",{"$f":"CR79-GS","v":820.8},null,null,"İonofor","Ionophore only",0.94,1.1200000000000001]
[null,null,null,null,null,null,null,null,null,null,null,null,null,null,null,null,null,null,null,null,null,null,null,null,0,2.0401899680000002E-2,0,1,33.777805254448936,1.4285714285714286,"",0,0,0,0,0,0,0,0,0,0,0,0,0,0,0,0,0,0,0,0,0,0,0,0,0,0,0,0,0,0,0,0,0,0,0,0,0,0,0,0,0,0,0,0,0,0,0,null,0,0,0,0,0,0,0,0,0,0,null,"LactPeak, T =",{"$f":"IF(AnimalType=\"Laktasyondaki İnek\",8.5,0)","v":0},"Laktasyon piki, hafta, Eq. 4-15",null,null,null,null,null,"İmplant","Implant only",1,1]
[null,null,null,null,null,null,null,null,null,null,null,null,null,null,null,null,null,null,null,null,null,null,null,null,0,2.0401899680000002E-2,0,1,33.777805254448936,1.4285714285714286,"",0,0,0,0,0,0,0,0,0,0,0,0,0,0,0,0,0,0,0,0,0,0,0,0,0,0,0,0,0,0,0,0,0,0,0,0,0,0,0,0,0,0,0,0,0,0,0,null,0,0,0,0,0,0,0,0,0,0,null,"küçüka=",{"$f":"IF(AnimalType=\"Laktasyondaki İnek\",1/(PKYD*küçükk*EXP(1)),0)","v":0},"ara oran sabiti",null,null,null,null,null,"İonofor+İmplant","Ionophore + Implant",1,1.1200000000000001]
[null,null,null,null,null,null,null,null,null,null,null,null,null,null,null,null,null,null,null,null,null,null,null,null,0,2.0401899680000002E-2,0,1,33.777805254448936,1.4285714285714286,"",0,0,0,0,0,0,0,0,0,0,0,0,0,0,0,0,0,0,0,0,0,0,0,0,0,0,0,0,0,0,0,0,0,0,0,0,0,0,0,0,0,0,0,0,0,0,0,null,0,0,0,0,0,0,0,0,0,0,null,"PKYD =",{"$f":"IF(AnimalType=\"Laktasyondaki İnek\",VLOOKUP(Breed,CQ3:CU30,5,FALSE),0)","v":0},"pik süt verimi, kg/gün (Tablo 10-1)"]
[null,null,null,null,null,null,null,null,null,null,null,null,null,null,null,null,null,null,null,null,null,null,null,null,0,2.0401899680000002E-2,0,1,33.777805254448936,1.4285714285714286,"",0,0,0,0,0,0,0,0,0,0,0,0,0,0,0,0,0,0,0,0,0,0,0,0,0,0,0,0,0,0,0,0,0,0,0,0,0,0,0,0,0,0,0,0,0,0,0,null,0,0,0,0,0,0,0,0,0,0,null,"küçükn =",{"$f":"IF(AnimalType=\"Laktasyondaki İnek\",ROUND(SonDogumTarihi/7,0),0)","v":0},"Postpartum hafta, Eq. 4-11"]
[null,null,null,null,null,null,null,null,null,null,null,null,null,null,null,null,null,null,null,null,null,null,null,null,0,2.0401899680000002E-2,0,1,33.777805254448936,1.4285714285714286,"",0,0,0,0,0,0,0,0,0,0,0,0,0,0,0,0,0,0,0,0,0,0,0,0,0,0,0,0,0,0,0,0,0,0,0,0,0,0,0,0,0,0,0,0,0,0,0,null,0,0,0,0,0,0,0,0,0,0,"Geceleri Serinliyor mu?","Yn=",{"$f":"IF(AnimalType=\"Laktasyondaki İnek\",IF(Age<36,0.74*küçükn/(küçüka*EXP(küçükk*küçükn)),IF(Age<48,0.88*küçükn/(küçüka*EXP(küçükk*küçükn)),küçükn/(küçüka*EXP(küçükk*küçükn)))),0)","v":0},"mevcut laktasyon haftasındaki günlük süt verimi, kg/gün"]
[null,null,null,null,null,null,null,null,null,null,null,null,null,null,null,null,null,null,null,null,null,null,null,null,0,2.0401899680000002E-2,0,1,33.777805254448936,1.4285714285714286,"",0,0,0,0,0,0,0,0,0,0,0,0,0,0,0,0,0,0,0,0,0,0,0,0,0,0,0,0,0,0,0,0,0,0,0,0,0,0,0,0,0,0,0,0,0,0,0,null,0,0,0,0,0,0,0,0,0,0,"Evet","TotalY=",{"$f":"IF(AnimalType=\"Laktasyondaki İnek\",IF(Age<36,0.74*(-7/(küçüka*küçükk)*((büyükD*EXP(-küçükk*büyükD))+((1/küçükk)*EXP(-küçükk*büyükD))-(1/küçükk))),IF(Age<48,0.88*(-7/(küçüka*küçükk)*((büyükD*EXP(-küçükk*büyükD))+((1/küçükk)*EXP(-küçükk*büyükD))-(1/küçükk))),(-7/(küçüka*küçükk)*((büyükD*EXP(-küçükk*büyükD))+((1/küçükk)*EXP(-küçükk*büyükD))-(1/küçükk))))),0)","v":0},"Laktasyon toplam süt verimi, kg"]
[null,null,null,null,null,null,null,null,null,null,null,null,null,null,null,null,null,null,null,null,null,null,null,null,0,2.0401899680000002E-2,0,1,33.777805254448936,1.4285714285714286,"",0,0,0,0,0,0,0,0,0,0,0,0,0,0,0,0,0,0,0,0,0,0,0,0,0,0,0,0,0,0,0,0,0,0,0,0,0,0,0,0,0,0,0,0,0,0,0,null,0,0,0,0,0,0,0,0,0,0,"Hayır","büyükD =",{"$f":"IF(AnimalType=\"Laktasyondaki İnek\",30,0)","v":0},"Laktasyon süresi, hafta",null,"MİNERAL VE VİTAMİN İHTİYAÇLARI"]
[null,null,null,null,null,null,null,null,null,null,null,null,null,null,null,null,null,null,null,null,null,null,null,null,0,2.0401899680000002E-2,0,1,33.777805254448936,1.4285714285714286,"",0,0,0,0,0,0,0,0,0,0,0,0,0,0,0,0,0,0,0,0,0,0,0,0,0,0,0,0,0,0,0,0,0,0,0,0,0,0,0,0,0,0,0,0,0,0,0,null,0,0,0,0,0,0,0,0,0,0,null,"EMilk =",{"$f":"IF(AnimalType=\"Laktasyondaki İnek\",0.092*MilkFat+0.049*SNF-0.0569,0)","v":0},"Sütün enerji içeriği, Mcal (NEm)/kg",null,"Min-Vit","Maint","Growth","Lact","Preg","Total","Max","Tablo 10-3. Diğer mineral ihtiyaçları, maksimum tolerans konsantrasyonları ve vitamin ihtiyaçları"]
[null,null,null,null,null,null,null,null,null,null,null,null,null,null,null,null,null,null,null,null,null,null,null,null,0,2.0401899680000002E-2,0,1,33.777805254448936,1.4285714285714286,"",0,0,0,0,0,0,0,0,0,0,0,0,0,0,0,0,0,0,0,0,0,0,0,0,0,0,0,0,0,0,0,0,0,0,0,0,0,0,0,0,0,0,0,0,0,0,0,null,0,0,0,0,0,0,0,0,0,0,"Zemindeki çamur miktarı","MilkFat =",{"$f":"IF(AnimalType=\"Laktasyondaki İnek\",VLOOKUP(Breed,CQ3:CZ30,10,FALSE),0)","v":0},"Sütteki yağ oranı, %",null,"Ca, g",{"$f":"0.0154*SBW/0.5","v":8.8704000000000001},{"$f":"NPg*(0.071/0.5)","v":24.945911172772032},{"$f":"Yn*1.23/0.5","v":0},{"$f":"CBW*(13.7/90)/0.5","v":0},{"$f":"SUM(CR89:CU89)","v":33.816311172772032},{"$f":"DMIreal*0.2*1000","v":1552.6615086930067},null,null,"Büyüme, Besi","İnekler",null,"Maksimum"]
[null,null,null,null,null,null,null,null,null,null,null,null,null,null,null,null,null,null,null,null,null,null,null,null,0,2.0401899680000002E-2,0,1,33.777805254448936,1.4285714285714286,"",0,0,0,0,0,0,0,0,0,0,0,0,0,0,0,0,0,0,0,0,0,0,0,0,0,0,0,0,0,0,0,0,0,0,0,0,0,0,0,0,0,0,0,0,0,0,0,null,0,0,0,0,0,0,0,0,0,0,"Yok","MilkProtein =",{"$f":"IF(AnimalType=\"Laktasyondaki İnek\",3.38,0)","v":0},"Sütteki protein oranı, %",null,"P, g",{"$f":"0.016*SBW/0.68","v":6.776470588235294},{"$f":"NPg*0.045/0.68","v":11.625579979025904},{"$f":"Yn*0.95/0.68","v":0},{"$f":"CBW*(7.6/90)/0.68","v":0},{"$f":"SUM(CR90:CU90)","v":18.402050567261199},{"$f":"DMIreal*0.1*1000","v":776.33075434650334},"Mineral/vitamin","Birim","Damızlık boğa","Gebelik","Laktasyon başı","tolerans"]
[null,null,null,null,null,null,null,null,null,null,null,null,null,null,null,null,null,null,null,null,null,null,null,null,0,2.0401899680000002E-2,0,1,33.777805254448936,1.4285714285714286,"",0,0,0,0,0,0,0,0,0,0,0,0,0,0,0,0,0,0,0,0,0,0,0,0,0,0,0,0,0,0,0,0,0,0,0,0,0,0,0,0,0,0,0,0,0,0,0,null,0,0,0,0,0,0,0,0,0,0,"Hafif (10-20 cm)","SNF =",{"$f":"IF(AnimalType=\"Laktasyondaki İnek\",8.31,0)","v":0},"Sütte yağsız katı maddeler, %",null,"Mg, g",null,{"$f":"IF(AND(CT91=0,CU91=0)=TRUE,CZ91*10*DMIreal,0)","v":7.7633075434650332},{"$f":"IF(AnimalType=\"Laktasyondaki İnek\",IF(SonDogumTarihi<90,DB91*10*DMIreal,0),0)","v":0},{"$f":"IF(OR(AnimalType=\"Damızlık Düve\",AnimalType=\"Kurudaki İnek\",AnimalType=\"Laktasyondaki İnek\")=TRUE,IF(DaysPreg>190,DA91*10*DMIreal,0),0)","v":0},{"$f":"SUM(CS91:CU91)","v":7.7633075434650332},{"$f":"DMIreal*DC91*10","v":31.053230173860133},"Mg","%",0.1,0.12,0.2,0.4]
[null,null,null,null,null,null,null,null,null,null,null,null,null,null,null,null,null,null,null,null,null,null,null,null,0,2.0401899680000002E-2,0,1,33.777805254448936,1.4285714285714286,"",0,0,0,0,0,0,0,0,0,0,0,0,0,0,0,0,0,0,0,0,0,0,0,0,0,0,0,0,0,0,0,0,0,0,0,0,0,0,0,0,0,0,0,0,0,0,0,null,"REAA","REAA","REAA","REAA","REAA","REAA","REAA","REAA","REAA","REAA","Çok (30-60 cm)","YEn=",{"$f":"IF(AnimalType=\"Laktasyondaki İnek\",EMilk*Yn,0)","v":0},"Mevcut laktasyon döneminde sütle günlük enerji salınımı, Mcal(NEm)/gün",null,"K, g",null,{"$f":"IF(AND(CT92=0,CU92=0)=TRUE,CZ92*10*DMIreal,0)","v":46.579845260790201},{"$f":"IF(AnimalType=\"Laktasyondaki İnek\",IF(SonDogumTarihi<90,DB92*10*DMIreal,0),0)","v":0},{"$f":"IF(OR(AnimalType=\"Damızlık Düve\",AnimalType=\"Kurudaki İnek\",AnimalType=\"Laktasyondaki İnek\")=TRUE,IF(DaysPreg>190,DA92*10*DMIreal,0),0)","v":0},{"$f":"SUM(CS92:CU92)","v":46.579845260790201},{"$f":"DMIreal*DC92*10","v":232.899226303951},"K","%",0.6,0.6,0.7,3]
[null,null,null,null,null,null,null,null,null,null,null,null,null,null,null,null,null,null,null,null,null,null,null,null,null,null,null,null,null,null,null,null,null,null,null,null,null,null,null,null,null,null,null,null,null,null,null,null,null,null,null,null,null,null,null,null,null,null,null,null,null,null,null,null,null,null,null,null,null,null,null,null,null,null,null,null,null,null,null,{"$f":"SUM(CB95:CB121)","v":29.971058896607722},{"$f":"SUM(CC95:CC121)","v":85.781809530745235},74.802002288087976,61.702376043880669,107.87851323417792,66.768845298923111,75.133313311245132,32.163978656076118,65.495794719559015,22.609868561315604,null,"YFatn=",{"$f":"IF(AnimalType=\"Laktasyondaki İnek\",MilkFat/100*Yn,0)","v":0},"Mevcut laktasyon döneminde günlük süt yağı verimi, kg/gün",null,"Na, g",null,{"$f":"IF(AND(CT93=0,CU93=0)=TRUE,CZ93*10*DMIreal,0)","v":5.4343152804255235},{"$f":"IF(AnimalType=\"Laktasyondaki İnek\",IF(SonDogumTarihi<90,DB93*10*DMIreal,0),0)","v":0},{"$f":"IF(OR(AnimalType=\"Damızlık Düve\",AnimalType=\"Kurudaki İnek\",AnimalType=\"Laktasyondaki İnek\")=TRUE,IF(DaysPreg>190,DA93*10*DMIreal,0),0)","v":0},{"$f":"SUM(CS93:CU93)","v":5.4343152804255235},null,"Na","%",7.0000000000000007E-2,7.0000000000000007E-2,0.1]
[null,null,null,null,null,null,null,null,null,null,null,null,null,null,null,null,null,null,null,null,null,null,null,null,{"$f":"SUM(Y96:Y122)","v":1907.5983878367927},{"$f":"SUM(Z96:Z122)","v":186.22379999999998},176.91260999999997,217.56003898376687,394.47264898376687,15.176640346716859,87.436379999999986,102.61302034671684,373.18968585428286,1319.0094746606446,929.88510480000002,2622.0842653149271,204.03084999999999,{"$f":"SUM(AL96:AL122)","v":9.311190000000007},298.19084290538228,298.19084290538228,20.038424643241704,11.450528367566688,41.985270681077822,{"$f":"SUM(AR96:AR122)","v":371.66506659726838},349.53050692670558,92.415400000000005,132.02200000000002,750.33437017880476,2642.1226899581688,113.17711836756669,378.03812068107783,3883.6722991856177,3933.6124735360013,14.221503864572586,12.259709276750609,-31.299796043625623,-16.683587016138521,1020.4126075841288,12.259709276750609,null,{"$f":"SUM(BI96:BI122)","v":6497.2755000000006},null,{"$f":"SUM(BK96:BK122)","v":929.88510480000002},null,{"$f":"SUM(BM96:BM122)","v":1854.7196352000001},null,{"$f":"SUM(BO96:BO122)","v":2807.9243340000003},null,{"$f":"SUM(BQ96:BQ122)","v":904.74642600000016},null,{"$f":"SUM(BS96:BS122)","v":140.758454},null,{"$f":"SUM(BU96:BU122)","v":51.607545999999992},null,{"$f":"SUM(BW96:BW122)","v":87.436379999999986},null,{"$f":"SUM(BY96:BY122)","v":76.414879999999997},null,{"$f":"SUM(CA96:CA122)","v":308.22173999999995},"MET, g","LİZ, g","ARJ, g","TRE, g","LÖY, g","İZOLÖY, g","VAL, g","HIS, g","FENAL, g","TRİP, g","Kirlilik","YProtn=",{"$f":"IF(AnimalType=\"Laktasyondaki İnek\",MilkProtein/100*Yn,0)","v":0},"Mevcut laktasyon döneminde günlük süt proteini verimi, kg/gün",null,"S, g",null,{"$f":"IF(AND(CT94=0,CU94=0)=TRUE,CZ94*10*DMIreal,0)","v":11.64496131519755},{"$f":"IF(AnimalType=\"Laktasyondaki İnek\",IF(SonDogumTarihi<90,DB94*10*DMIreal,0),0)","v":0},{"$f":"IF(OR(AnimalType=\"Damızlık Düve\",AnimalType=\"Kurudaki İnek\",AnimalType=\"Laktasyondaki İnek\")=TRUE,IF(DaysPreg>190,DA94*10*DMIreal,0),0)","v":0},{"$f":"SUM(CS94:CU94)","v":11.64496131519755},{"$f":"DMIreal*DC94*10","v":31.053230173860133},"S","%",0.15,0.15,0.15,0.4]
[null,null,null,null,null,null,null,null,null,null,null,null,null,null,null,null,null,null,null,null,null,null,null,null,"DIGCj","REFATj","DIGFFj","DIGBFj","DIGFj","FEPB3j","FEPCj","FEFPj","FECB1j","FECB2j","FECCj","FEFCj","FEFAj","FEFFj","FEBCWj","FEBCPj","FEBCj","FEBFj","FEBASHj","FEBACTj","FEENGPj","FEENGFj","FEENGAj","FEPROTj","FECHOj","FEFATj","FEASHj","FEDMj","TDNAPPj","MEaj","MECj","NEgaj","NEmaj","MPaj","REBAAj","CHO,%","CHO,g","CC,%","CC,g","CB2j, %","CB2j, g","CB1j,%","CB1j,g","CAj, %","CAj, g","PAj, %","PAj, g","PB1j, %","PB1j, g","PCj, %","PCj, g","PB3j, %","PB3j, g","PB2j, %","PB2j, g",{"$f":"IF(ISERROR(CB5+CB65)=TRUE,0,CB5+CB65)","v":1.128771757462812},3.903776293070532,3.5620568777153045,3.2884514248825232,5.7683596624775948,3.3887542642088269,4.2249312715544267,1.3264825772329161,3.7731582455824544,3.717387224706902,"Kuru","TotalE=",{"$f":"IF(AnimalType=\"Laktasyondaki İnek\",EMilk*TotalY,0)","v":0},"Laktasyonda toplam enerji verimi, Mcal ",null,"Co, mg",null,{"$f":"IF(AND(CT95=0,CU95=0)=TRUE,CZ95*DMIreal,0)","v":0.77633075434650334},{"$f":"IF(AnimalType=\"Laktasyondaki İnek\",IF(SonDogumTarihi<90,DB95*DMIreal,0),0)","v":0},{"$f":"IF(OR(AnimalType=\"Damızlık Düve\",AnimalType=\"Kurudaki İnek\",AnimalType=\"Laktasyondaki İnek\")=TRUE,IF(DaysPreg>190,DA95*DMIreal,0),0)","v":0},{"$f":"SUM(CS95:CU95)","v":0.77633075434650334},{"$f":"DMIreal*DC95","v":77.633075434650337},"Co","mg/kg",0.1,0.1,0.1,10]
[null,null,null,null,null,null,null,null,null,null,null,null,null,null,null,null,null,null,null,null,null,null,null,null,{"$f":"IF(ISERROR(BY66+BZ66)=TRUE,0,BY66+BZ66)","v":314.32080694696447},{"$f":"IF(ISERROR(AQ5*Z36*10)=TRUE,0,AQ5*Z36*10)","v":53.4},{"$f":"IF(ISERROR(0.95*Z96)=TRUE,0,0.95*Z96)","v":50.73},{"$f":"IF(ISERROR(0.95*BP66)=TRUE,0,0.95*BP66)","v":5.2421885080566488},{"$f":"IF(ISERROR(AA96+AB96)=TRUE,0,AA96+AB96)","v":55.972188508056647},{"$f":"IF(ISERROR((1-0.8)*AM66)=TRUE,0,(1-0.8)*AM66)","v":1.8639639903339933},{"$f":"AN66","v":60.742499999999993},{"$f":"IF(ISERROR(AD96+AE96)=TRUE,0,AD96+AE96)","v":62.606463990333985},{"$f":"IF(ISERROR((1-stdig)*AS66)=TRUE,0,(1-stdig)*AS66)","v":28.090675294834899},{"$f":"IF(ISERROR((1-0.2)*AT66)=TRUE,0,(1-0.2)*AT66)","v":883.49980469344268},{"$f":"AU66","v":832.70870639999998},{"$f":"IF(ISERROR(AG96+AH96+AI96)=TRUE,0,AG96+AH96+AI96)","v":1744.2991863882776},{"$f":"IF(ISERROR(AR5*10*Z36*(1-0.5))=TRUE,0,AR5*10*Z36*(1-0.5))","v":102.795},{"$f":"IF(ISERROR(Z96*(1-0.95))=TRUE,0,Z96*(1-0.95))","v":2.6700000000000021},{"$f":"BM66","v":7.1850171437179959},{"$f":"AM96","v":7.1850171437179959},{"$f":"IF(ISERROR(BO66*(1-0.95))=TRUE,0,BO66*(1-0.95))","v":0.48283315205784971},{"$f":"IF(ISERROR(BP66*(1-0.95))=TRUE,0,BP66*(1-0.95))","v":0.27590465831877126},{"$f":"IF(ISERROR(BQ66*(1-0.5))=TRUE,0,BQ66*(1-0.5))","v":1.0116504138354938},{"$f":"IF(ISERROR(AN96+AO96+AP96+AQ96)=TRUE,0,AN96+AO96+AP96+AQ96)","v":8.955405367930112},{"$f":"IF(ISERROR(0.09*AZ96)=TRUE,0,0.09*AZ96)","v":197.65276375515245},{"$f":"IF(ISERROR(0.0119*Z36*1000)=TRUE,0,0.0119*Z36*1000)","v":31.773000000000003},{"$f":"IF(ISERROR(0.017*Z36*1000)=TRUE,0,0.017*Z36*1000)","v":45.39},{"$f":"IF(ISERROR(AF96+AN96+AS96)=TRUE,0,AF96+AN96+AS96)","v":267.44424488920441},{"$f":"IF(ISERROR(AJ96+AO96)=TRUE,0,AJ96+AO96)","v":1744.7820195403353},{"$f":"IF(ISERROR(AP96+AL96+AT96)=TRUE,0,AP96+AL96+AT96)","v":34.718904658318777},{"$f":"IF(ISERROR(AK96+AQ96+AU96)=TRUE,0,AK96+AQ96+AU96)","v":149.1966504138355},{"$f":"IF(ISERROR((AF96+AN96+AW96+AX96+AY96)/0.91)=TRUE,0,(AF96+AN96+AW96+AX96+AY96)/0.91)","v":2196.141819501694},{"$f":"IF(ISERROR((AI36-AV96)+(BI96-AW96)+(2.25*(AQ36-AX96)))=TRUE,0,(AI36-AV96)+(BI96-AW96)+(2.25*(AQ36-AX96)))","v":440.8162000892429},{"$f":"IF(ISERROR(0.001*BA96*4.409*0.82)=TRUE,0,0.001*BA96*4.409*0.82)","v":1.5937180734786469},{"$f":"IF(ISERROR(BB96/Z36)=TRUE,0,BB96/Z36)","v":0.59689815486091646},{"$f":"IF(ISERROR((1.42*BC96-0.174*BC96^2+0.0122*BC96^3-1.65))=TRUE,0,(1.42*BC96-0.174*BC96^2+0.0122*BC96^3-1.65))","v":-0.86180408795234431},{"$f":"IF(ISERROR((1.37*BC96-0.138*BC96^2+0.0105*BC96^3-1.12))=TRUE,0,(1.37*BC96-0.138*BC96^2+0.0105*BC96^3-1.12))","v":-0.34918418343664692},{"$f":"IF(ISERROR(BX66-BW66)=TRUE,0,BX66-BW66)","v":28.39743436796811},{"$f":"IF(B5=0,0,IF(C5<=0,0,BC96))","v":0.59689815486091646},{"$f":"IF(ISERROR(IF(A5=7,0,100-AI5-AQ5-AR5))=TRUE,0,IF(A5=7,0,100-AI5-AQ5-AR5))","v":86.8},{"$f":"IF(B5=0,0,IF(C5<=0,0,Z36*BH96*10))","v":2317.56},{"$f":"IF(ISERROR(AA5*0.01*AB5*2.4)=TRUE,0,AA5*0.01*AB5*2.4)","v":31.187591999999999},{"$f":"IF(B5=0,0,IF(C5<=0,0,Z36*BJ96*10))","v":832.70870639999998},{"$f":"IF(ISERROR(AA5-(AN5*0.01*AI5)-BJ96)=TRUE,0,AA5-(AN5*0.01*AI5)-BJ96)","v":45.087408000000011},{"$f":"IF(ISERROR(BL96*Z36*10)=TRUE,0,BL96*Z36*10)","v":1203.8337936000003},{"$f":"IF(ISERROR(AP5*AT36/100)=TRUE,0,AP5*AT36/100)","v":10.524999999999988},{"$f":"IF(ISERROR(BN96*Z36*10)=TRUE,0,BN96*Z36*10)","v":281.0174999999997},{"$f":"IF(ISERROR(AT36-BN96)=TRUE,0,AT36-BN96)","v":0},{"$f":"IF(ISERROR(BP96*Z36*10)=TRUE,0,BP96*Z36*10)","v":0},{"$f":"IF(ISERROR(AM5*0.0001*AL5*AI5)=TRUE,0,AM5*0.0001*AL5*AI5)","v":0.66500000000000004},{"$f":"IF(ISERROR(BR96*Z36*10)=TRUE,0,BR96*Z36*10)","v":17.755499999999998},{"$f":"IF(ISERROR(AL5*AI5*0.01-BR96)=TRUE,0,AL5*AI5*0.01-BR96)","v":3.5000000000000031E-2},{"$f":"IF(ISERROR(BT96*Z36*10)=TRUE,0,BT96*Z36*10)","v":0.93450000000000077},{"$f":"IF(ISERROR(AO5*AI5*0.01)=TRUE,0,AO5*AI5*0.01)","v":2.2749999999999999},{"$f":"IF(ISERROR(BV96*Z36*10)=TRUE,0,BV96*Z36*10)","v":60.742499999999993},{"$f":"IF(ISERROR((AN5-AO5)*AI5*0.01)=TRUE,0,(AN5-AO5)*AI5*0.01)","v":0.35000000000000003},{"$f":"IF(ISERROR(BX96*Z36*10)=TRUE,0,BX96*Z36*10)","v":9.3450000000000006},{"$f":"IF(ISERROR(AI5-BR96-BT96-BX96-BV96)=TRUE,0,AI5-BR96-BT96-BX96-BV96)","v":0.17499999999999982},{"$f":"IF(ISERROR(BZ96*Z36*10)=TRUE,0,BZ96*Z36*10)","v":4.672499999999995},{"$f":"IF(ISERROR(CB6+CB66)=TRUE,0,CB6+CB66)","v":1.010370058934362},3.1981140363204048,3.5485909079704072,2.5709096052371758,4.6251826025051628,2.9921000886217026,3.4888331013426619,1.5642105510945317,3.5586836240513007,0.94019662228559775,"Hayvanın aşağı kısımları biraz çamurlu","TotalFat=",{"$f":"IF(AnimalType=\"Laktasyondaki İnek\",MilkFat/100*TotalY,0)","v":0},"Laktasyonda toplam yağ verimi, kg ",null,"Cu, mg",null,77.633075434650337,0,0,{"$f":"SUM(CS96:CU96)","v":77.633075434650337},776.33075434650334,"Cu","mg/kg",10,10,10,100]
[null,null,null,null,null,null,null,null,null,null,null,null,null,null,null,null,null,null,null,null,null,null,null,null,115.02155099331077,10.120000000000001,9.6140000000000008,5.6210069532370834,15.235006953237084,0.3661805957626747,{"$f":"AN67","v":3.0800000000000005},3.4461805957626752,29.044508521195208,61.880423733245834,{"$f":"AU67","v":30.602880000000006},121.52781225444105,8.8000000000000007,0.50600000000000045,{"$f":"BM67","v":7.704231021432407},{"$f":"AM97","v":7.704231021432407},0.51772432464025819,0.29584247122300467,1.0847557278176829,9.6025535451133521,15.487768324811578,5.2359999999999998,7.48,26.638179942006659,122.0455365790813,6.037842471223005,17.364755727817684,172.08631472012866,272.78113791866031,0.98620747040836609,2.2413806145644686,0.79599619525894916,1.375641126492082,55.776365845977793,{"$f":"IF(B6=0,0,IF(C6=0,0,BC97))","v":2.2413806145644686},79.7,350.68000000000006,6.9552000000000005,30.602880000000003,19.924799999999998,87.669119999999992,47.538000000000011,209.16720000000004,5.2819999999999965,23.240799999999986,0.69020000000000004,3.03688,1.6898,7.4351199999999995,0.70000000000000007,3.0800000000000005,0.42,1.8479999999999999,10.5,46.2,{"$f":"IF(ISERROR(CB7+CB67)=TRUE,0,CB7+CB67)","v":3.6585367262446371},10.652933248803386,10.408146927474645,7.8207763730516753,20.112632018503831,9.3325146320499357,10.242398579235534,4.6215331708881333,9.6557304214286575,2.7090372686904263,"Üzeri ıslak ve keçeleşmiş","Total Prot=",{"$f":"IF(AnimalType=\"Laktasyondaki İnek\",MilkProtein/100*TotalY,0)","v":0},"Laktasyonda toplam protein verimi, kg ",null,"I, mg",null,3.8816537717325166,0,0,3.8816537717325166,388.16537717325167,"I","mg/kg",0.5,0.5,0.5,50]
[null,null,null,null,null,null,null,null,null,null,null,null,null,null,null,null,null,null,null,null,null,null,null,null,332.24887042532288,27.073800000000002,25.720110000000002,22.704036364071271,48.424146364071277,0.65111871897747819,3.2858799999999997,3.936998718977478,88.598389350225261,70.673879775296726,20.478899999999999,179.75116912552198,11.627849999999999,1.3536900000000014,31.118470893738039,31.118470893738039,2.0911612440591982,1.1949492823195418,4.3814807018383153,38.786062121955091,26.593820106572426,13.7683,19.669000000000004,61.64928971928795,181.84233036958119,16.316939282319545,35.67833070183832,295.48689007302698,887.38181652591174,3.2082224718314505,2.7728802695172434,1.2097351592979058,1.8416457719894184,163.62012498820746,2.7728802695172434,81.449999999999989,942.37649999999985,1.77,20.478900000000003,9.4620000000000015,109.47534000000003,63.19619999999999,731.18003399999998,7.0217999999999989,81.242225999999988,1.0649999999999999,12.322050000000001,3.1949999999999998,36.966149999999999,0.28399999999999997,3.2858799999999997,0.28399999999999997,3.2858799999999997,9.3719999999999981,108.43403999999998,{"$f":"IF(ISERROR(CB8+CB68)=TRUE,0,CB8+CB68)","v":4.3653314348191126},10.507025171009001,9.1441715732709739,9.1312603972511646,21.658643499663832,9.4544956534667648,11.264744122276728,5.3551351622621386,10.173507798626332,2.3139782437658143,"Islak ve kar veya çamurla kaplı","MPlact=",{"$f":"IF(AnimalType=\"Laktasyondaki İnek\",(YProtn/0.65)*1000,0)","v":0},"Süt verimi için MP ihtiyacı, g/gün",null,"Fe, mg",null,388.16537717325167,0,0,388.16537717325167,7763.3075434650327,"Fe","mg/kg",50,50,50,1000]
[null,null,null,null,null,null,null,null,null,null,null,null,null,null,null,null,null,null,null,null,null,null,null,null,629.42848654969339,75.679999999999993,71.895999999999987,24.239316765018838,96.135316765018828,3.4404553849574624,8.6239999999999988,12.064455384957462,182.64387574307926,85.616768432441958,8.4395520000000008,276.70019617552123,14.08,3.7840000000000029,33.222747759071879,33.222747759071879,2.232568649409632,1.2757535139483611,4.6777628844773202,41.408832806907185,39.451795157213986,20.943999999999999,29.92,84.738998301243328,278.93276482493087,26.003753513948361,48.677762884477318,438.35327952459983,1404.2597914674423,5.0769327648755604,2.8846208891338412,1.2911381842332821,1.9356593295821667,195.4467778741261,2.8846208891338412,84.300000000000011,1483.6800000000003,0.47952,8.4395520000000008,7.0504800000000003,124.088448,69.093000000000018,1216.0368000000003,7.6770000000000067,135.11520000000013,0.78693999999999997,13.850144,0.2910600000000001,5.1226560000000019,0.49,8.6239999999999988,0.98,17.247999999999998,7.2520000000000007,127.63520000000001,{"$f":"IF(ISERROR(CB9+CB69)=TRUE,0,CB9+CB69)","v":17.948073454856399},51.373108801944028,41.708136275755507,33.969655329639892,48.617494263358751,36.806556432785221,39.594685597194527,16.655617078351792,33.701409666591772,11.262253519793269,null,"Gebelik",null,null,null,"Mn, mg",null,155.26615086930067,0,0,155.26615086930067,7763.3075434650327,"Mn","mg/kg",20,40,40,1000]
[null,null,null,null,null,null,null,null,null,null,null,null,null,null,null,null,null,null,null,null,null,null,null,null,303.13265678874319,0,0,148.26669375750936,148.26669375750936,0,0,0,0,0,0,0,44.402999999999999,0,203.21641140009507,203.21641140009507,13.6561428460864,7.8035101977636572,28.612870725133384,253.28893516907848,31.668629851886884,9.2701000000000011,13.243000000000002,234.88504125198196,13.6561428460864,17.073610197763657,86.258870725133391,351.8736650209654,403.2371929569635,1.4578556826727467,1.8714450355234231,0.47801398044109034,1.0293823273627045,487.71938736022821,1.8714450355234231,80.099999999999994,623.97900000000004,0,0,0,0,0,0,80.099999999999994,623.97900000000004,8.5,66.215000000000003,0,0,0,0,0,0,0,0,{"$f":"IF(ISERROR(CB10+CB70)=TRUE,0,CB10+CB70)","v":1.8599754642904003},6.1468519795978844,6.430899725901142,4.9213229138182397,7.096201187668755,4.7944242277906586,6.317720639641248,2.6410001162466079,4.6333049632784977,1.6670156820735946,null,"NEm_req=",{"$f":"IF(DaysPreg>0,CBW*(km/0.13)*(0.05855-0.0000996*DaysPreg)*EXP((0.03233-0.0000275*DaysPreg)*DaysPreg),0)","v":0},"kcal/gün",null,"Se, mg",null,0.77633075434650334,0,0,0.77633075434650334,15.526615086930066,"Se","mg/kg",0.1,0.1,0.1,2]
[null,null,null,null,null,null,null,null,null,null,null,null,null,null,null,null,null,null,null,null,null,null,null,null,213.44601613275819,19.95,18.952499999999997,11.486796635873677,30.439296635873674,8.8549216566852493,11.703999999999999,20.55892165668525,44.812236944948189,217.33859802621726,37.655066399999995,299.80590137116548,22.324999999999999,0.99750000000000083,15.743964687326862,15.743964687326862,1.0579944269883661,0.60456824399335196,2.2167502279756222,19.623277586284203,38.647147313485867,11.305000000000001,16.150000000000002,74.950033657497983,300.86389579815386,12.907068243993354,40.691750227975625,429.41274792762079,525.43266699536298,1.8996387556016952,1.9996197427386266,0.59126900950379513,1.1516410263000174,89.452517147621052,1.9996197427386266,82,778.99999999999989,3.9636911999999995,37.655066399999995,34.700308800000002,329.65293359999998,39.002399999999994,370.52279999999996,4.3336000000000041,41.169200000000039,2.9030400000000003,27.578880000000005,0.12095999999999973,1.1491199999999973,1.232,11.703999999999999,4.7039999999999997,44.688000000000002,2.2399999999999984,21.279999999999983,{"$f":"IF(ISERROR(CB11+CB71)=TRUE,0,CB11+CB71)","v":0},0,0,0,0,0,0,0,0,0,null,"Ypn=",{"$f":"IF(DaysPreg>0,((CBW*(0.001669-(0.00000211*DaysPreg))*EXP((0.0278-0.0000176*DaysPreg)*DaysPreg)))*6.25,0)","v":0},"g/gün    Gebelik olarak alıkonulan net protein",null,"Zn, mg",null,232.899226303951,0,0,232.899226303951,3881.6537717325164,"Zn","mg/kg",30,30,30,500]
[null,null,null,null,null,null,null,null,null,null,null,null,null,null,null,null,null,null,null,null,null,null,null,null,0,0,0,0,0,0,0,0,0,0,0,0,0,0,0,0,0,0,0,0,2.8582417582417585E-2,0.11900000000000001,0.17,2.8582417582417585E-2,0,0.11900000000000001,0.17,0.31758241758241762,-0.29633241758241763,-1.071354295879121E-3,-0.1071354295879121,-1.8041444844083134,-1.2683724144282573,0,-0.1071354295879121,0,0,0,0,0,0,0,0,0,0,0,0,0,0,0,0,0,0,0,0,{"$f":"IF(ISERROR(CB12+CB72)=TRUE,0,CB12+CB72)","v":0},0,0,0,0,0,0,0,0,0,null,"MPpreg=",{"$f":"IF(DaysPreg>0,Ypn/0.65,0)","v":0},"g/gün",null,"VitA, IU",null,17079.276595623072,0,0,{"$f":"SUM(CS102:CU102)","v":17079.276595623072},null,"VitA","IU/kg",2200,2800,3900]
[null,null,null,null,null,null,null,null,null,null,null,null,null,null,null,null,null,null,null,null,null,null,null,null,0,0,0,0,0,0,0,0,0,0,0,0,0,0,0,0,0,0,0,0,0,0,0,0,0,0,0,0,0,0,0,-1.65,-1.1200000000000001,0,0,100,0,0,0,0,0,0,0,100,0,0,0,0,0,0,0,0,0,0,0,{"$f":"IF(ISERROR(CB13+CB73)=TRUE,0,CB13+CB73)","v":0},0,0,0,0,0,0,0,0,0,null,"Enerji ve protein depolarını hesaplamak için",null,"CS, vücut ağırlığı ve kompozisyonu kullanılır.",null,"VitD, IU",null,2134.909574452884,0,0,{"$f":"SUM(CS103:CU103)","v":2134.909574452884},null,"VitD","IU/kg",275,275,275]
[null,null,null,null,null,null,null,null,null,null,null,null,null,null,null,null,null,null,null,null,null,null,null,null,0,0,0,0,0,0,0,0,0,0,0,0,0,0,0,0,0,0,0,0,0,0,0,0,0,0,0,0,0,0,0,-1.65,-1.1200000000000001,0,0,100,0,0,0,0,0,0,0,100,0,0,0,0,0,0,0,0,0,0,0,{"$f":"IF(ISERROR(CB14+CB74)=TRUE,0,CB14+CB74)","v":0},0,0,0,0,0,0,0,0,0,null,"1) Mevcut CS için vücut kompozisyonu hesabı:"]
[null,null,null,null,null,null,null,null,null,null,null,null,null,null,null,null,null,null,null,null,null,null,null,null,0,0,0,0,0,0,0,0,0,0,0,0,0,0,0,0,0,0,0,0,0,0,0,0,0,0,0,0,0,0,0,-1.65,-1.1200000000000001,0,0,100,0,0,0,0,0,0,0,100,0,0,0,0,0,0,0,0,0,0,0,{"$f":"IF(ISERROR(CB15+CB75)=TRUE,0,CB15+CB75)","v":0},0,0,0,0,0,0,0,0,0,"Sıcaklık Stresi","AF=",{"$f":"0.037683*CS","v":0.188415},"Boş (empty) vücut yağı oranı",null,"Aminoasit İhtiyaçları"]
[null,null,null,null,null,null,null,null,null,null,null,null,null,null,null,null,null,null,null,null,null,null,null,null,0,0,0,0,0,0,0,0,0,0,0,0,0,0,0,0,0,0,0,0,0,0,0,0,0,0,0,0,0,0,0,-1.65,-1.1200000000000001,0,0,100,0,0,0,0,0,0,0,100,0,0,0,0,0,0,0,0,0,0,0,{"$f":"IF(ISERROR(CB16+CB76)=TRUE,0,CB16+CB76)","v":0},0,0,0,0,0,0,0,0,0,"Normal","AP=",{"$f":"0.200886-0.0066762*CS","v":0.16750500000000001},"Boş (empty) vücut proteini oranı",null,null,"Maint","Growth","Lact","Preg","Total"]
[null,null,null,null,null,null,null,null,null,null,null,null,null,null,null,null,null,null,null,null,null,null,null,null,0,0,0,0,0,0,0,0,0,0,0,0,0,0,0,0,0,0,0,0,0,0,0,0,0,0,0,0,0,0,0,-1.65,-1.1200000000000001,0,0,100,0,0,0,0,0,0,0,100,0,0,0,0,0,0,0,0,0,0,0,{"$f":"IF(ISERROR(CB17+CB77)=TRUE,0,CB17+CB77)","v":0},0,0,0,0,0,0,0,0,0,"Yüzeysel hızlı soluma","AW=",{"$f":"0.766637-0.034506*CS","v":0.59410699999999994},"Boş (empty) vücut suyu oranı",null,null,"MPAA","RPAA","LPAA","MPAA"]
[null,null,null,null,null,null,null,null,null,null,null,null,null,null,null,null,null,null,null,null,null,null,null,null,0,0,0,0,0,0,0,0,0,0,0,0,0,0,0,0,0,0,0,0,0,0,0,0,0,0,0,0,0,0,0,-1.65,-1.1200000000000001,0,0,100,0,0,0,0,0,0,0,100,0,0,0,0,0,0,0,0,0,0,0,{"$f":"IF(ISERROR(CB18+CB78)=TRUE,0,CB18+CB78)","v":0},0,0,0,0,0,0,0,0,0,"Ağzı açık soluma","AA=",{"$f":"0.078982-0.00438*CS","v":5.7081999999999994E-2},"Boş (empty) vücut külü oranı",null,"Metionin",{"$f":"VLOOKUP(CQ108,CQ121:CR130,2,FALSE)*0.01*MPmaint","v":5.3132219495649471},{"$f":"VLOOKUP(CQ108,CQ121:CS130,2,FALSE)*RPN/EAAGi","v":0.52279230169287594},{"$f":"VLOOKUP(CQ108,CQ121:CS130,3,FALSE)*0.01*YProtn/VLOOKUP(CQ108,CT121:CV130,3,FALSE)","v":0},{"$f":"VLOOKUP(CQ108,CQ121:CR130,2,FALSE)*0.01*Ypn/VLOOKUP(CQ108,CT121:CV130,2,FALSE)","v":0},{"$f":"SUM(CR108:CU108)","v":5.836014251257823}]
[null,null,null,null,null,null,null,null,null,null,null,null,null,null,null,null,null,null,null,null,null,null,null,null,0,0,0,0,0,0,0,0,0,0,0,0,0,0,0,0,0,0,0,0,0,0,0,0,0,0,0,0,0,0,0,-1.65,-1.1200000000000001,0,0,100,0,0,0,0,0,0,0,100,0,0,0,0,0,0,0,0,0,0,0,{"$f":"IF(ISERROR(CB19+CB79)=TRUE,0,CB19+CB79)","v":0},0,0,0,0,0,0,0,0,0,null,"G_EBW=",{"$f":"0.851*SBW","v":245.08799999999999},"Empty body weight, kg",null,"Lizin",{"$f":"VLOOKUP(CQ109,CQ121:CR130,2,FALSE)*0.01*MPmaint","v":17.002310238607834},{"$f":"VLOOKUP(CQ109,CQ121:CS130,2,FALSE)*RPN/EAAGi","v":1.672935365417203},{"$f":"VLOOKUP(CQ109,CQ121:CS130,3,FALSE)*0.01*YProtn/VLOOKUP(CQ109,CT121:CV130,3,FALSE)","v":0},{"$f":"VLOOKUP(CQ109,CQ121:CR130,2,FALSE)*0.01*Ypn/VLOOKUP(CQ109,CT121:CV130,2,FALSE)","v":0},{"$f":"SUM(CR109:CU109)","v":18.675245604025037}]
[null,null,null,null,null,null,null,null,null,null,null,null,null,null,null,null,null,null,null,null,null,null,null,null,0,0,0,0,0,0,0,0,0,0,0,0,0,0,0,0,0,0,0,0,0,0,0,0,0,0,0,0,0,0,0,-1.65,-1.1200000000000001,0,0,100,0,0,0,0,0,0,0,100,0,0,0,0,0,0,0,0,0,0,0,{"$f":"IF(ISERROR(CB20+CB80)=TRUE,0,CB20+CB80)","v":0},0,0,0,0,0,0,0,0,0,"Merada otluyor mu?","TA=",{"$f":"AA*G_EBW","v":13.990113215999997},"Toplam kül, kg",null,"Histidin",{"$f":"VLOOKUP(CQ110,CQ121:CR130,2,FALSE)*0.01*MPmaint","v":6.641527436956185},{"$f":"VLOOKUP(CQ110,CQ121:CS130,2,FALSE)*RPN/EAAGi","v":0.65349037711609492},{"$f":"VLOOKUP(CQ110,CQ121:CS130,3,FALSE)*0.01*YProtn/VLOOKUP(CQ110,CT121:CV130,3,FALSE)","v":0},{"$f":"VLOOKUP(CQ110,CQ121:CR130,2,FALSE)*0.01*Ypn/VLOOKUP(CQ110,CT121:CV130,2,FALSE)","v":0},7.2950178140722794]
[null,null,null,null,null,null,null,null,null,null,null,null,null,null,null,null,null,null,null,null,null,null,null,null,0,0,0,0,0,0,0,0,0,0,0,0,0,0,0,0,0,0,0,0,0,0,0,0,0,0,0,0,0,0,0,-1.65,-1.1200000000000001,0,0,100,0,0,0,0,0,0,0,100,0,0,0,0,0,0,0,0,0,0,0,{"$f":"IF(ISERROR(CB21+CB81)=TRUE,0,CB21+CB81)","v":0},0,0,0,0,0,0,0,0,0,"Otluyor","2) CS= 1 kül, yağ, protein kompozisyonu:",null,null,null,"Fenilalanin",{"$f":"VLOOKUP(CQ111,CQ121:CR130,2,FALSE)*0.01*MPmaint","v":9.298138411738659},{"$f":"VLOOKUP(CQ111,CQ121:CS130,2,FALSE)*RPN/EAAGi","v":0.91488652796253289},{"$f":"VLOOKUP(CQ111,CQ121:CS130,3,FALSE)*0.01*YProtn/VLOOKUP(CQ111,CT121:CV130,3,FALSE)","v":0},{"$f":"VLOOKUP(CQ111,CQ121:CR130,2,FALSE)*0.01*Ypn/VLOOKUP(CQ111,CT121:CV130,2,FALSE)","v":0},10.213024939701192]
[null,null,null,null,null,null,null,null,null,null,null,null,null,null,null,null,null,null,null,null,null,null,null,null,0,0,0,0,0,0,0,0,0,0,0,0,0,0,0,0,0,0,0,0,0,0,0,0,0,0,0,0,0,0,0,-1.65,-1.1200000000000001,0,0,100,0,0,0,0,0,0,0,100,0,0,0,0,0,0,0,0,0,0,0,{"$f":"IF(ISERROR(CB22+CB82)=TRUE,0,CB22+CB82)","v":0},0,0,0,0,0,0,0,0,0,"Otlamıyor","AA1=",7.4602000000000002E-2,"Empty vücut külü oranı @ CS=1",null,"Triptofan",{"$f":"VLOOKUP(CQ112,CQ121:CR130,2,FALSE)*0.01*MPmaint","v":1.5939665848694842},{"$f":"VLOOKUP(CQ112,CQ121:CS130,2,FALSE)*RPN/EAAGi","v":0.15683769050786275},{"$f":"VLOOKUP(CQ112,CQ121:CS130,3,FALSE)*0.01*YProtn/VLOOKUP(CQ112,CT121:CV130,3,FALSE)","v":0},{"$f":"VLOOKUP(CQ112,CQ121:CR130,2,FALSE)*0.01*Ypn/VLOOKUP(CQ112,CT121:CV130,2,FALSE)","v":0},1.750804275377347]
[null,null,null,null,null,null,null,null,null,null,null,null,null,null,null,null,null,null,null,null,null,null,null,null,0,0,0,0,0,0,0,0,0,0,0,0,0,0,0,0,0,0,0,0,0,0,0,0,0,0,0,0,0,0,0,-1.65,-1.1200000000000001,0,0,100,0,0,0,0,0,0,0,100,0,0,0,0,0,0,0,0,0,0,0,{"$f":"IF(ISERROR(CB23+CB83)=TRUE,0,CB23+CB83)","v":0},0,0,0,0,0,0,0,0,0,null,"AF1=",3.7683000000000001E-2,"Empty vücut yağı oranı @ CS=1",null,"Treonin",{"$f":"VLOOKUP(CQ113,CQ121:CR130,2,FALSE)*0.01*MPmaint","v":10.360782801651647},{"$f":"VLOOKUP(CQ113,CQ121:CS130,2,FALSE)*RPN/EAAGi","v":1.0194449883011081},{"$f":"VLOOKUP(CQ113,CQ121:CS130,3,FALSE)*0.01*YProtn/VLOOKUP(CQ113,CT121:CV130,3,FALSE)","v":0},{"$f":"VLOOKUP(CQ113,CQ121:CR130,2,FALSE)*0.01*Ypn/VLOOKUP(CQ113,CT121:CV130,2,FALSE)","v":0},11.380227789952755]
[null,null,null,null,null,null,null,null,null,null,null,null,null,null,null,null,null,null,null,null,null,null,null,null,0,0,0,0,0,0,0,0,0,0,0,0,0,0,0,0,0,0,0,0,0,0,0,0,0,0,0,0,0,0,0,-1.65,-1.1200000000000001,0,0,100,0,0,0,0,0,0,0,100,0,0,0,0,0,0,0,0,0,0,0,{"$f":"IF(ISERROR(CB24+CB84)=TRUE,0,CB24+CB84)","v":0},0,0,0,0,0,0,0,0,0,"Arazinin durumu","AP1=",0.19420799999999999,"Empty vücut proteini oranı @ CS=1",null,"Löysin",{"$f":"VLOOKUP(CQ114,CQ121:CR130,2,FALSE)*0.01*MPmaint","v":17.799293531042576},{"$f":"VLOOKUP(CQ114,CQ121:CS130,2,FALSE)*RPN/EAAGi","v":1.7513542106711346},{"$f":"VLOOKUP(CQ114,CQ121:CS130,3,FALSE)*0.01*YProtn/VLOOKUP(CQ114,CT121:CV130,3,FALSE)","v":0},{"$f":"VLOOKUP(CQ114,CQ121:CR130,2,FALSE)*0.01*Ypn/VLOOKUP(CQ114,CT121:CV130,2,FALSE)","v":0},19.550647741713711]
[null,null,null,null,null,null,null,null,null,null,null,null,null,null,null,null,null,null,null,null,null,null,null,null,0,0,0,0,0,0,0,0,0,0,0,0,0,0,0,0,0,0,0,0,0,0,0,0,0,0,0,0,0,0,0,-1.65,-1.1200000000000001,0,0,100,0,0,0,0,0,0,0,100,0,0,0,0,0,0,0,0,0,0,0,{"$f":"IF(ISERROR(CB25+CB85)=TRUE,0,CB25+CB85)","v":0},0,0,0,0,0,0,0,0,0,"Düz","3) Kül miktarının CS'nu, EBW'i ve CS 1'de vücut kütlesini değiştirmediği farzedilirse:",null,null,null,"İzolöysin",{"$f":"VLOOKUP(CQ115,CQ121:CR130,2,FALSE)*0.01*MPmaint","v":7.4385107293909254},{"$f":"VLOOKUP(CQ115,CQ121:CS130,2,FALSE)*RPN/EAAGi","v":0.73190922237002631},{"$f":"VLOOKUP(CQ115,CQ121:CS130,3,FALSE)*0.01*YProtn/VLOOKUP(CQ115,CT121:CV130,3,FALSE)","v":0},{"$f":"VLOOKUP(CQ115,CQ121:CR130,2,FALSE)*0.01*Ypn/VLOOKUP(CQ115,CT121:CV130,2,FALSE)","v":0},8.1704199517609517]
[null,null,null,null,null,null,null,null,null,null,null,null,null,null,null,null,null,null,null,null,null,null,null,null,0,0,0,0,0,0,0,0,0,0,0,0,0,0,0,0,0,0,0,0,0,0,0,0,0,0,0,0,0,0,0,-1.65,-1.1200000000000001,0,0,100,0,0,0,0,0,0,0,100,0,0,0,0,0,0,0,0,0,0,0,{"$f":"IF(ISERROR(CB26+CB86)=TRUE,0,CB26+CB86)","v":0},0,0,0,0,0,0,0,0,0,"Engebeli","EBW1=",{"$f":"TA/AAbir","v":187.53000209109672},"CS=1'de hesaplanan EBW, kg",null,"Valin",{"$f":"VLOOKUP(CQ116,CQ121:CR130,2,FALSE)*0.01*MPmaint","v":10.626443899129894},{"$f":"VLOOKUP(CQ116,CQ121:CS130,2,FALSE)*RPN/EAAGi","v":1.0455846033857519},{"$f":"VLOOKUP(CQ116,CQ121:CS130,3,FALSE)*0.01*YProtn/VLOOKUP(CQ116,CT121:CV130,3,FALSE)","v":0},{"$f":"VLOOKUP(CQ116,CQ121:CR130,2,FALSE)*0.01*Ypn/VLOOKUP(CQ116,CT121:CV130,2,FALSE)","v":0},11.672028502515646]
[null,null,null,null,null,null,null,null,null,null,null,null,null,null,null,null,null,null,null,null,null,null,null,null,0,0,0,0,0,0,0,0,0,0,0,0,0,0,0,0,0,0,0,0,0,0,0,0,0,0,0,0,0,0,0,-1.65,-1.1200000000000001,0,0,100,0,0,0,0,0,0,0,100,0,0,0,0,0,0,0,0,0,0,0,{"$f":"IF(ISERROR(CB27+CB87)=TRUE,0,CB27+CB87)","v":0},0,0,0,0,0,0,0,0,0,"Tepelik","TF=",{"$f":"AF*G_EBW","v":46.17825552},"Toplam vücut yağı, kg",null,"Arjinin",{"$f":"VLOOKUP(CQ117,CQ121:CR130,2,FALSE)*0.01*MPmaint","v":8.7668162167821642},{"$f":"VLOOKUP(CQ117,CQ121:CS130,2,FALSE)*RPN/EAAGi","v":0.86260729779324519},{"$f":"VLOOKUP(CQ117,CQ121:CS130,3,FALSE)*0.01*YProtn/VLOOKUP(CQ117,CT121:CV130,3,FALSE)","v":0},{"$f":"VLOOKUP(CQ117,CQ121:CR130,2,FALSE)*0.01*Ypn/VLOOKUP(CQ117,CT121:CV130,2,FALSE)","v":0},9.629423514575409]
[null,null,null,null,null,null,null,null,null,null,null,null,null,null,null,null,null,null,null,null,null,null,null,null,0,0,0,0,0,0,0,0,0,0,0,0,0,0,0,0,0,0,0,0,0,0,0,0,0,0,0,0,0,0,0,-1.65,-1.1200000000000001,0,0,100,0,0,0,0,0,0,0,100,0,0,0,0,0,0,0,0,0,0,0,{"$f":"IF(ISERROR(CB28+CB88)=TRUE,0,CB28+CB88)","v":0},0,0,0,0,0,0,0,0,0,null,"TP=",{"$f":"AP*G_EBW","v":41.053465440000004},"Toplam vücut proteini, kg"]
[null,null,null,null,null,null,null,null,null,null,null,null,null,null,null,null,null,null,null,null,null,null,null,null,0,0,0,0,0,0,0,0,0,0,0,0,0,0,0,0,0,0,0,0,0,0,0,0,0,0,0,0,0,0,0,-1.65,-1.1200000000000001,0,0,100,0,0,0,0,0,0,0,100,0,0,0,0,0,0,0,0,0,0,0,{"$f":"IF(ISERROR(CB29+CB89)=TRUE,0,CB29+CB89)","v":0},0,0,0,0,0,0,0,0,0,null,"TF1=",{"$f":"_EBW1*AFbir","v":7.0666930687987977},"Toplam vücut yağı @ CS=1, kg",null,"Tablo 10-5 Doku ve süt proteininin amino asit kompozisyonu, g/100 g protein",null,null,"Tablo 10-6 Emilen amino asitlerin fizyolojik fonksiyonlardaki kullanımları (g/g)"]
[null,null,null,null,null,null,null,null,null,null,null,null,null,null,null,null,null,null,null,null,null,null,null,null,0,0,0,0,0,0,0,0,0,0,0,0,0,0,0,0,0,0,0,0,0,0,0,0,0,0,0,0,0,0,0,-1.65,-1.1200000000000001,0,0,100,0,0,0,0,0,0,0,100,0,0,0,0,0,0,0,0,0,0,0,{"$f":"IF(ISERROR(CB30+CB90)=TRUE,0,CB30+CB90)","v":0},0,0,0,0,0,0,0,0,0,null,"TP1=",{"$f":"_EBW1*APbir","v":36.419826646107708},"Toplam vücut proteini @ CS=1, kg",null,"Amino a.","Doku","Süt","Amino a.","Gebelik","Laktasyon"]
[null,null,null,null,null,null,null,null,null,null,null,null,null,null,null,null,null,null,null,null,null,null,null,null,0,0,0,0,0,0,0,0,0,0,0,0,0,0,0,0,0,0,0,0,0,0,0,0,0,0,0,0,0,0,0,-1.65,-1.1200000000000001,0,0,100,0,0,0,0,0,0,0,100,0,0,0,0,0,0,0,0,0,0,0,{"$f":"IF(ISERROR(CB31+CB91)=TRUE,0,CB31+CB91)","v":0},0,0,0,0,0,0,0,0,0,null,"4) Mobilize edilebilir enerji ve protein hesabı:",null,null,null,"Metionin",2,2.71,"Metionin",0.85,0.98]
[null,null,null,null,null,null,null,null,null,null,null,null,null,null,null,null,null,null,null,null,null,null,null,null,0,0,0,0,0,0,0,0,0,0,0,0,0,0,0,0,0,0,0,0,0,0,0,0,0,0,0,0,0,0,0,-1.65,-1.1200000000000001,0,0,100,0,0,0,0,0,0,0,100,0,0,0,0,0,0,0,0,0,0,0,"DIGFAA","DIGFAA","DIGFAA","DIGFAA","DIGFAA","DIGFAA","DIGFAA","DIGFAA","DIGFAA","DIGFAA",null,"FM=",{"$f":"(TF-TFbir)","v":39.111562451201202},"Mobilize edilebilir yağ, kg",null,"Lizin",6.4,7.62,"Lizin",0.85,0.88]
[null,null,null,null,null,null,null,null,null,null,null,null,null,null,null,null,null,null,null,null,null,null,null,null,null,null,null,null,null,null,null,null,null,null,null,null,null,null,null,null,null,null,null,null,null,null,null,null,null,null,null,null,null,null,null,null,null,null,null,null,null,null,null,null,null,null,null,null,null,null,null,null,null,null,null,null,null,null,null,{"$f":"SUM(CB125:CB151)","v":2.8801288011174875},7.5876626439265662,10.362294874556435,8.8759311929531002,30.087577993286693,9.8194052301844348,12.913074801816705,6.2985003086613505,12.453059813169373,2.91090048285864,null,"PM=",{"$f":"(TP-TPbir)","v":4.6336387938922954},"Mobilize edilebilir protein, kg",null,"Histidin",2.5,2.74,"Histidin",0.85,0.9]
[null,null,null,null,null,null,null,null,null,null,null,null,null,null,null,null,null,null,null,null,null,null,null,"YEMLER","en az","en çok","KM %Yem","NDF %KM","Lignin %NDF","Effekt. %NDF","HS,%","TDN %KM","ME,Mcal/kg","NEm,Mcal/kg","NEg,Mcal/kg","HP,%","DIP %HP","UIP %HP","SoIP %HP","NPN %SoIP","NDFIP %HP","ADFIP %HP","Nişasta %NSC","HY %KM","HK %KM","A kd %/sa©","B1 kd %/sa©","B2 kd %/sa©","B1 kd %/sa(p)","B2 kd %/sa(p)","B3 kd %/sa(p)","MET %UIP","LİZ %UIP","ARJ %UIP","TRE %UIP","LÖY %UIP","İZOLÖY %UIP","VAL %UIP","HIS %UIP","FENAL %UIP","TRİP %UIP","Ca %KM","P %KM","Mg %KM","Cl %KM","K %KM","Na %KM","S %KM","Co mg/kg","Cu mg/kg","I mg/kg","Fe mg/kg","Mn mg/kg","Se mg/kg","Zn mg/kg","Vit A 1000 IU/kg","Vit D 1000 IU/kg","Vit E IU/kg","FİYAT,Krş","MET, g","LİZ, g","ARJ, g","TRE, g","LÖY, g","İZOLÖY, g","VAL, g","HIS, g","FENAL, g","TRİP, g","Yem Hammaddeleri","ER=",{"$f":"9.4*FM+5.7*PM","v":394.06042816647744},"Enerji depoları, Mcal",null,"Fenilalanin",3.5,4.75,"Fenilalanin",0.85,1]
[null,null,null,null,null,null,null,null,null,null,null,null,null,null,null,null,null,null,null,null,null,null,null,"SULU KABA YEMLER",null,null,null,null,null,null,null,null,null,null,null,null,null,null,null,null,null,null,null,null,null,null,null,null,null,null,null,null,null,null,null,null,null,null,null,null,null,null,null,null,null,null,null,null,null,null,null,null,null,null,null,null,null,null,null,{"$f":"IF(ISERROR(AY5*0.01*(AK66+AL66+0.8*AM66))=TRUE,0,AY5*0.01*(AK66+AL66+0.8*AM66))","v":7.4727734594400977E-2},{"$f":"IF(ISERROR(AZ5*0.01*(AK66+AL66+0.8*AM66))=TRUE,0,AZ5*0.01*(AK66+AL66+0.8*AM66))","v":0.31564102821217133},{"$f":"IF(ISERROR(BA5*0.01*(AK66+AL66+0.8*AM66))=TRUE,0,BA5*0.01*(AK66+AL66+0.8*AM66))","v":0.31564102821217133},{"$f":"IF(ISERROR(BB5*0.01*(AK66+AL66+0.8*AM66))=TRUE,0,BB5*0.01*(AK66+AL66+0.8*AM66))","v":0.31564102821217133},{"$f":"IF(ISERROR(BC5*0.01*(AK66+AL66+0.8*AM66))=TRUE,0,BC5*0.01*(AK66+AL66+0.8*AM66))","v":0.61232128794516627},{"$f":"IF(ISERROR(BD5*0.01*(AK66+AL66+0.8*AM66))=TRUE,0,BD5*0.01*(AK66+AL66+0.8*AM66))","v":0.31564102821217133},{"$f":"IF(ISERROR(BE5*0.01*(AK66+AL66+0.8*AM66))=TRUE,0,BE5*0.01*(AK66+AL66+0.8*AM66))","v":0.42717496044262054},{"$f":"IF(ISERROR(BF5*0.01*(AK66+AL66+0.8*AM66))=TRUE,0,BF5*0.01*(AK66+AL66+0.8*AM66))","v":0.11153393223044923},{"$f":"IF(ISERROR(BG5*0.01*(AK66+AL66+0.8*AM66))=TRUE,0,BG5*0.01*(AK66+AL66+0.8*AM66))","v":0.39036876280657234},{"$f":"IF(ISERROR(BH5*0.01*(AK66+AL66+0.8*AM66))=TRUE,0,BH5*0.01*(AK66+AL66+0.8*AM66))","v":0.50190269503702145},"Sulu Kaba Yemler","5) Sonraki CS'na ulaşmak için enerji ve protein kazancını veya kaybını hesap etmek için EBW, AF ve AP kullanılır:",null,null,null,"Triptofan",0.6,1.51,"Triptofan",0.85,0.85]
[null,null,null,null,null,null,null,null,null,null,null,null,null,null,null,null,null,null,null,null,null,null,null,"AK TAVUS OTU (RED TOP), YAŞ",0,5,29,64,12.5,41,0,63,2.2799999999999998,1.41,0.83,11.6,87,13,42,4.8,24,2.2000000000000002,39,3.9,8,350,25,9,200,14,2,0.67,2.83,2.83,2.83,5.49,2.83,3.83,1,3.5,4.5,0.62,0.37,0.25,0,2.35,0.05,0.16,0,0,0,200,0,0,0,254.4,0,0,15,0.30201831229577414,1.1446866898123782,1.8009240103562827,1.1745156589280104,2.5466482382470828,1.4616194866659684,1.8195671160535527,0.85385424093496631,2.0880278380942405,0.46980626357120414,"Kuru Kaba Yemler","EBWN=",{"$f":"TA/AAN","v":265.45696967857003},"Sonraki skorda EBW",null,"Treonin",3.9,3.72,"Treonin",0.85,0.83]
[null,null,null,null,null,null,null,null,null,null,null,null,null,null,null,null,null,null,null,null,null,null,null,"ARPA SİLAJI",0,5,39,56.8,5.44,65,30,60,2.17,1.31,0.74,11.9,86,14,70,100,7.7,6.1,100,2.92,8.3000000000000007,10,50,4,300,10,0.5,1.73,3.65,1.73,3.94,6.35,3.65,5.48,1.83,3.94,1.35,0.52,0.28999999999999998,0.19,0,2.57,0.12,0.24,0.72,7.7,0,375,44.8,0.15,24.5,0,0,0,15,0.87157078946371425,2.6680738452970845,3.8509199167121251,2.5079894145792596,12.130842416617414,3.539644634760799,4.0021107679456271,1.9832682250041662,4.3044924704126295,0.94271942533830322,"Enerji Kaynakları","AAN =",{"$f":"0.078982-0.00438*(CS+1)","v":5.2701999999999999E-2},"Sonraki skorda kül oranı",null,"Löysin",6.7,9.18,"Löysin",0.66,0.72]
[null,null,null,null,null,null,null,null,null,null,null,null,null,null,null,null,null,null,null,null,null,null,null,"BUĞDAY SİLAJI, HAMUR",0,5,35,60.7,14.81,61,0,57,2.06,1.21,0.64,12.5,81,19,45,100,27,8,70,2.5,7.5,10,50,6,300,14,0.2,0.98,3,4.33,2.82,13.64,3.98,4.5,2.23,4.84,1.06,0.44,0.28999999999999998,0.17,0,2.2400000000000002,0.04,0.21,0,9,0,386,79.5,0,28,59,0,0,15,1.2959764524263604,1.9092510236638345,2.1059617351928357,3.2399411310659003,12.415917262977542,3.112657729488312,4.3392068719632597,2.3836709749984841,4.2234946887109057,0.42813507803370832,"Protein Kaynakları","ERcs=",{"$f":"CN124-CN126","v":128.6034584879074},"1 CS değişimi için gerekli enerji, Mcal",{"$f":"NEmsup","v":11.767770000000001},"İzolöysin",2.8,5.79,"İzolöysin",0.66,0.62]
[null,null,null,null,null,null,null,null,null,null,null,null,null,null,null,null,null,null,null,null,null,null,null,"BUĞDAYGİL MERASI, İLKBAHAR",0,5,23,47.9,6,41,0,74,2.68,1.76,1.1399999999999999,21.3,94,6,41,2.44,14.5,2,47,4,10.4,350,40,9,200,12,2,0.67,2.83,2.83,2.83,5.49,2.83,3.83,1,3.5,4.5,0.55000000000000004,0.45,0.32,0,3.16,0,0.2,0,0,0,0,0,0,21,184,0,0,15,0,0,0,0,0,0,0,0,0,0,"Yan Ürünler","DaysToChange=",{"$f":"IF(NEmsup-NEmtotal>0,ERcs/(NEmsup-NEmtotal),IF(NEmsup-NEmtotal<0,(ERcs*0.8)/(NEmsup-NEmtotal),0))","v":22.787556720160644},"1 CS değişimi için gerekli zaman, gün",{"$f":"NEmtotal","v":6.1241874050248599},"Valin",4,5.89,"Valin",0.66,0.72]
[null,null,null,null,null,null,null,null,null,null,null,null,null,null,null,null,null,null,null,null,null,null,null,"BUĞDAYGİL MERASI, SONBAHAR",0,5,24,67,6.5,41,0,53,1.92,1.07,0.52,22,93,7,43,2.33,16.399999999999999,2,45,3.7,10,350,45,7,200,12,2,0.67,2.83,2.83,2.83,5.49,2.83,3.83,1,3.5,4.5,0,0,0,0,0,0,0,0,0,0,0,0,0,0,0,0,0,15,0.33583551233723785,1.5500100569410975,2.2888481840830206,1.6378439601677597,2.3818487874994867,1.3898423510571842,2.3250150854116463,0.96617293549328431,1.4466760531450242,0.56833702087840254,"Karma Yemler","AF, AP, TF ve TP sonraki CS için adım 1 ve 3' deki gibi, FM, PM ve ER sonraki ve mevcut skorlar arasındaki fark olarak hesaplanır.",null,null,null,"Arjinin",3.3,3.4,"Arjinin",0.66,0.85]
[null,null,null,null,null,null,null,null,null,null,null,null,null,null,null,null,null,null,null,null,null,null,null,"BUĞDAYGİL MERASI, YAZ",0,5,25,55,7,41,0,67,2.42,1.54,0.94,15,90,10,42,4.76,24,2.2000000000000002,45,3.7,9,350,40,9,200,10,2,0.67,2.83,2.83,2.83,5.49,2.83,3.83,1,3.5,4.5,0,0,0,0,0,0,0,0,0,0,0,0,0,0,0,0,0,15,0,0,0,0,0,0,0,0,0,0,"Vitamin-Mineral Kaynakları","Mobilizasyon esnasında 1 Mcal RE, 0,80 Mcal rasyon NEm'i yerine geçer; yeniden dolma esnasında 1 Mcal rasyon NEm'i 1 Mcal RE sağlar. "]
[null,null,null,null,null,null,null,null,null,null,null,null,null,null,null,null,null,null,null,null,null,null,null,"ÇAVDAR SİLAJI,KÖRPE",0,5,15,53,8,41,0,60,2.08,1.37,0.79,16.100000000000001,81,19,45,100,27,8,70,2.5,7.5,10,50,6,300,14,0.2,0.98,3,4.33,2.82,13.64,3.98,4.5,2.23,4.84,1.06,0.44,0.28999999999999998,0.17,0,2.2400000000000002,0.04,0.21,0,9,0,386,79.5,0,28,59,0,0,15,0,0,0,0,0,0,0,0,0,0,null,"KURU MADDE TÜKETİMİ TAHMİNİ"]
[null,null,null,null,null,null,null,null,null,null,null,null,null,null,null,null,null,null,null,null,null,null,null,"ÇAYIR (MEADOW) OTU, İLKBAHAR",0,5,15,53,8,41,0,44.8,1.62,0.78,0.25,20.3,94,6,60,5,2,1,38,3,10,250,30,9,135,40,6,0.67,2.83,2.83,2.83,5.49,2.83,3.83,1,3.5,4.5,0.26,0.15,0,0,0,0,0,0.23899999999999999,0,0,0,0,0,0,37.200000000000003,0,0,15,0,0,0,0,0,0,0,0,0,0,"Yem silmek için sütun listesi","BI =",{"$f":"IF(Breed=\"Siyah Alaca\",1.08,1)","v":1},"DMI için Tablo 10-1'teki ırk düzeltme faktörü, BE olarak önceden bulundu…."]
[null,null,null,null,null,null,null,null,null,null,null,null,null,null,null,null,null,null,null,null,null,null,null,"ÇAYIR (MEADOW) OTU, SONBAHAR",0,5,20,52,8,41,0,51.9,1.88,1.03,0.48,13.4,92,8,60,5,2,1,38,3,10,250,30,7,135,40,6,0.67,2.83,2.83,2.83,5.49,2.83,3.83,1,3.5,4.5,0.26,0.15,0,0,0,0,0,0.23899999999999999,0,0,0,0,0,0,37.200000000000003,0,0,15,0,0,0,0,0,0,0,0,0,0,"Y","BFAF =",{"$f":"IF(EBW<=350,1,IF(EBW<=400,0.97,IF(EBW<=450,0.9,IF(EBW<=500,0.82,0.73))))","v":1},"Vücut yağına göre düzeltme faktörü (Tablo 10-4)"]
[null,null,null,null,null,null,null,null,null,null,null,null,null,null,null,null,null,null,null,null,null,null,null,"ÇAYIR OTU (NAPIERGRASS) YAŞ, 30 GÜNLÜK",0,5,20,70,14.29,41,0,55,1.99,1.1399999999999999,0.57999999999999996,8.6999999999999993,83,17,46,2.2000000000000002,10,2.2000000000000002,8,3,9,250,30,3,135,11,0.09,0.67,2.83,2.83,2.83,5.49,2.83,3.83,1,3.5,4.5,0.6,0.41,0.26,0,1.31,0.01,0.1,0,0,0,0,0,0,0,0,0,0,15,0,0,0,0,0,0,0,0,0,0,"Z","DMI_ADTV =",0.94,"DMI için Tablo 10-4'teki yem katkısı düzeltme faktörü"]
[null,null,null,null,null,null,null,null,null,null,null,null,null,null,null,null,null,null,null,null,null,null,null,"ÇAYIR OTU (NAPIERGRASS) YAŞ, 60 GÜNLÜK",0,5,23,75,18.670000000000002,41,0,53,1.92,1.07,0.52,7.8,81,19,46,2.2000000000000002,10,2.2000000000000002,8,1,6,250,30,3,135,11,0.09,0.67,2.83,2.83,2.83,5.49,2.83,3.83,1,3.5,4.5,0.6,0.41,0.26,0,1.31,0.01,0.1,0,0,0,0,0,0,0,0,0,0,15,0,0,0,0,0,0,0,0,0,0,"AA","TEMP1 =",{"$f":"IF(Tc<-15,1.16,IF(Tc>35,IF(GeceSerinleme=\"Hayır\",0.65,0.9),  -0.000006*Tc^3+0.00015*Tc^2-0.0026*Tc+1.0573  ))","v":1.0172999999999999},"DMI için Tablo 10-4'teki çevre sıcaklığı düzeltme faktörü,  Bütün sığır tipleri için kullanılır.",{"$f":"IF(Tc<-15,1.16,IF(Tc<-5,1.07,IF(Tc<5,1.05,IF(Tc<15,1.03,IF(Tc<25,1,IF(Tc<35,0.9,IF(AND(GeceSerinleme=\"Evet\",Tc>=35)=TRUE,0.9,0.65)))))))","v":1}]
[null,null,null,null,null,null,null,null,null,null,null,null,null,null,null,null,null,null,null,null,null,null,null,"ÇAYIR SİLAJI, KÖRPE <%55 NDF",0,5,36.200000000000003,51,4.8,41,0,60.4,2.1,1.39,0.81,16.8,80.900000000000006,19.100000000000001,46,100,4.3,1.1000000000000001,48,3.2,10.25,250,30,3,135,11,0.09,0.67,2.83,2.83,2.83,5.49,2.83,3.83,1,3.5,4.5,0.6,0.41,0.26,0,1.31,0.01,0.1,0,0,0,0,0,0,0,0,0,0,15,0,0,0,0,0,0,0,0,0,0,"AB","MUD1 =",{"$f":"IF(CamurMiktar=\"Yok\",1,IF(CamurMiktar=\"Hafif (10-20 cm)\",0.85,0.7))","v":1},"DMI için Tablo 10-4'teki çamur düzeltme faktörü,  Bütün sığır tipleri için kullanılır."]
[null,null,null,null,null,null,null,null,null,null,null,null,null,null,null,null,null,null,null,null,null,null,null,"ÇAYIR SİLAJI, OLGUN >%60 NDF",0,5,38.700000000000003,66.599999999999994,7.4,41,0,53.2,1.75,1.1100000000000001,0.55000000000000004,12.7,67.099999999999994,32.9,46,100,3.2,1.4,48,3.2,10.25,250,30,3,135,11,0.09,0.67,2.83,2.83,2.83,5.49,2.83,3.83,1,3.5,4.5,0.6,0.41,0.26,0,1.31,0.01,0.1,0,0,0,0,0,0,0,0,0,0,15,0,0,0,0,0,0,0,0,0,0,"AC","DMI_NEma =",{"$f":"IF(NEma<1,0.95,NEma)","v":1.4216519999999999}]
[null,null,null,null,null,null,null,null,null,null,null,null,null,null,null,null,null,null,null,null,null,null,null,"KARIŞIK MERA, İLKBAHAR",0,5,21,41.5,7,41,0,79,2.86,1.91,1.27,26,94,6,43,2.33,12.4,2.1,50,3.2,10.25,350,45,9,200,14,2,0.7,4.43,4.6100000000000003,3.92,7.38,4.42,5.49,1.81,4.91,3.17,0,0,0,0,0,0,0,0,0,0,0,0,0,0,0,0,0,0,0,0,0,0,0,0,0,0,0,0,"AD","DMIcalf =",{"$f":"((SBW^0.75*(0.2435*DMI_NEma-0.0466*DMI_NEma^2-0.1128))/DMI_NEma)*(BFAF*BI*DMI_ADTV*TEMP1*_MUD1)","v":6.5453624010170284},"kg/gün Buzağılar için"]
[null,null,null,null,null,null,null,null,null,null,null,null,null,null,null,null,null,null,null,null,null,null,null,"KARIŞIK MERA, YAZ",0,5,22,46.5,7.8,41,0,67,2.42,1.54,0.94,19.5,92,8,44,3.41,12.5,2.6,48,3.2,9.4,350,45,9,200,14,2,0.7,4.43,4.6100000000000003,3.92,7.38,4.42,5.49,1.81,4.91,3.17,0,0,0,0,0,0,0,0,0,0,0,0,0,0,0,0,0,0,0,0,0,0,0,0,0,0,0,0,"AE","DMIyearling =",{"$f":"((SBW^0.75*(0.2435*DMI_NEma-0.0466*DMI_NEma^2-0.0869))/DMI_NEma)*(BFAF*BI*DMI_ADTV*TEMP1*_MUD1)","v":7.7633075434650332},"kg/gün Bir yaşındakiler için"]
[null,null,null,null,null,null,null,null,null,null,null,null,null,null,null,null,null,null,null,null,null,null,null,"MERA (LEG PASTURE), İLKBAHAR",0,5,20,33,8,41,0,79,2.86,1.91,1.27,28,95,5,46,2.17,10,2.15,60,2.7,10,350,45,9,200,20,2,0.73,6.02,6.39,5,9.26,6.01,7.14,2.62,6.32,1.84,1.71,0.3,0.36,0,2.27,0.21,0.36,0.17,10.7,0,111,41,0.55000000000000004,30,253,2,26,0,0,0,0,0,0,0,0,0,0,0,"AF","DMInonpreg =",{"$f":"((SBW^0.75*(0.04997*DMI_NEma^2+0.0384)/DMI_NEma)*TEMP1*_MUD1+0.2*Yn)","v":6.9733981724437397},"kg/gün Gebe olmayan İnekler için"]
[null,null,null,null,null,null,null,null,null,null,null,null,null,null,null,null,null,null,null,null,null,null,null,"MERA (LEG PASTURE), YAZ",0,5,21,38,8.5,41,0,66,2.39,1.51,0.91,22.2,94,6,46,2.17,12,3,60,2.9,10.199999999999999,350,45,9,200,18,2,0.73,6.02,6.39,5,9.26,6.01,7.14,2.62,6.32,1.84,1.71,0.3,0.36,0,2.27,0.21,0.36,0.17,10.7,0,111,41,0.55000000000000004,30,253,2,26,0,0,0,0,0,0,0,0,0,0,0,"AG","DMIpreg =",{"$f":"((SBW^0.75*(0.04997*DMI_NEma^2+0.04631)/DMI_NEma)*TEMP1*_MUD1+0.2*Yn)","v":7.3691077788170123},"kg/gün  Gebe İnekler için (gebeliğin son 2/3'si)"]
[null,null,null,null,null,null,null,null,null,null,null,null,null,null,null,null,null,null,null,null,null,null,null,"Mısır Silajı, %23-26 KM",0,5,25.02,55.777718581658291,8.2874362015165861,81,0,60.139269596562848,2.0084464224419816,1.1946198761570623,0.61671475330903658,7.2618468449339213,69.2,30.8,55,100,25.411040870971362,11.412337725345525,80,3.3231476295976372,6.6295393957773641,10,25,6,300,10,0.2,0.8,2.13,1.87,2.13,6.4,2.4,3.2,1.07,2.94,0.11,0.31,0.27,0.22,0.18,1.22,0.03,0.12,9.7000000000000003E-2,9.1999999999999993,0,180,41.1,0,21.2,58.1,0,0,15,0,0,0,0,0,0,0,0,0,0,"AH","DMIreal =",{"$f":"IF(AnimalType=\"Buzağı\",DMIcalf,IF(OR(AnimalType=\"Besi Sığırı\",AnimalType=\"Kastre Erkek\")=TRUE,DMIyearling,IF(AnimalType=\"Damızlık Düve\",IF(DaysPreg>95,DMIpreg,DMIyearling),IF(OR(AnimalType=\"Laktasyondaki İnek\",AnimalType=\"Kurudaki İnek\")=TRUE,IF(DaysPreg>95,DMIpreg,DMInonpreg),DMInonpreg))))","v":7.7633075434650332}]
[null,null,null,null,null,null,null,null,null,null,null,null,null,null,null,null,null,null,null,null,null,null,null,"Mısır Silajı, %26-29 KM",0,5,27.727600000000002,52.964835644842282,9.2579484570698263,81,0,62.171305126560483,2.0808646503432655,1.2641769603142583,0.68048301521290244,7.2009886262202247,70,30,55,100,22.527906267526348,8.8287601724076996,80,3.5537612948104975,5.7467708065164542,10,25,5,300,10,0.2,0.8,2.13,1.87,2.13,6.4,2.4,3.2,1.07,2.94,0.11,0.31,0.27,0.22,0.18,1.22,0.03,0.12,9.7000000000000003E-2,9.1999999999999993,0,180,41.1,0,21.2,58.1,0,0,15,0,0,0,0,0,0,0,0,0,0,"AI","Merada otlayan hayvanlar için","ot miktarına oranla","DMI düzenlemesi"]
[null,null,null,null,null,null,null,null,null,null,null,null,null,null,null,null,null,null,null,null,null,null,null,"Mısır Silajı, %29-33 KM",0,5,31.285555555555561,52.915019994990274,9.4690083791512318,81,0,60.987786623828093,2.0359119636014555,1.2204560890920331,0.64016739522299126,7.2203347655015557,70.2,29.8,50,100,22.050932141849863,10.16648053331501,80,3.4309036702810118,5.8007300921157849,10,30,6,300,10,0.2,0.8,2.13,1.87,2.13,6.4,2.4,3.2,1.07,2.94,0.11,0.31,0.27,0.22,0.18,1.22,0.03,0.12,9.7000000000000003E-2,9.1999999999999993,0,180,41.1,0,21.2,58.1,0,0,15,0,0,0,0,0,0,0,0,0,0,"AJ","pI=",{"$f":"IF(Otlama=\"Otluyor\",GRAZE*DMIreal,0)","v":0},"Otlama durumlarında DMIreal tahmini için düzeltme, kg"]
[null,null,null,null,null,null,null,null,null,null,null,null,null,null,null,null,null,null,null,null,null,null,null,"Mısır Silajı, %33-40 KM",0,5,35.48486914846719,51.575718182388016,9.5935781131702473,81,0,60.872655579677222,2.0322946507197939,1.2158955570726075,0.63552438635808606,7.2858330899482455,66.2,33.799999999999997,50,100,21.477501183362623,9.2779975252107505,80,3.4973308916825765,5.8315585921067816,10,30,6,300,10,0.2,0.8,2.13,1.87,2.13,6.4,2.4,3.2,1.07,2.94,0.11,0.31,0.27,0.22,0.18,1.22,0.03,0.12,9.7000000000000003E-2,9.1999999999999993,0,180,41.1,0,21.2,58.1,0,0,15,0,0,0,0,0,0,0,0,0,0,"AK","FA=",{"$f":"IF(Otlama=\"Otluyor\",1000*GU*IPM/(SBW*GrazeN*DOP),0)","v":0},"Günlük ot toleransı, g/kg SBW/gün"]
[null,null,null,null,null,null,null,null,null,null,null,null,null,null,null,null,null,null,null,null,null,null,null,"OTLAK (RANGE), AĞUSTOS",0,5,20,63.7,8,41,0,59.4,2.15,1.29,0.72,9.6999999999999993,66,34,42,5,24,2,38,3,10,250,30,7,135,10,0.75,0.67,2.83,2.83,2.83,5.49,2.83,3.83,1,3.5,4.5,0.26,0.15,0,0,0,0,0,0.23899999999999999,0,0,0,0,0,0,37.200000000000003,0,0,0,0,0,0,0,0,0,0,0,0,0,"AL","GRAZE=",{"$f":"IF(Otlama=\"Otluyor\",IF(OR(FA>DMIreal*1000*4,IPM>1150)=TRUE,1,((0.17*IPM)-(0.000074*IPM^2)+2.4)/100),0)","v":0},"Otlama varsa ot varlığı faktörü, %"]
[null,null,null,null,null,null,null,null,null,null,null,null,null,null,null,null,null,null,null,null,null,null,null,"OTLAK (RANGE), EYLÜL",0,5,20,66.599999999999994,9,41,0,57.3,2.0699999999999998,1.22,0.65,6.9,67,33,42,5,24,2,38,3,10,250,30,7,135,12,0.75,0.67,2.83,2.83,2.83,5.49,2.83,3.83,1,3.5,4.5,0.26,0.15,0,0,0,0,0,0.23899999999999999,0,0,0,0,0,0,37.200000000000003,0,0,0,0,0,0,0,0,0,0,0,0,0,"AM","IPM =",{"$f":"pAVAIL*0.15*1000","v":0},"Başlangıç mera miktarı (kg KM/ha)"]
[null,null,null,null,null,null,null,null,null,null,null,null,null,null,null,null,null,null,null,null,null,null,null,"OTLAK (RANGE), HAZİRAN",0,5,20,65.599999999999994,5,41,0,64.900000000000006,2.35,1.47,0.88,11,72,28,42,5,24,2,38,3,10,250,30,7,135,12,3,0.67,2.83,2.83,2.83,5.49,2.83,3.83,1,3.5,4.5,0.26,0.15,0,0,0,0,0,0.23899999999999999,0,0,0,0,0,0,37.200000000000003,0,0,0,0,0,0,0,0,0,0,0,0,0,"AN","BESİN MADDELERİNİN SAĞLANMASI                                                               Besin madde miktarları DMIreal yerine TotalDMFed'den hesaplanmalıdır."]
[null,null,null,null,null,null,null,null,null,null,null,null,null,null,null,null,null,null,null,null,null,null,null,"OTLAK (RANGE), KIŞ",0,5,80,66.099999999999994,11,41,0,50.5,1.83,0.99,0.44,4.7,63,37,42,5,24,2,38,3,10,250,30,7,135,10,0.2,0.67,2.83,2.83,2.83,5.49,2.83,3.83,1,3.5,4.5,0.26,0.15,0,0,0,0,0,0.23899999999999999,0,0,0,0,0,0,37.200000000000003,0,0,0,0,0,0,0,0,0,0,0,0,0,"AO","SEVİYE BİR"]
[null,null,null,null,null,null,null,null,null,null,null,null,null,null,null,null,null,null,null,null,null,null,null,"OTLAK (RANGE), TEMMUZ",0,5,20,67.7,5.5,41,0,62.3,2.25,1.39,0.81,10.5,70,30,42,5,24,2,38,3,10,250,30,7,135,12,2,0.67,2.83,2.83,2.83,5.49,2.83,3.83,1,3.5,4.5,0.26,0.15,0,0,0,0,0,0.23899999999999999,0,0,0,0,0,0,37.200000000000003,0,0,0,0,0,0,0,0,0,0,0,0,0,"AP","NDF =",{"$f":"AA33/TotalDMFed*100","v":37.966211691990736}]
[null,null,null,null,null,null,null,null,null,null,null,null,null,null,null,null,null,null,null,null,null,null,null,"PARLAK YALANCI DARI (BAHIAGRASS), YAŞ",0,5,30,68,10.29,41,30.4,54,1.95,1.1100000000000001,0.55000000000000004,8.9,83,17,41,2.4,14.5,2,5,2.1,10,250,30,3,135,11,0.09,0.67,2.83,2.83,2.83,5.49,2.83,3.83,1,3.5,4.5,0.46,0.22,0.25,0,1.45,0,0,0,0,0,0,0,0,0,304.2,0,0,15,"AAA","AAA","AAA","AAA","AAA","AAA","AAA","AAA","AAA","AAA","AQ","eNDF =",{"$f":"AC33/TotalDMFed*100","v":28.923595158382696}]
[null,null,null,null,null,null,null,null,null,null,null,null,null,null,null,null,null,null,null,null,null,null,null,"SORGUM SİLAJI",0,5,30,60.8,9.375,81,0,60,2.17,1.31,0.74,9.39,73,27,45,100,50,5,56,2.64,5.9,10,20,5,300,8,0.2,0.75,3.61,7.07,2.2599999999999998,4.29,3.01,2.78,1.35,2.78,0.75,0.49,0.22,0.28000000000000003,0.13,1.72,0.01,0.12,0.3,9.1999999999999993,0,383,68.5,0.03,32,0,0,0,15,{"$f":"SUM(CB155:CB181)","v":22.059763816791676},66.271620527705792,60.172093273471482,48.881214677139184,83.833495518552795,50.468780935046148,56.997609016948424,25.549701126632829,49.381013798571907,14.576126257317194,"AR","MPfeed=",{"$f":"UIPintake*0.8","v":205.76731519999998}]
[null,null,null,null,null,null,null,null,null,null,null,null,null,null,null,null,null,null,null,null,null,null,null,"SORGUM-SUDAN OTU SİLAJI",0,5,28,68,7.04,41,0,55,1.99,1.1399999999999999,0.57999999999999996,10.8,72,28,50,90,40,11,56,2.8,9.8000000000000007,10,20,5,175,12,1.5,0.67,2.83,2.83,2.83,5.49,2.83,3.83,1,3.5,4.5,0.5,0.21,0.42,0,2.61,0.02,0.06,0.27,36.6,0,120,98.8,0,0,175.4,0,0,15,"MET, g","LİZ, g","ARJ, g","TRE, g","LÖY, g","İZOLÖY, g","VAL, g","HIS, g","FENAL, g","TRİP, g","AS","MCP=",{"$f":"0.13*TDN*eNDFadj","v":684.93230000000005},"Mikrobiyel ham protein, g/gün"]
[null,null,null,null,null,null,null,null,null,null,null,null,null,null,null,null,null,null,null,null,null,null,null,"SORGUM-SUDAN OTU, YAŞ",0,5,18,55,5.45,41,0,65,2.35,1.47,0.88,16.8,88,12,45,11.11,30,5,90,3.9,9,300,20,9,200,14,2,0.67,2.83,2.83,2.83,5.49,2.83,3.83,1,3.5,4.5,0.49,0.44,0.35,0,2.14,0,0.11,0.13300000000000001,35.9,0,210,81.400000000000006,0,0,304.60000000000002,0,0,15,{"$f":"IF(ISERROR(CB35+CB125)=TRUE,0,CB35+CB125)","v":0.53686803727834242},1.7296524020958726,1.515826291898825,1.2795829282133775,1.9073487779288976,1.2951025652438082,1.4894078949698888,0.575398639028883,1.2801612858846088,0.78298056569926944,"AT","eNDFadj=",{"$f":"IF(eNDF>20,1,1-((20-eNDF)*0.025))","v":1}]
[null,null,null,null,null,null,null,null,null,null,null,null,null,null,null,null,null,null,null,null,null,null,null,"ŞEYTAN OTU (PANGOLAGRASS), YAŞ",0,5,21,70,11.4,41,0,55,1.99,1.1399999999999999,0.57999999999999996,9.1,84,16,42,4.8,24,2.2000000000000002,5,2.2999999999999998,7.6,250,30,3,135,11,0.09,0.67,2.83,2.83,2.83,5.49,2.83,3.83,1,3.5,4.5,0.38,0.22,0.18,0,1.43,0,0,0,0,0,0,0,0,0,0,0,0,15,{"$f":"IF(ISERROR(CB36+CB126)=TRUE,0,CB36+CB126)","v":0.7975544515943066},2.6608793548302758,3.0878387601763517,2.2081152927633818,3.9352588375500597,2.5118602595076345,2.9585606302621201,1.3512393956786426,3.0421198077884299,0.77119578112963993,"AU","TDN=",{"$f":"TDN","v":5268.71},"Toplam sindirilebilir besin maddeleri, g/gün"]
[null,null,null,null,null,null,null,null,null,null,null,null,null,null,null,null,null,null,null,null,null,null,null,"YONCA SİLAJI, ÇİÇ.BAŞI",0,5,35,43,23.26,82,0,63,2.2799999999999998,1.41,0.83,19,92,8,50,100,27,15,89,3.2,9.5,10,25,5.5,150,11,1.75,1.22,3.21,2.44,3.3,6.4,3.13,0,0.63,4.18,1.84,1.32,0.31,0.26,0,2.85,0.02,0.28000000000000003,0.65,12.1,0.16,252,32.4,0.18,19.5,155,0,0,15,{"$f":"IF(ISERROR(CB37+CB127)=TRUE,0,CB37+CB127)","v":2.8731108373489449},8.7921889171847312,9.048949294802128,6.6828434696831547,17.739635610504759,7.781714586995168,8.6026655048758585,3.9922767059038939,8.1582039058931493,2.1600740067013353,"AV","MPbact=",{"$f":"MCP*0.64","v":438.35667200000006}]
[null,null,null,null,null,null,null,null,null,null,null,null,null,null,null,null,null,null,null,null,null,null,null,"YONCA SİLAJI, ÇİÇ.ORTASI",0,5,38,47,23.4,82,0,58,2.1,1.24,0.68,17,91,9,45,100,32,18,89,3.1,9,10,25,5.5,150,11,1.75,1.22,3.21,2.44,3.3,6.4,3.13,0,0.63,4.18,1.84,1.74,0.27,0.33,0.41,2.35,0.16,0.31,0,11.1,0,280,49.7,0,40.700000000000003,155,0,0,15,{"$f":"IF(ISERROR(CB38+CB128)=TRUE,0,CB38+CB128)","v":3.4328635882898637},8.4474877826491781,7.6554895208682012,7.6971049704229832,18.403985319072657,7.64158270400499,9.250857900664446,4.528531570324164,8.3377997711943657,1.7278089703685999,"AW","MPtotal=",{"$f":"MPbact+MPfeed","v":644.1239872000001}]
[null,null,null,null,null,null,null,null,null,null,null,null,null,null,null,null,null,null,null,null,null,null,null,"YONCA SİLAJI, TAM ÇİÇ.",0,5,40,51,23.53,82,0,55,1.99,1.1399999999999999,0.57999999999999996,16,91,9,40,100,37,21,89,2.7,8,10,25,5.5,150,11,1.75,1.22,3.21,2.44,3.3,6.4,3.13,0,0.63,4.18,1.84,1.74,0.27,0.33,0.41,2.35,0.16,0.31,0,11.1,0,280,49.7,0,40.700000000000003,155,0,0,15,{"$f":"IF(ISERROR(CB39+CB129)=TRUE,0,CB39+CB129)","v":13.070879581254117},39.992989763538709,33.94526936027188,27.263513753436754,36.627725990753142,27.70246120206096,30.043514261390058,13.119651519990139,25.166320387787774,7.9498260139717187,"AX","SEVİYE İKİ","YAŞAMA PAYI AMİNO ASİT İHTİYAÇLARI"]
[null,null,null,null,null,null,null,null,null,null,null,null,null,null,null,null,null,null,null,null,null,null,null,"YULAF SİLAJI, HAMUR",0,5,36.4,58.1,16.07,61,0,59,2.13,1.28,0.71,12.7,85,15,50,100,30,10,53,3.12,10.1,10,50,5,300,12,0.2,2.12,2.02,4.38,2.16,7.7,3.84,0,1.8,5.86,1.28,0.57999999999999996,0.31,0.21,0,2.88,0.09,0.24,0,8,0,367,66.3,7.0000000000000007E-2,29.8,0,0,0,15,{"$f":"IF(ISERROR(CB40+CB130)=TRUE,0,CB40+CB130)","v":1.3484873210261015},4.6484223074070226,4.9187200454540996,3.750054262619531,5.2195409827432799,3.5360596172335814,4.6526028247860491,1.9826032957071065,3.3964086400235827,1.1842409194466292,"AY","RPN =",{"$f":"PB*0.01*EBG","v":0.14153735824283012},"Büyüme için net protein ihtiyacı, g/gün"]
[null,null,null,null,null,null,null,null,null,null,null,null,null,null,null,null,null,null,null,null,null,null,null,"AGRİTOM",0,3,11.9,41.93,19.23,65,0,77,2.69,1.76,1.01,20.5,86,14,70,100,7.7,6.1,100,2.94,3.36,10,50,4,300,10,0.5,1.73,3.65,1.73,3.94,6.35,3.65,5.48,1.83,3.94,1.35,0.16,0.3,0.25,0.72,0.6,0.21,0.22,0.72,6,0,121,21,0.12,21,0,0,0,15,{"$f":"IF(ISERROR(CB41+CB131)=TRUE,0,CB41+CB131)","v":0},0,0,0,0,0,0,0,0,0,"AZ","PB =",{"$f":"100*aaRP","v":12.851703989680502},"EBG'de protein içeriği, g/100 g     (Tablo 3-1)???"]
[null,null,null,null,null,null,null,null,null,null,null,null,null,null,null,null,null,null,null,null,null,null,null,null,null,null,null,null,null,null,null,null,null,null,null,null,null,null,null,null,null,null,null,null,null,null,null,null,null,null,null,null,null,null,null,null,null,null,null,null,null,null,null,null,null,null,null,null,null,null,null,null,null,null,null,null,null,null,null,{"$f":"IF(ISERROR(CB42+CB132)=TRUE,0,CB42+CB132)","v":0},0,0,0,0,0,0,0,0,0,"BA","aaRP =",{"$f":"0.248-0.0264*aaRE","v":0.12851703989680502},"Ağırlık artışında alıkonulan protein oranı, Eq. 3-3"]
[null,null,null,null,null,null,null,null,null,null,null,null,null,null,null,null,null,null,null,null,null,null,null,null,null,null,null,null,null,null,null,null,null,null,null,null,null,null,null,null,null,null,null,null,null,null,null,null,null,null,null,null,null,null,null,null,null,null,null,null,null,null,null,null,null,null,null,null,null,null,null,null,null,null,null,null,null,null,null,{"$f":"IF(ISERROR(CB43+CB133)=TRUE,0,CB43+CB133)","v":0},0,0,0,0,0,0,0,0,0,"BB","aaRE =",{"$f":"0.0635*EBW^0.75*EBG^1.097","v":4.5258697008785971},"Eq. 3-1"]
[null,null,null,null,null,null,null,null,null,null,null,null,null,null,null,null,null,null,null,null,null,null,null,null,null,null,null,null,null,null,null,null,null,null,null,null,null,null,null,null,null,null,null,null,null,null,null,null,null,null,null,null,null,null,null,null,null,null,null,null,null,null,null,null,null,null,null,null,null,null,null,null,null,null,null,null,null,null,null,{"$f":"IF(ISERROR(CB44+CB134)=TRUE,0,CB44+CB134)","v":0},0,0,0,0,0,0,0,0,0,"BC","EAAGi =",{"$f":"IF(SBW<300,0.834-(0.00114*EBW),0.492)","v":0.54146687999999998},"Büyüme için i. Amino asitin kullanım etkinliği, g/g (Tablo 10-6)"]
[null,null,null,null,null,null,null,null,null,null,null,null,null,null,null,null,null,null,null,null,null,null,null,null,null,null,null,null,null,null,null,null,null,null,null,null,null,null,null,null,null,null,null,null,null,null,null,null,null,null,null,null,null,null,null,null,null,null,null,null,null,null,null,null,null,null,null,null,null,null,null,null,null,null,null,null,null,null,null,{"$f":"IF(ISERROR(CB45+CB135)=TRUE,0,CB45+CB135)","v":0},0,0,0,0,0,0,0,0,0,"BD","KARBONHİDRAT TÜKETİMİ"]
[null,null,null,null,null,null,null,null,null,null,null,null,null,null,null,null,null,null,null,null,null,null,null,null,null,null,null,null,null,null,null,null,null,null,null,null,null,null,null,null,null,null,null,null,null,null,null,null,null,null,null,null,null,null,null,null,null,null,null,null,null,null,null,null,null,null,null,null,null,null,null,null,null,null,null,null,null,null,null,{"$f":"IF(ISERROR(CB46+CB136)=TRUE,0,CB46+CB136)","v":0},0,0,0,0,0,0,0,0,0,"BE","CHO=",{"$f":"(BI94/1000)/TotalDMFed*100","v":83.66308910636107},"KM'deki CHO oranı"]
[null,null,null,null,null,null,null,null,null,null,null,null,null,null,null,null,null,null,null,null,null,null,null,null,null,null,null,null,null,null,null,null,null,null,null,null,null,null,null,null,null,null,null,null,null,null,null,null,null,null,null,null,null,null,null,null,null,null,null,null,null,null,null,null,null,null,null,null,null,null,null,null,null,null,null,null,null,null,null,{"$f":"IF(ISERROR(CB47+CB137)=TRUE,0,CB47+CB137)","v":0},0,0,0,0,0,0,0,0,0,"BF","CC=",{"$f":"(BK94/1000)/TotalDMFed*100","v":11.973797383466394},"KM'deki değerlendirilemeyen selüloz oranı"]
[null,null,null,null,null,null,null,null,null,null,null,null,null,null,null,null,null,null,null,null,null,null,null,null,null,null,null,null,null,null,null,null,null,null,null,null,null,null,null,null,null,null,null,null,null,null,null,null,null,null,null,null,null,null,null,null,null,null,null,null,null,null,null,null,null,null,null,null,null,null,null,null,null,null,null,null,null,null,null,{"$f":"IF(ISERROR(CB48+CB138)=TRUE,0,CB48+CB138)","v":0},0,0,0,0,0,0,0,0,0,"BG","CB2=",{"$f":"(BM94/1000)/TotalDMFed*100","v":23.882560329642033},"KM'deki değerlendirilebilir selüloz oranı"]
[null,null,null,null,null,null,null,null,null,null,null,null,null,null,null,null,null,null,null,null,null,null,null,null,null,null,null,null,null,null,null,null,null,null,null,null,null,null,null,null,null,null,null,null,null,null,null,null,null,null,null,null,null,null,null,null,null,null,null,null,null,null,null,null,null,null,null,null,null,null,null,null,null,null,null,null,null,null,null,{"$f":"IF(ISERROR(CB49+CB139)=TRUE,0,CB49+CB139)","v":0},0,0,0,0,0,0,0,0,0,"BH","NFC=",{"$f":"(AU33/1000)/TotalDMFed*100","v":47.806731393252647},"KM'deki selüloz olmayan CHO oranı"]
[null,null,null,null,null,null,null,null,null,null,null,null,null,null,null,null,null,null,null,null,null,null,null,null,null,null,null,null,null,null,null,null,null,null,null,null,null,null,null,null,null,null,null,null,null,null,null,null,null,null,null,null,null,null,null,null,null,null,null,null,null,null,null,null,null,null,null,null,null,null,null,null,null,null,null,null,null,null,null,{"$f":"IF(ISERROR(CB50+CB140)=TRUE,0,CB50+CB140)","v":0},0,0,0,0,0,0,0,0,0,"BI","CB1=",{"$f":"(BO94/1000)/TotalDMFed*100","v":36.156635771310853},"KM'deki nişasta oranı"]
[null,null,null,null,null,null,null,null,null,null,null,null,null,null,null,null,null,null,null,null,null,null,null,null,null,null,null,null,null,null,null,null,null,null,null,null,null,null,null,null,null,null,null,null,null,null,null,null,null,null,null,null,null,null,null,null,null,null,null,null,null,null,null,null,null,null,null,null,null,null,null,null,null,null,null,null,null,null,null,{"$f":"IF(ISERROR(CB51+CB141)=TRUE,0,CB51+CB141)","v":0},0,0,0,0,0,0,0,0,0,"BJ","CA=",{"$f":"(BQ94/1000)/TotalDMFed*100","v":11.6500956219418},"KM'deki şeker oranı"]
[null,null,null,null,null,null,null,null,null,null,null,null,null,null,null,null,null,null,null,null,null,null,null,null,null,null,null,null,null,null,null,null,null,null,null,null,null,null,null,null,null,null,null,null,null,null,null,null,null,null,null,null,null,null,null,null,null,null,null,null,null,null,null,null,null,null,null,null,null,null,null,null,null,null,null,null,null,null,null,{"$f":"IF(ISERROR(CB52+CB142)=TRUE,0,CB52+CB142)","v":0},0,0,0,0,0,0,0,0,0,"BK","PROTEİN TÜKETİMİ"]
[null,null,null,null,null,null,null,null,null,null,null,null,null,null,null,null,null,null,null,null,null,null,null,null,null,null,null,null,null,null,null,null,null,null,null,null,null,null,null,null,null,null,null,null,null,null,null,null,null,null,null,null,null,null,null,null,null,null,null,null,null,null,null,null,null,null,null,null,null,null,null,null,null,null,null,null,null,null,null,{"$f":"IF(ISERROR(CB53+CB143)=TRUE,0,CB53+CB143)","v":0},0,0,0,0,0,0,0,0,0,"BL","U=",{"$f":"121.7-12.01*büyükX+0.3235*büyükX^2","v":42.625965519292052},"Geri alınan üre N'u (N tüketiminin %'si olarak)"]
[null,null,null,null,null,null,null,null,null,null,null,null,null,null,null,null,null,null,null,null,null,null,null,null,null,null,null,null,null,null,null,null,null,null,null,null,null,null,null,null,null,null,null,null,null,null,null,null,null,null,null,null,null,null,null,null,null,null,null,null,null,null,null,null,null,null,null,null,null,null,null,null,null,null,null,null,null,null,null,{"$f":"IF(ISERROR(CB54+CB144)=TRUE,0,CB54+CB144)","v":0},0,0,0,0,0,0,0,0,0,"BM","X=",{"$f":"CPtotal/(TotalDMFed*10)","v":8.5557429822302336},"Rasyon KM'sindeki % HP"]
[null,null,null,null,null,null,null,null,null,null,null,null,null,null,null,null,null,null,null,null,null,null,null,null,null,null,null,null,null,null,null,null,null,null,null,null,null,null,null,null,null,null,null,null,null,null,null,null,null,null,null,null,null,null,null,null,null,null,null,null,null,null,null,null,null,null,null,null,null,null,null,null,null,null,null,null,null,null,null,{"$f":"IF(ISERROR(CB55+CB145)=TRUE,0,CB55+CB145)","v":0},0,0,0,0,0,0,0,0,0,"BN","Değerlendirilebilir selülozun yıkımlanma oranını pH'nın etkisine göre ayarlama"]
[null,null,null,null,null,null,null,null,null,null,null,null,null,null,null,null,null,null,null,null,null,null,null,null,null,null,null,null,null,null,null,null,null,null,null,null,null,null,null,null,null,null,null,null,null,null,null,null,null,null,null,null,null,null,null,null,null,null,null,null,null,null,null,null,null,null,null,null,null,null,null,null,null,null,null,null,null,null,null,{"$f":"IF(ISERROR(CB56+CB146)=TRUE,0,CB56+CB146)","v":0},0,0,0,0,0,0,0,0,0,"BO","1) Rumen pH'sını belirlemek; eğer eNDF<24,5 % ise, pH=",{"$f":"IF(eNDF<24.5,5.425+0.04229*eNDF,6.46)","v":6.46},"Rumen pH'sı"]
[null,null,null,null,null,null,null,null,null,null,null,null,null,null,null,null,null,null,null,null,null,null,null,null,null,null,null,null,null,null,null,null,null,null,null,null,null,null,null,null,null,null,null,null,null,null,null,null,null,null,null,null,null,null,null,null,null,null,null,null,null,null,null,null,null,null,null,null,null,null,null,null,null,null,null,null,null,null,null,{"$f":"IF(ISERROR(CB57+CB147)=TRUE,0,CB57+CB147)","v":0},0,0,0,0,0,0,0,0,0,"BP","2) Her yem için orijinal verimi hesaplamak, Y="]
[null,null,null,null,null,null,null,null,null,null,null,null,null,null,null,null,null,null,null,null,null,null,null,null,null,null,null,null,null,null,null,null,null,null,null,null,null,null,null,null,null,null,null,null,null,null,null,null,null,null,null,null,null,null,null,null,null,null,null,null,null,null,null,null,null,null,null,null,null,null,null,null,null,null,null,null,null,null,null,{"$f":"IF(ISERROR(CB58+CB148)=TRUE,0,CB58+CB148)","v":0},0,0,0,0,0,0,0,0,0,"BQ","3) Nispi verim ayarlamasını hesaplamak, relY=",{"$f":"(1-  EXP(-5.624*((pH-5.7)^0.909))  )/0.9968","v":0.99067392149952638}]
[null,null,null,null,null,null,null,null,null,null,null,null,null,null,null,null,null,null,null,null,null,null,null,null,null,null,null,null,null,null,null,null,null,null,null,null,null,null,null,null,null,null,null,null,null,null,null,null,null,null,null,null,null,null,null,null,null,null,null,null,null,null,null,null,null,null,null,null,null,null,null,null,null,null,null,null,null,null,null,{"$f":"IF(ISERROR(CB59+CB149)=TRUE,0,CB59+CB149)","v":0},0,0,0,0,0,0,0,0,0,"BR","4) Her yem için yeni verimi hesaplamak, Y'="]
[null,null,null,null,null,null,null,null,null,null,null,null,null,null,null,null,null,null,null,null,null,null,null,null,null,null,null,null,null,null,null,null,null,null,null,null,null,null,null,null,null,null,null,null,null,null,null,null,null,null,null,null,null,null,null,null,null,null,null,null,null,null,null,null,null,null,null,null,null,null,null,null,null,null,null,null,null,null,null,{"$f":"IF(ISERROR(CB60+CB150)=TRUE,0,CB60+CB150)","v":0},0,0,0,0,0,0,0,0,0,"BS","5) Her yem için yeni Kd'yi hesaplamak, Kd'="]
[null,null,null,null,null,null,null,null,null,null,null,null,null,null,null,null,null,null,null,null,null,null,null,null,null,null,null,null,null,null,null,null,null,null,null,null,null,null,null,null,null,null,null,null,null,null,null,null,null,null,null,null,null,null,null,null,null,null,null,null,null,null,null,null,null,null,null,null,null,null,null,null,null,null,null,null,null,null,null,{"$f":"IF(ISERROR(CB61+CB151)=TRUE,0,CB61+CB151)","v":0},0,0,0,0,0,0,0,0,0,"BT","büyükA=",{"$f":"(-0.01490722+(0.012024*pH)-(0.0010152*pH^2))","v":2.0401899680000002E-2}]
[null,null,null,null,null,null,null,null,null,null,null,null,null,null,null,null,null,null,null,null,null,null,null,null,null,null,null,null,null,null,null,null,null,null,null,null,null,null,null,null,null,null,null,null,null,null,null,null,null,null,null,null,null,null,null,null,null,null,null,null,null,null,null,null,null,null,null,null,null,null,null,null,null,null,null,null,null,null,null,null,null,null,null,null,null,null,null,null,null,"BU","Rumenden kaçan CHO ve proteini hesaplamak"]
[null,null,null,null,null,null,null,null,null,null,null,null,null,null,null,null,null,null,null,null,null,null,null,null,null,null,null,null,null,null,null,null,null,null,null,null,null,null,null,null,null,null,null,null,null,null,null,null,null,null,null,null,null,null,null,null,null,null,null,null,null,null,null,null,null,null,null,null,null,null,null,null,null,null,null,null,null,null,null,null,null,null,"AMİNO ASİT TABLOSU",null,null,null,null,null,null,"BV","RD=",{"$f":"AA64","v":0.78063081983896443},"Yem maddesinin rumende yıkımlanan komponent oranı"]
[null,null,null,null,null,null,null,null,null,null,null,null,null,null,null,null,null,null,null,null,null,null,null,null,null,null,null,null,null,null,null,null,null,null,null,null,null,null,null,null,null,null,null,null,null,null,null,null,null,null,null,null,null,null,null,null,null,null,null,null,null,null,null,null,null,null,null,null,null,null,null,null,null,null,null,null,null,null,null,null,null,null,"REBAA","DIGBAA","REFAA","REAA","DIGFAA","AAA",null,"BW","RESC=",{"$f":"AB64","v":25.219369180161035},"Yem maddesinin rumende yıkımlanmadan kaçan komponent oranı"]
[null,null,null,null,null,null,null,null,null,null,null,null,null,null,null,null,null,null,null,null,null,null,null,null,null,null,null,null,null,null,null,null,null,null,null,null,null,null,null,null,null,null,null,null,null,null,null,null,null,null,null,null,null,null,null,null,null,null,null,null,null,null,null,null,null,null,null,null,null,null,null,null,null,null,null,null,null,null,null,null,null,"MET, g",{"$f":"CB2","v":26.336215245403363},{"$f":"CB33","v":19.17963501567419},{"$f":"CB63","v":3.6348436512043603},{"$f":"CB93","v":29.971058896607722},{"$f":"CB123","v":2.8801288011174875},{"$f":"CB153","v":22.059763816791676},19,"BX","GEÇİŞ ORANI FORMÜLÜ"]
[null,null,null,null,null,null,null,null,null,null,null,null,null,null,null,null,null,null,null,null,null,null,null,null,null,null,null,null,null,null,null,null,null,null,null,null,null,null,null,null,null,null,null,null,null,null,null,null,null,null,null,null,null,null,null,null,null,null,null,null,null,null,null,null,null,null,null,null,null,null,null,null,null,null,null,null,null,null,null,null,null,"LİZ, g",{"$f":"CC2","v":75.382645086480622},{"$f":"CC33","v":58.683957883779229},{"$f":"CC63","v":10.399164444264612},{"$f":"CC93","v":85.781809530745235},{"$f":"CC123","v":7.5876626439265662},{"$f":"CC153","v":66.271620527705792},61,"BY","Kp_forages=",{"$f":"(0.388+(0.022*TotalDMFed/SBW^0.75)+2*FORAGE^2)/100","v":23.644463678114253}]
[null,null,null,null,null,null,null,null,null,null,null,null,null,null,null,null,null,null,null,null,null,null,null,null,null,null,null,null,null,null,null,null,null,null,null,null,null,null,null,null,null,null,null,null,null,null,null,null,null,null,null,null,null,null,null,null,null,null,null,null,null,null,null,null,null,null,null,null,null,null,null,null,null,null,null,null,null,null,null,null,null,"ARJ, g",{"$f":"CD2","v":61.200688597900651},{"$f":"CD33","v":49.809798398915049},{"$f":"CD63","v":13.601313690187332},{"$f":"CD93","v":74.802002288087976},{"$f":"CD123","v":10.362294874556435},{"$f":"CD153","v":60.172093273471482},53,"BZ","Kp_conc=",{"$f":"-0.424+(1.45*Kp_forages)","v":33.860472333265669}]
[null,null,null,null,null,null,null,null,null,null,null,null,null,null,null,null,null,null,null,null,null,null,null,null,null,null,null,null,null,null,null,null,null,null,null,null,null,null,null,null,null,null,null,null,null,null,null,null,null,null,null,null,null,null,null,null,null,null,null,null,null,null,null,null,null,null,null,null,null,null,null,null,null,null,null,null,null,null,null,null,null,"TRE, g",{"$f":"CE2","v":49.845581300063699},{"$f":"CE33","v":40.00528348418608},{"$f":"CE63","v":11.856794743816973},{"$f":"CE93","v":61.702376043880669},{"$f":"CE123","v":8.8759311929531002},{"$f":"CE153","v":48.881214677139184},44,"CA","FORAGE",{"$f":"KabaYemDMI/TotalDMFed*100","v":34.380633530775178},"Rasyondaki kaba yem oranı, %"]
[null,null,null,null,null,null,null,null,null,null,null,null,null,null,null,null,null,null,null,null,null,null,null,null,null,null,null,null,null,null,null,null,null,null,null,null,null,null,null,null,null,null,null,null,null,null,null,null,null,null,null,null,null,null,null,null,null,null,null,null,null,null,null,null,null,null,null,null,null,null,null,null,null,null,null,null,null,null,null,null,null,"LÖY, g",{"$f":"CF2","v":71.339177256683655},{"$f":"CF33","v":53.745917525266108},{"$f":"CF63","v":36.539335977494268},{"$f":"CF93","v":107.87851323417792},{"$f":"CF123","v":30.087577993286693},{"$f":"CF153","v":83.833495518552795},63,"X","Af_forages=",{"$f":"Af_forages","v":29.980276134122274}]
[null,null,null,null,null,null,null,null,null,null,null,null,null,null,null,null,null,null,null,null,null,null,null,null,null,null,null,null,null,null,null,null,null,null,null,null,null,null,null,null,null,null,null,null,null,null,null,null,null,null,null,null,null,null,null,null,null,null,null,null,null,null,null,null,null,null,null,null,null,null,null,null,null,null,null,null,null,null,null,null,null,"İZOLÖY, g",{"$f":"CG2","v":54.008325467022836},{"$f":"CG33","v":40.649375704861711},{"$f":"CG63","v":12.760519831900275},{"$f":"CG93","v":66.768845298923111},{"$f":"CG123","v":9.8194052301844348},{"$f":"CG153","v":50.468780935046148},46,null,"Af_conc=",{"$f":"Af_conc","v":5.5473146319741051}]
[null,null,null,null,null,null,null,null,null,null,null,null,null,null,null,null,null,null,null,null,null,null,null,null,null,null,null,null,null,null,null,null,null,null,null,null,null,null,null,null,null,null,null,null,null,null,null,null,null,null,null,null,null,null,null,null,null,null,null,null,null,null,null,null,null,null,null,null,null,null,null,null,null,null,null,null,null,null,null,null,null,"VAL, g",{"$f":"CH2","v":58.099503831684679},{"$f":"CH33","v":44.084534215131711},{"$f":"CH63","v":17.033809479560446},{"$f":"CH93","v":75.133313311245132},{"$f":"CH123","v":12.913074801816705},{"$f":"CH153","v":56.997609016948424},50,null,"Rumende yıkımlanan protein fraksiyonlarının miktarını hesaplamak için,"]
[null,null,null,null,null,null,null,null,null,null,null,null,null,null,null,null,null,null,null,null,null,null,null,null,null,null,null,null,null,null,null,null,null,null,null,null,null,null,null,null,null,null,null,null,null,null,null,null,null,null,null,null,null,null,null,null,null,null,null,null,null,null,null,null,null,null,null,null,null,null,null,null,null,null,null,null,null,null,null,null,null,"HIS, g",{"$f":"CI2","v":24.43972148452513},{"$f":"CI33","v":19.251200817971476},{"$f":"CI63","v":7.7242571715509909},{"$f":"CI93","v":32.163978656076118},{"$f":"CI123","v":6.2985003086613505},{"$f":"CI153","v":25.549701126632829},20,"Seçilen Yemler Alanı","RDPA=",{"$f":"AF64","v":140.758454},"rumende yıkımlanan NPN miktarı, g/gün"]
[null,null,null,null,null,null,null,null,null,null,null,null,null,null,null,null,null,null,null,null,null,null,null,null,null,null,null,null,null,null,null,null,null,null,null,null,null,null,null,null,null,null,null,null,null,null,null,null,null,null,null,null,null,null,null,null,null,null,null,null,null,null,null,null,null,null,null,null,null,null,null,null,null,null,null,null,null,null,null,null,null,"FENAL, g",{"$f":"CJ2","v":49.451969387428598},{"$f":"CJ33","v":36.927953985402539},{"$f":"CJ63","v":16.043825332130417},{"$f":"CJ93","v":65.495794719559015},{"$f":"CJ123","v":12.453059813169373},{"$f":"CJ153","v":49.381013798571907},43,null,"RDPB1=",{"$f":"AG64","v":45.233435304542802},"rumende yıkımlanan B1 gerçek protein miktarı, g/gün"]
[null,null,null,null,null,null,null,null,null,null,null,null,null,null,null,null,null,null,null,null,null,null,null,null,null,null,null,null,null,null,null,null,null,null,null,null,null,null,null,null,null,null,null,null,null,null,null,null,null,null,null,null,null,null,null,null,null,null,null,null,null,null,null,null,null,null,null,null,null,null,null,null,null,null,null,null,null,null,null,null,null,"TRİP, g",{"$f":"CK2","v":16.525736513816284},{"$f":"CK33","v":11.665225774458554},{"$f":"CK63","v":6.0841320474993204},{"$f":"CK93","v":22.609868561315604},{"$f":"CK123","v":2.91090048285864},{"$f":"CK153","v":14.576126257317194},22,null,"RDPB2=",{"$f":"AH64","v":70.547827471113337},"rumende yıkımlanan B2 gerçek protein miktarı, g/gün"]
[null,null,null,null,null,null,null,null,null,null,null,null,null,null,null,null,null,null,null,null,null,null,null,null,null,null,null,null,null,null,null,null,null,null,null,null,null,null,null,null,null,null,null,null,null,null,null,null,null,null,null,null,null,null,null,null,null,null,null,null,null,null,null,null,null,null,null,null,null,null,null,null,null,null,null,null,null,null,null,null,null,"REBAA=","Duodenumda görülen Bakteriyel amino asit miktarı, g/gün",null,null,null,null,null,null,null,"RDPB3=",{"$f":"AI64","v":0.53167826641569593},"rumende yıkımlanan B3 gerçek protein miktarı, g/gün"]
[null,null,null,null,null,null,null,null,null,null,null,null,null,null,null,null,null,null,null,null,null,null,null,null,null,null,null,null,null,null,null,null,null,null,null,null,null,null,null,null,null,null,null,null,null,null,null,null,null,null,null,null,null,null,null,null,null,null,null,null,null,null,null,null,null,null,null,null,null,null,null,null,null,null,null,null,null,null,null,null,null,"DIGBAA=","Emilen Bakteriyel Amino asit miktarı, g/gün ",null,null,null,null,null,null,null,"RDPEP=",{"$f":"AJ64","v":116.31294104207184},"rumende yıkımlanan peptid miktarı, g/gün"]
[null,null,null,null,null,null,null,null,null,null,null,null,null,null,null,null,null,null,null,null,null,null,null,null,null,null,null,null,null,null,null,null,null,null,null,null,null,null,null,null,null,null,null,null,null,null,null,null,null,null,null,null,null,null,null,null,null,null,null,null,null,null,null,null,null,null,null,null,null,null,null,null,null,null,null,null,null,null,null,null,null,"REFAA=","Duodenumda görülen Yem amino asit miktarı, g/gün",null,null,null,null,null,null,null,"Rumende yıkımlanmadan kaçan ve ince barsaklara geçen protein fraksiyonlarının miktarını hesaplamak için,"]
[null,null,null,null,null,null,null,null,null,null,null,null,null,null,null,null,null,null,null,null,null,null,null,null,null,null,null,null,null,null,null,null,null,null,null,null,null,null,null,null,null,null,null,null,null,null,null,null,null,null,null,null,null,null,null,null,null,null,null,null,null,null,null,null,null,null,null,null,null,null,null,null,null,null,null,null,null,null,null,null,null,"REAA=","Duodenumda görülen amino asitin toplam miktarı, g/gün",null,null,null,null,null,null,null,"REPB1=",{"$f":"AK64","v":6.3741106954571958},"rumenden kaçan B1 gerçek protein miktarı, g/gün"]
[null,null,null,null,null,null,null,null,null,null,null,null,null,null,null,null,null,null,null,null,null,null,null,null,null,null,null,null,null,null,null,null,null,null,null,null,null,null,null,null,null,null,null,null,null,null,null,null,null,null,null,null,null,null,null,null,null,null,null,null,null,null,null,null,null,null,null,null,null,null,null,null,null,null,null,null,null,null,null,null,null,"DIGFAA=","Rumenden kaçan rasyon proteininden emilen amino asit, g/gün ",null,null,null,null,null,null,null,"REPB2=",{"$f":"AL64","v":237.6739125288866},"rumenden kaçan B2 gerçek protein miktarı, g/gün"]
[null,null,null,null,null,null,null,null,null,null,null,null,null,null,null,null,null,null,null,null,null,null,null,null,null,null,null,null,null,null,null,null,null,null,null,null,null,null,null,null,null,null,null,null,null,null,null,null,null,null,null,null,null,null,null,null,null,null,null,null,null,null,null,null,null,null,null,null,null,null,null,null,null,null,null,null,null,null,null,null,null,"AAA=","Rasyon ve bakteriyel kökenli emilen toplam amino asit, g/gün",null,null,null,null,null,null,null,"REPB3=",{"$f":"AM64","v":75.883201733584301},"rumenden kaçan B3 gerçek protein miktarı, g/gün"]
[null,null,null,null,null,null,null,null,null,null,null,null,null,null,null,null,null,null,null,null,null,null,null,"KURU KABA YEMLER","en az","en çok","KM %Yem","NDF %KM","Lignin %NDF","Effekt. %NDF","HS,%","TDN %KM","ME,Mcal/kg","NEm,Mcal/kg","NEg,Mcal/kg","HP,%","DIP %HP","UIP %HP","SoIP %HP","NPN %SoIP","NDFIP %HP","ADFIP %HP","Nişasta %NSC","HY %KM","HK %KM","A kd %/sa©","B1 kd %/sa©","B2 kd %/sa©","B1 kd %/sa(p)","B2 kd %/sa(p)","B3 kd %/sa(p)","MET %UIP","LİZ %UIP","ARJ %UIP","TRE %UIP","LÖY %UIP","İZOLÖY %UIP","VAL %UIP","HIS %UIP","FENAL %UIP","TRİP %UIP","Ca %KM","P %KM","Mg %KM","Cl %KM","K %KM","Na %KM","S %KM","Co mg/kg","Cu mg/kg","I mg/kg","Fe mg/kg","Mn mg/kg","Se mg/kg","Zn mg/kg","Vit A 1000 IU/kg","Vit D 1000 IU/kg","Vit E IU/kg","FİYAT,Krş",null,null,null,null,null,null,null,null,null,null,null,"REPC=",{"$f":"AN64","v":87.436379999999986},"rumenden kaçan bağlı C protein miktarı, g/gün"]
[null,null,null,null,null,null,null,null,null,null,null,null,null,null,null,null,null,null,null,null,null,null,null,"AK ÜÇGÜL (CLOVER LADINO) KURU OTU",0,5,89,36,"19,44",92,20.8,"60",2.17,1.31,0.74,22.4,86,14,30,96,15,10,60,2.7,9.4,250,30,5.5,150,9,1.25,0.73,6.02,6.39,5,9.26,6.01,7.14,2.62,6.32,1.84,1.45,0.33,0.47,0.3,2.44,0.13,0.21,0.161,9.41,0.30099999999999999,470,123,0,17,33,0,0,75,null,null,null,null,null,null,null,null,null,null,null,"Rumende yıkımlanan j. Yem maddesinin CHO fraksiyonlarının miktarını hesaplamak için,"]
[null,null,null,null,null,null,null,null,null,null,null,null,null,null,null,null,null,null,null,null,null,null,null,"ARPA SAMANI",0,5,91,72.5,"13,75",100,42,"40",1.45,0.6,0.08,4.4000000000000004,30,70,20,95,75,65,100,1.9,7.5,250,30,3,135,11,0.09,0.67,2.83,2.83,2.83,5.49,2.83,3.83,1,3.5,4.5,0.3,7.0000000000000007E-2,0.23,0.67,2.37,0.14000000000000001,0.17,6.7000000000000004E-2,5.4,0,200,16,0,7,1,0.7,0,20,null,null,null,null,null,null,null,null,null,null,null,"RDCA=",{"$f":"AO64","v":827.19953261280864},"rumende yıkımlanan şeker miktarı, g/gün"]
[null,null,null,null,null,null,null,null,null,null,null,null,null,null,null,null,null,null,null,null,null,null,null,"BUĞDAY SAMANI",0,5,89,78.900000000000006,"16,47",98,41.6,"41",1.48,0.64,0.11,3.5,31,69,20,95,75,65,100,2,7.7,250,50,3,135,11,0.09,0.67,2.83,2.83,2.83,5.49,2.83,3.83,1,3.5,4.5,0.17,0.05,0.12,0.32,1.41,0.14000000000000001,0.19,4.5999999999999999E-2,3.6,0,157,41,0,6,1,7.0000000000000007E-2,0,20,null,null,null,null,null,null,null,null,null,null,null,"RDCB1=",{"$f":"AP64","v":1315.1655905828684},"rumende yıkımlanan nişasta miktarı, g/gün"]
[null,null,null,null,null,null,null,null,null,null,null,null,null,null,null,null,null,null,null,null,null,null,null,"BUĞDAYGİL (WHEATGRASS) KURU OTU",0,5,92,65,"9,230",98,0,"53",1.92,1.07,0.52,9,67,33,25,96,31,6.1,44,2.2999999999999998,9,250,30,3,135,11,0.09,0.67,2.83,2.83,2.83,5.49,2.83,3.83,1,3.5,4.5,0.26,0.15,0,0,0,0,0,0.23899999999999999,0,0,0,0,0,0,37.200000000000003,0,0,75,null,null,null,null,null,null,null,null,null,null,null,"RDCB2=",{"$f":"AQ64","v":205.95779187419487},"rumende yıkımlanan değerlendirilebilir selüloz miktarı, g/gün"]
[null,null,null,null,null,null,null,null,null,null,null,null,null,null,null,null,null,null,null,null,null,null,null,"ÇAYIR (RYEGRASS) KURU OTU",0,5,88,41,4.88,98,0,"60",2.17,1.31,0.74,8.6,77,35.5,25,96,31,5.7,47,2.2000000000000002,10,250,30,5,135,11,0.09,0.67,2.83,2.83,2.83,5.49,2.83,3.83,1,3.5,4.5,0.65,0.32,0,0,1.67,0,0,0,5,0,0,74,0,19,0,0,0,75,null,null,null,null,null,null,null,null,null,null,null,"Rumende yıkımlanmadan kaçan CHO fraksiyonlarının miktarını hesaplamak için,"]
[null,null,null,null,null,null,null,null,null,null,null,null,null,null,null,null,null,null,null,null,null,null,null,"ÇAYIR (MEADOW) KURU OTU",0,5,90,67.599999999999994,"5",98,0,"60",2.17,1.31,0.74,13.4,77,23,25,5,2,1,38,3,11,250,30,6,135,8,0.09,0.67,2.83,2.83,2.83,5.49,2.83,3.83,1,3.5,4.5,0.26,0.15,0,0,0,0,0,0.23899999999999999,0,0,0,0,0,0,37.200000000000003,0,0,75,null,null,null,null,null,null,null,null,null,null,null,"RECA=",{"$f":"AR64","v":77.546893387191332},"rumendeki yıkımlanmadan kaçan şeker miktarı, g/gün"]
[null,null,null,null,null,null,null,null,null,null,null,null,null,null,null,null,null,null,null,null,null,null,null,"ÇAYIR (PRAIRIE) KURU OTU",0,5,91,72.7,"6",98,0,"48",1.74,0.9,0.35,5.3,62,38,25,5,2,1,38,3,8,250,30,3.5,135,3.5,0.09,0.67,2.83,2.83,2.83,5.49,2.83,3.83,1,3.5,4.5,0.35,0.14000000000000001,0.26,0,1,0,0,0,0,0,88,0,0,34,37.200000000000003,0,0,75,null,null,null,null,null,null,null,null,null,null,null,"RECB1=",{"$f":"AS64","v":1492.7587434171314},"rumendeki yıkımlanmadan kaçan nişasta miktarı, g/gün"]
[null,null,null,null,null,null,null,null,null,null,null,null,null,null,null,null,null,null,null,null,null,null,null,"ÇAYIR KELPKUYRUĞU (TIMOTHY) KURU OTU, ÇİÇ.BAŞI",0,5,89,61.4,"6,557",98,0,"59",2.13,1.28,0.71,10.8,73,27,25,96,31,5.7,44,2.8,5.7,250,30,4,135,11,0.09,0.67,2.83,2.83,2.83,5.49,2.83,3.83,1,3.5,4.5,0.51,0.28999999999999998,0.13,0,2.41,0.01,0.13,0,11,0,203,103,0,62,87.5,0,13,75,null,null,null,null,null,null,null,null,null,null,null,"RECB2=",{"$f":"AT64","v":1648.7618433258056},"rumendeki yıkımlanmadan kaçan değerlendirilebilir selüloz miktarı, g/gün"]
[null,null,null,null,null,null,null,null,null,null,null,null,null,null,null,null,null,null,null,null,null,null,null,"ÇAYIR KELPKUYRUĞU (TIMOTHY) KURU OTU, ÇİÇ.ORTASI",0,5,89,63.7,"7,462",98,0,"57",2.06,1.21,0.64,9.6999999999999993,69,31,25,96,31,6.1,44,2.7,7,250,30,3,135,11,0.09,0.67,2.83,2.83,2.83,5.49,2.83,3.83,1,3.5,4.5,0.48,0.23,0.13,0,1.82,0.01,0.13,0,16,0,150,56.1,0,43,88.9,2,0,75,null,null,null,null,null,null,null,null,null,null,null,"RECC=",{"$f":"AU64","v":929.88510480000002},"rumendeki yıkımlanmadan kaçan değerlendirilemeyen selüloz miktarı, g/gün"]
[null,null,null,null,null,null,null,null,null,null,null,null,null,null,null,null,null,null,null,null,null,null,null,"ÇAYIR KELPKUYRUĞU (TIMOTHY) KURU OTU, OLGUN",0,5,89,72,"12,5",98,0,"47",1.7,0.86,0.32,6,50,50,25,96,31,6.5,42,2,6,250,30,3,135,11,0.09,0.67,2.83,2.83,2.83,5.49,2.83,3.83,1,3.5,4.5,0,0,0,0,0,0,0,0,0,0,0,0,0,0,0,0,0,75,null,null,null,null,null,null,null,null,null,null,null,"Mikrobiyel verimin hesaplanması"]
[null,null,null,null,null,null,null,null,null,null,null,null,null,null,null,null,null,null,null,null,null,null,null,"ÇAYIR KELPKUYRUĞU (TIMOTHY) KURU OTU, TAM ÇİÇ.",0,5,89,64.2,"8,823",98,0,"56",2.02,1.18,0.61,8.1,62,38,25,96,31,6.1,42,2.9,5.2,250,30,3,135,11,0.09,0.67,2.83,2.83,2.83,5.49,2.83,3.83,1,3.5,4.5,0.43,0.2,0.09,0.62,1.99,7.0000000000000007E-2,0.14000000000000001,0,29,0,140,93,0,54,0,0,0,75,null,null,null,null,null,null,null,null,null,null,null,"Eğer eNDF<20 ise   YG1=",{"$f":"IF(ISERROR(IF(eNDF<20,(0.4*(BK94+BM94))*(1-((20-eNDF)*0.025)),(0.4*(BK94+BM94))))=TRUE,0,IF(eNDF<20,(0.4*(BK94+BM94))*(1-((20-eNDF)*0.025)),(0.4*(BK94+BM94))))","v":1113.8418960000001},"FC bakterilerinin teorik maksimum verimi, 0,4 g bakteri/g FC/saat"]
[null,null,null,null,null,null,null,null,null,null,null,null,null,null,null,null,null,null,null,null,null,null,null,"ÇAYIR KELPKUYRUĞU (TIMOTHY) KURU OTU, VEJ.SONU",0,5,89,55,"5,454",98,0,"62",2.2400000000000002,1.38,0.8,14,79,21,25,96,31,5.7,46,3,8,250,30,4,135,11,0.09,0.67,2.83,2.83,2.83,5.49,2.83,3.83,1,3.5,4.5,0.45,0.4,0.11,0,3.05,7.0000000000000007E-2,0.13,0,25.8,0,240,89,0,67,208.4,0,0,75,null,null,null,null,null,null,null,null,null,null,null,"Eğer eNDF<20 ise   YG2=",{"$f":"IF(ISERROR(IF(eNDF<20,(0.4*(AU33))*(1-((20-eNDF)*0.025)),(0.4*(AU33))))=TRUE,0,IF(eNDF<20,(0.4*(AU33))*(1-((20-eNDF)*0.025)),(0.4*(AU33))))","v":1485.0683040000001},"NFC bakterilerinin teorik maksimum verimi, 0,4 g bakteri/g NFC/saat"]
[null,null,null,null,null,null,null,null,null,null,null,null,null,null,null,null,null,null,null,null,null,null,null,"ÇAYIR ÜÇGÜLÜ (CLOVER RED) KURU OTU",0,5,88,46.9,"17,85",92,0,"55",1.99,1.1399999999999999,0.57999999999999996,15,80,20,25,92,35.6,20,60,2.8,7.5,250,30,5.5,150,9,1.25,0.73,6.02,6.39,5,9.26,6.01,7.14,2.62,6.32,1.84,1.38,0.24,0.38,0.32,1.81,0.18,0.16,0.156,11,0.245,238,108,0,17,8,1.9,0,75,null,null,null,null,null,null,null,null,null,null,null,"1/Y1=",{"$f":"AV64","v":70.703407104256542}]
[null,null,null,null,null,null,null,null,null,null,null,null,null,null,null,null,null,null,null,null,null,null,null,"DOMUZ AYRIĞI (ORCHARDGRASS) KURU OTU, ÇİÇ.BAŞI",0,5,89,59.6,"7,7",98,0,"65",2.35,1.47,0.88,12.8,77,23,25,96,31,5.7,44,2.9,8.5,250,30,3,135,11,0.09,0.67,2.83,2.83,2.83,5.49,2.83,3.83,1,3.5,4.5,0.27,0.34,0.11,0.41,2.91,0.01,0.26,0.43,19,0,93,157,0,40,15,0,0,75,null,null,null,null,null,null,null,null,null,null,null,"1/Y2=",{"$f":"AW64","v":4.4592451302066909}]
[null,null,null,null,null,null,null,null,null,null,null,null,null,null,null,null,null,null,null,null,null,null,null,"DOMUZ AYRIĞI (ORCHARDGRASS) KURU OTU, ÇİÇ.SONU",0,5,90.6,65,"11,4",98,0,"54",1.95,1.1100000000000001,0.55000000000000004,8.4,64,36,25,96,31,6.1,42,3.4,10.1,250,30,3,135,11,0.09,0.67,2.83,2.83,2.83,5.49,2.83,3.83,1,3.5,4.5,0.26,0.3,0.11,0,2.67,0.01,0,0.3,20,20,84,167,0.03,38,8,0,0,75,null,null,null,null,null,null,null,null,null,null,null,"1/Y3=",{"$f":"AX64","v":39.358350274206693}]
[null,null,null,null,null,null,null,null,null,null,null,null,null,null,null,null,null,null,null,null,null,null,null,"FİĞ KURU OTU",0,5,89,48,"16,66",92,0,"57",2.06,1.21,0.64,20.8,86,14,28,96,25.2,14,60,3,7,250,30,5.5,150,9,1.25,0.73,6.02,6.39,5,9.26,6.01,7.14,2.62,6.32,1.84,1.36,0.34,0.27,0,2.12,0.52,0.15,0.33500000000000002,9.9,0.49199999999999999,490,60.8,0,0,0,0,0,75,null,null,null,null,null,null,null,null,null,null,null,"KM1=",{"$f":"_YG1*0.05","v":55.692094800000007},"FC (selüloz karbonhidrat) bakterilerinin yaşama oranı, 0,05g FC/g bakteri/saat"]
[null,null,null,null,null,null,null,null,null,null,null,null,null,null,null,null,null,null,null,null,null,null,null,"KAMIŞSI YUMAK (FESCUE, ALTA) KURU OTU",0,5,89,70,"9,285",98,0,"55",1.99,1.1399999999999999,0.57999999999999996,10.199999999999999,71,29,25,96,31,6.5,44,2.2000000000000002,10,250,30,3,135,11,0.09,0.67,2.83,2.83,2.83,5.49,2.83,3.83,1,3.5,4.5,0.39,0.24,0.23,0.06,2.38,0,0,0,0,0,0,0,0,0,34.6,0,0,75,null,null,null,null,null,null,null,null,null,null,null,"KM2=",{"$f":"_YG2*0.15","v":222.76024560000002},"NFC (selüloz olmayan karbonhidrat) bakterilerinin yaşama oranı, 0,15g NFC/g bakteri/saat"]
[null,null,null,null,null,null,null,null,null,null,null,null,null,null,null,null,null,null,null,null,null,null,null,"KAMIŞSI YUMAK (FESCUE, K31) KURU OTU",0,5,91,62.2,"6,349",98,0,"61",2.21,1.34,0.77,15,82,18,25.9,25.4,34.200000000000003,8.9,44,5.5,9,250,30,3,135,11,0.09,0.67,2.83,2.83,2.83,5.49,2.83,3.83,1,3.5,4.5,0.51,0.37,0.27,0,2.2999999999999998,0,0.18,0,0,0,0,0,0,22,0,0,0,75,null,null,null,null,null,null,null,null,null,null,null,"RATIO=",{"$f":"AY64","v":0.18},"peptidlerin peptid+NFC'ye oranı"]
[null,null,null,null,null,null,null,null,null,null,null,null,null,null,null,null,null,null,null,null,null,null,null,"KAMIŞSI YUMAK (FESCUE, K31) KURU OTU, OLGUN",0,5,91,70,"10",98,0,"44",1.59,0.75,0.22,10.8,86,14,25.9,25.4,34.200000000000003,8.9,42,4.7,6.8,250,30,3,135,11,0.09,0.67,2.83,2.83,2.83,5.49,2.83,3.83,1,3.5,4.5,0.41,0.3,0.16,0,1.96,0.02,0,0,22,0,132,97,0,35,0,0,0,75,null,null,null,null,null,null,null,null,null,null,null,"IMP=",{"$f":"AZ64","v":0},"Peptidlerin peptid+yapısal olmayan CHO'lara oranına bağlı bakteriyel verimdeki düzelme, %"]
[null,null,null,null,null,null,null,null,null,null,null,null,null,null,null,null,null,null,null,null,null,null,null,"KAMIŞSI YUMAK (FESCUE, K31) KURU OTU, TAM ÇİÇ.",0,5,91,67,"7,462",98,0,"58",2.1,1.24,0.68,12.9,77,23,25.9,25.4,34.200000000000003,8.9,44,5.3,8,250,30,3,135,11,0.09,0.67,2.83,2.83,2.83,5.49,2.83,3.83,1,3.5,4.5,0.43,0.32,0.17,0,2.2999999999999998,0,0.26,38,28,0,0,103,0,0,0,0,0,75,null,null,null,null,null,null,null,null,null,null,null,"FCBACT=",{"$f":"BD64","v":19.86446192838234},"selüloz karbonhidrat bakterilerinin verimi, g/gün"]
[null,null,null,null,null,null,null,null,null,null,null,null,null,null,null,null,null,null,null,null,null,null,null,"KAMIŞSI YUMAK (FESCUE, MEADOW) KURU OTU",0,5,88,65,"10,76",98,0,"56",2.02,1.18,0.61,9.1,67,33,25,96,31,6.5,44,2.4,8,250,30,3,135,11,0.09,0.67,2.83,2.83,2.83,5.49,2.83,3.83,1,3.5,4.5,0.37,0.28999999999999998,0.5,0,1.84,0,0,0.13500000000000001,0,0,0,24.5,0,0,120.9,0,135.6,75,null,null,null,null,null,null,null,null,null,null,null,"Y1=",{"$f":"BA64","v":0.61043473977227447},"değerlendirilebilir selüloz fraksiyonunda FC bakterilerinin verim etkinliği, g FC bakteri/g sindirilen FC"]
[null,null,null,null,null,null,null,null,null,null,null,null,null,null,null,null,null,null,null,null,null,null,null,"KILÇIKSIZ BROM KURU OTU, OLGUN",0,5,92,70.5,"11,26",98,0,"53",1.92,1.07,0.52,6,48,52,25,96,31,6.5,42,2,7.2,250,30,3,135,11,0.09,0.67,2.83,2.83,2.83,5.49,2.83,3.83,1,3.5,4.5,0.26,0.22,0.12,0,1.85,0.01,0,0,10.4,0,80,73,0,24,15,1,0,75,null,null,null,null,null,null,null,null,null,null,null,"Y2=",{"$f":"BB64","v":9.4153811365625302},"şeker fraksiyonunda NFC bakterilerinin verim etkinliği, g NFC bakteri/g sindirilen NFC"]
[null,null,null,null,null,null,null,null,null,null,null,null,null,null,null,null,null,null,null,null,null,null,null,"KILÇIKSIZ BROM KURU OTU,ÇİÇ.ORTASI",0,5,88,57.7,"6,060",98,0,"56",2.02,1.18,0.61,14.4,79,21,25,96,31,6.5,44,2.2000000000000002,10.9,250,30,3,135,11,0.09,0.67,2.83,2.83,2.83,5.49,2.83,3.83,1,3.5,4.5,0.28999999999999998,0.28000000000000003,0.1,0,1.99,0.01,0,0.57999999999999996,25,0,91,40,0,30,26,0,0,75,null,null,null,null,null,null,null,null,null,null,null,"Y3=",{"$f":"BC64","v":1.0760176710270875},"nişasta fraksiyonunda NFC bakterilerinin verim etkinliği, g NFC bakteri/g sindirilen NFC"]
[null,null,null,null,null,null,null,null,null,null,null,null,null,null,null,null,null,null,null,null,null,null,null,"KILÇIKSIZ BROM KURU OTU,ÇİÇ.ÖNCESİ",0,5,88,55,"7,692",98,0,"60",2.17,1.31,0.74,16,79,21,25,96,31,6.5,46,2.6,10,250,30,3,135,11,0.09,0.67,2.83,2.83,2.83,5.49,2.83,3.83,1,3.5,4.5,0.32,0.37,0.09,0,2.3199999999999998,0.02,0.2,0,0,0,0,0,0,0,108.4,1,0,75,null,null,null,null,null,null,null,null,null,null,null,"NFCBACT=",{"$f":"BE64","v":1888.5569326660643},"selüloz olmayan karbonhidrat bakterilerinin verimi, g/gün"]
[null,null,null,null,null,null,null,null,null,null,null,null,null,null,null,null,null,null,null,null,null,null,null,"KILÇIKSIZ BROM KURU OTU,ÇİÇ.SONU",0,5,91,68,"11,11",98,0,"55",1.99,1.1399999999999999,0.57999999999999996,10,59,41,25,96,31,6.5,44,2.2999999999999998,9,250,30,3,135,11,0.09,0.67,2.83,2.83,2.83,5.49,2.83,3.83,1,3.5,4.5,0,0,0,0,0,0,0,0,0,0,0,0,0,0,0,0,0,75,null,null,null,null,null,null,null,null,null,null,null,"BACT=",{"$f":"BF64","v":1908.4213945944466},"bakterilerinin verimi, g/gün"]
[null,null,null,null,null,null,null,null,null,null,null,null,null,null,null,null,null,null,null,null,null,null,null,"KÖPEKDİŞİ (BERMUDAGRASS) KURU OTU, VEJ.SONU",0,5,91,76.599999999999994,"8,571",98,0,"49",1.77,0.93,0.39,7.8,85,15,25.9,25.4,34.200000000000003,8.9,6,2.7,8,250,30,3,135,11,0.09,0.67,2.83,2.83,2.83,5.49,2.83,3.83,1,3.5,4.5,0.26,0.18,0.13,0,1.3,0.08,0.21,0.12,9,0,290,0,0,20,136.19999999999999,0,0,75,null,null,null,null,null,null,null,null,null,null,null,"BACTN=",{"$f":"BG64","v":190.84213945944464},"bakteriyel nitrojen, g/gün"]
[null,null,null,null,null,null,null,null,null,null,null,null,null,null,null,null,null,null,null,null,null,null,null,"MISIR KOÇANI, ÖĞÜTÜLMÜŞ",0,5,90,87,"7,777",56,36.200000000000003,"50",1.81,0.97,0.42,2.8,22,78,25,10,15,10,90,0.6,1.8,300,35,4,150,12,0.1,0.76,1.1399999999999999,1.9,3.42,14.4,3.42,4.5599999999999996,2.66,4.9000000000000004,0.38,0.12,0.04,7.0000000000000007E-2,0,0.89,0.08,0.47,0.13,7,0,230,6,0.08,5,1.2,0,0,75,null,null,null,null,null,null,null,null,null,null,null,"NFCBACTN=",{"$f":"BH64","v":188.85569326660641},"selüloz olmayan karbonhidrat bakteriyel nitrojeni, g/gün"]
[null,null,null,null,null,null,null,null,null,null,null,null,null,null,null,null,null,null,null,null,null,null,null,"MISIR SAPLARI",0,5,50,65,"10",100,0,"65,85",2.38,1.5,0.91,6.5,69,31,20,95,31.43,13.57,10,2.1,7.2,250,30,5,135,4,0.09,0.8,2.13,1.87,2.13,6.4,2.4,3.2,1.07,2.94,0.11,0.62,0.09,0,0,1.63,0,0,0,0,0,0,0,0,0,0,0,0,75,null,null,null,null,null,null,null,null,null,null,null,"FCBACTN=",{"$f":"BI64","v":1.9864461928382342},"selüloz karbonhidrat bakteriyel nitrojeni, g/gün"]
[null,null,null,null,null,null,null,null,null,null,null,null,null,null,null,null,null,null,null,null,null,null,null,"PAMUK TOHUMU KAPÇIĞI ",0,5,91,90,"24",100,47.8,"45",1.55,0.78,0.25,4.0999999999999996,50,50,20,50,13,13,60,1.7,4,300,25,6,175,11,0.09,1.91,5.05,11.81,4.1399999999999997,6.67,4.34,5.49,2.4,6.59,0.3,0.15,0.09,0.14000000000000001,0.02,0.87,0.02,0.09,0.02,13,0,131,119,0.02,22,0,0,0,75,null,null,null,null,null,null,null,null,null,null,null,"PEPUP=",{"$f":"BJ64","v":116.31294104207184},"bakteriyel peptid, g/gün"]
[null,null,null,null,null,null,null,null,null,null,null,null,null,null,null,null,null,null,null,null,null,null,null,"PARLAK YALANCI DARI (BAHIAGRASS) KURU OTU",0,5,90,72,"11,11",98,0,"51",1.84,1,0.45,8.1999999999999993,63,37,25,96,31,6.5,6,1.6,11,250,30,3,135,11,0.09,0.67,2.83,2.83,2.83,5.49,2.83,3.83,1,3.5,4.5,0.5,0.22,0.19,0,0,0,0,0,0,0,60,0,0,0,0,0,0,75,null,null,null,null,null,null,null,null,null,null,null,"PEPUPN=",{"$f":"BK64","v":18.610070566731494},"bakteriyel peptid nitrojeni, g/gün"]
[null,null,null,null,null,null,null,null,null,null,null,null,null,null,null,null,null,null,null,null,null,null,null,"SARI GAZALBOYNUZU (TREFOIL BIRDSFOOT) KURU OTU",0,5,91,47.5,"19,14",92,0,"59",2.13,1.28,0.71,15.9,82,18,28,96,25.2,14,60,2.1,7.4,250,30,5.5,150,9,1.25,0.73,6.02,6.39,5,9.26,6.01,7.14,2.62,6.32,1.84,1.7,0.23,0.51,0,1.92,7.0000000000000007E-2,0.25,0.111,9.26,0,227,29,0,77,75,1.5,0,75,null,null,null,null,null,null,null,null,null,null,null,"EN=",{"$f":"BK64+AF64/6.25+((MPtotal-(MPpreg+MPmaint+MPg+MPlact))/6.25)-BG64","v":-144.59138379867611},"Bakteriyel rumen nitrojeni ve doku ihtiyaçlarının fazlası nitrojen, g/gün "]
[null,null,null,null,null,null,null,null,null,null,null,null,null,null,null,null,null,null,null,null,null,null,null,"SORGUM-SUDAN KURU OTU",0,5,91,66,"6,06",98,0,"56,09",2.0299999999999998,1.18,0.62,11.3,69,31,20,95,40,11,43,1.8,9.6,250,20,3,135,11,0.09,0.67,2.83,2.83,2.83,5.49,2.83,3.83,1,3.5,4.5,0.51,0.31,0.37,0,2.08,0.02,0.06,0.127,31.4,0,170,76.3,0,38,0,0,0,75,null,null,null,null,null,null,null,null,null,null,null,"PEPBAL=",{"$f":"(BJ64/6.25)-(2/3)*BH64","v":-107.29372494433944},"Peptid dengesi, g nitrojen/gün"]
[null,null,null,null,null,null,null,null,null,null,null,null,null,null,null,null,null,null,null,null,null,null,null,"SOYA TOHUM KABUKLARI",0,5,91,66.3,"2,985",2,0,"80",2.89,1.94,1.3,12.2,58,42,18,72,20,14,90,2.1,4.9000000000000004,350,40,8,150,12,0.15,0.47,4.54,4.72,2.74,4.8600000000000003,2.46,3.3,1.84,2.99,0.67,0.53,0.18,0.22,0,1.29,0.03,0.11,0.121,17.8,0,409,10,0.14000000000000001,48,0,0,3.7,75,null,null,null,null,null,null,null,null,null,null,null,"BACTNBAL=",{"$f":"(((BJ64+AF64)/6.25)+büyükU)-BG64","v":-107.08475073342109},"Bakteriyel nitrojen dengesi, g/gün"]
[null,null,null,null,null,null,null,null,null,null,null,null,null,null,null,null,null,null,null,null,null,null,null,"YABANİ YULAF (RYEGRASS) KURU OTU",0,5,88,41,"4,878",98,0,"64",2.31,1.44,0.86,8.6,65,35,25,96,31,5.7,46,2.2000000000000002,10,250,30,5,135,11,0.09,0.67,2.83,2.83,2.83,5.49,2.83,3.83,1,3.5,4.5,0,0,0,0,0,0,0,0,0,0,0,0,0,0,199.9,0,0,75,null,null,null,null,null,null,null,null,null,null,null,"Mikrobiyel kompozisyon"]
[null,null,null,null,null,null,null,null,null,null,null,null,null,null,null,null,null,null,null,null,null,null,null,"YEM KANYAŞI (CANARYGRASS REED) KURU OTU",0,5,89,64,"6,25",98,0,"55",1.99,1.1399999999999999,0.57999999999999996,10.3,71,29,25,96,31,6.1,44,3.1,10,250,30,3,135,11,0.09,0.67,2.83,2.83,2.83,5.49,2.83,3.83,1,3.5,4.5,0.36,0.24,0.22,0,2.91,0.02,0,0,11.9,0,150,92.4,0,0,31.6,0,0,75,null,null,null,null,null,null,null,null,null,null,null,"Rumenden kaçan bakteriyel fraksiyonlar:"]
[null,null,null,null,null,null,null,null,null,null,null,null,null,null,null,null,null,null,null,null,null,null,null,"Yonca Kuru Otu, Erken Vejetatif",0,5,91,26.963586273595002,14.267172647546555,92,0,71,2.7080332350406109,1.8389653754167659,1.1948997476959524,30.016915342367088,82.4,17.600000000000001,29,93,7.3724154566434859,3.794248409898155,64,5.3050762049316367,10.23556981826998,250,30,5.5,150,9,1.25,0.73,6.02,6.39,5,9.26,6.01,7.14,2.62,6.32,1.84,1.41,0.22,0.34,0.34,2.5099999999999998,0.12,0.3,0.28499999999999998,12.7,0.17,240,36,0.55000000000000004,30,56,2,26,85,null,null,null,null,null,null,null,null,null,null,null,"REBTP=",{"$f":"BL64","v":715.65802297291748},"barsaklara geçen bakteriyel gerçek protein miktarı, g/gün"]
[null,null,null,null,null,null,null,null,null,null,null,null,null,null,null,null,null,null,null,null,null,null,null,"Yonca Kuru Otu, Geç Vejetatif",0,5,91,37.290022627646948,22.135776027586022,92,0,61,2.2278800098090659,1.4029766392376,0.80667134025496845,23.294306286936166,82.1,17.899999999999999,29,93,8.6648177033445553,5.7480007838116851,64,3.4933368196633756,8.8982475476259868,250,30,5.5,150,9,1.25,0.73,6.02,6.39,5,9.26,6.01,7.14,2.62,6.32,1.84,1.63,0.22,0.21,0.34,2.5099999999999998,0.12,0.54,0.28499999999999998,11.4,0,240,47.1,0.55000000000000004,37.4,56,2,26,83,null,null,null,null,null,null,null,null,null,null,null,"REBCW=",{"$f":"BM64","v":298.19084290538228},"barsaklara geçen bakteriyel hücre duvarı protein miktarı, g/gün"]
[null,null,null,null,null,null,null,null,null,null,null,null,null,null,null,null,null,null,null,null,null,null,null,"Yonca Kuru Otu, 1.kalite, >%21 HP, <%37 NDF",0,5,91,36.83943089430894,16,92,0,56.501159982952238,2.0605548169690104,1.2432464434388582,0.66068026129549828,22.786567891202822,80.354505342175344,19.645494657824649,28,93,8.9265163825981144,5.5071980555528919,64,3.0968931162981699,9.9871615924649291,250,30,5.5,150,9,1.25,0.73,6.02,6.39,5,9.26,6.01,7.14,2.62,6.32,1.84,1.37,0.22,0.35,0.38,1.56,0.12,0.28000000000000003,0.39400000000000002,17.7,0.16,225,28,0.55000000000000004,30.9,46,2,11,80,null,null,null,null,null,null,null,null,null,null,null,"REBNA=",{"$f":"BN64","v":178.91450574322937},"barsaklara geçen bakteriyel nükleik asit miktarı, g/gün"]
[null,null,null,null,null,null,null,null,null,null,null,null,null,null,null,null,null,null,null,null,null,null,null,"Yonca Kuru Otu, 2.kalite, %19-21 HP, %37-40 NDF",0,5,91,39.629619746280717,21.098958979105749,92,0,55.028429264018747,1.9774889688289441,1.162337820651147,0.5860345912087026,20.195909657703062,70.912802655975327,29.087197344024666,28,93,16.924643930647047,6.4387080774702721,64,3.0297832542815497,9.7494682982659135,250,30,5.5,150,9,1.25,0.73,6.02,6.39,5,9.26,6.01,7.14,2.62,6.32,1.84,1.39,0.24,0.35,0,1.56,0.12,0.28000000000000003,0.39400000000000002,17.100000000000001,0,225,60.5,0.55000000000000004,30.9,46,2,11,78,null,null,null,null,null,null,null,null,null,null,null,"REBCHO=",{"$f":"BO64","v":400.76849286483372},"barsaklara geçen bakteriyel CHO miktarı, g/gün"]
[null,null,null,null,null,null,null,null,null,null,null,null,null,null,null,null,null,null,null,null,null,null,null,"Yonca Kuru Otu, 3.kalite, %17-19 HP, %40-44 NDF",0,5,91,43.362828147138643,20.060928817981797,92,0,54.455322971756715,1.9290005970440933,1.0839730358921449,0.51426777587085859,17.932432716647938,68.563810249731915,31.436189750268092,26,92,21.659081885746346,9.2631226782089158,64,2.4778539576363183,9.0679552708398692,250,30,5.5,150,9,1.25,0.73,6.02,6.39,5,9.26,6.01,7.14,2.62,6.32,1.84,1.19,0.24,0.27,0,1.56,7.0000000000000007E-2,0.3,0.23,9.9,0.13,160,42.3,0.55000000000000004,26.1,19.3,1,0,76,null,null,null,null,null,null,null,null,null,null,null,"REBFAT=",{"$f":"BP64","v":229.01056735133355},"barsaklara geçen bakteriyel yağ miktarı, g/gün"]
[null,null,null,null,null,null,null,null,null,null,null,null,null,null,null,null,null,null,null,null,null,null,null,"Yonca Kuru Otu, 4.kalite, %15-17 HP, %44-48 NDF",0,5,91,47.372710189449002,19.23632030152714,92,0,52.691627229750395,1.8401447103193391,1.0284165491411508,0.46240714318416759,16.083307584160835,68.037218160279608,31.962781839720389,26,92,20.427581521953098,9.5143906085967807,64,2.5928461301693373,8.9074669378391551,250,30,5.5,150,9,1.25,0.73,6.02,6.39,5,9.26,6.01,7.14,2.62,6.32,1.84,1.19,0.24,0.27,0,1.56,7.0000000000000007E-2,0.3,0.23,9.9,0.13,160,42.3,0.55000000000000004,26.1,19.3,1,0,74,null,null,null,null,null,null,null,null,null,null,null,"REBASH=",{"$f":"BQ64","v":83.970541362155643},"barsaklara geçen bakteriyel kül miktarı, g/gün"]
[null,null,null,null,null,null,null,null,null,null,null,null,null,null,null,null,null,null,null,null,null,null,null,"Yonca Kuru Otu, 5.kalite, %13-15 HP, %48-54 NDF",0,5,91,52.652454651001563,18.10834504334111,92,0,52.126407215385605,1.7997294416537588,0.99744194699840938,0.43309742854699912,14.318328956461977,67.944020274103863,32.055979725896137,25,92,21.02053313340874,7.8604205518261523,64,2.5526495842329253,8.1664840330743669,250,30,5.5,150,9,1.25,0.73,6.02,6.39,5,9.26,6.01,7.14,2.62,6.32,1.84,1.18,0.21,0.22,0,2.0699999999999998,0.08,0.25,0.40600000000000003,13.7,0,170,38.5,0.55000000000000004,22.1,19.3,1,0,2,null,null,null,null,null,null,null,null,null,null,null,"İntestinal sindirilebilirlikler ve emilim"]
[null,null,null,null,null,null,null,null,null,null,null,null,null,null,null,null,null,null,null,null,null,null,null,"Yonca Kuru Otu, 6.kalite, <%13 HP, >%54 NDF",0,5,89,54.819609523720324,17.559533407662965,92,0,50.423986683812878,1.7065895514169374,0.88418688387964539,0.32368276327283479,12.441510912054689,65.271235862323095,34.728764137676905,15,100,17.157103856465849,10.323404813367716,64,2.5386914588012401,7.5600057669122016,250,30,5.5,150,9,1.25,0.73,6.02,6.39,5,9.26,6.01,7.14,2.62,6.32,1.84,1.18,0.21,0.22,0,2.0699999999999998,0.08,0.25,0.40600000000000003,13.7,0,170,38.5,0.55000000000000004,22.1,19.3,1,0,70,null,null,null,null,null,null,null,null,null,null,null,"Yemden ve bakteriyel kaynaklardan sindirilen proteinin hesaplanması:"]
[null,null,null,null,null,null,null,null,null,null,null,null,null,null,null,null,null,null,null,null,null,null,null,"YONCA UNU, %15",0,5,90,55.4,"26",6,0,"59",2.13,1.28,0.71,17.3,54,46,28,100,25,17,64,2.4,9.9,300,37,10,150,8,0.15,0.73,6.02,6.39,5,9.26,6.01,7.14,2.62,6.32,1.84,1.38,0.25,0.28999999999999998,0,2.46,0.08,0.21,0.19,10.5,0.13,309,31,0.31,21,33,0,91,75,null,null,null,null,null,null,null,null,null,null,null,"DIGPB1=",{"$f":"BR64","v":6.3741106954571958},"sindirilebilir B1 protein, g/gün"]
[null,null,null,null,null,null,null,null,null,null,null,null,null,null,null,null,null,null,null,null,null,null,null,"YULAF KURU OTU",0,5,91,63,"9,09",98,0,"53",1.92,1.07,0.52,9.5,68,32,30,93,30,10,90,2.4,7.9,250,30,4,135,11,0.09,0.67,2.83,2.83,2.83,5.49,2.83,3.83,1,3.5,4.5,0.32,0.25,0.28999999999999998,0.52,1.49,0.18,0.23,7.2999999999999995E-2,4.8,0,406,99,0,45,49.6,2,0,75,null,null,null,null,null,null,null,null,null,null,null,"DIGPB2=",{"$f":"BS64","v":237.6739125288866},"sindirilebilir B2 protein, g/gün"]
[null,null,null,null,null,null,null,null,null,null,null,null,null,null,null,null,null,null,null,null,null,null,null,"YULAF SAMANI",0,5,92.2,74.400000000000006,"20",98,40.5,"45",1.63,0.79,0.25,4.4000000000000004,55,45,20,95,75,65,5,2.2000000000000002,7.8,250,30,3,135,11,0.09,0.67,2.83,2.83,2.83,5.49,2.83,3.83,1,3.5,4.5,0.23,0.06,0.17,0.78,2.5299999999999998,0.42,0.22,0,10.3,0,164,31,0,6,6.3,1,0,25,null,null,null,null,null,null,null,null,null,null,null,"DIGPB3=",{"$f":"BT64","v":60.706561386867449},"sindirilebilir B3 protein, g/gün"]
[null,null,null,null,null,null,null,null,null,null,null,null,null,null,null,null,null,null,null,null,null,null,null,null,null,null,null,null,null,null,null,null,null,null,null,null,null,null,null,null,null,null,null,null,null,null,null,null,null,null,null,null,null,null,null,null,null,null,null,null,null,null,null,null,null,null,null,null,null,null,null,null,null,null,null,null,null,null,null,null,null,null,null,null,null,null,null,null,null,null,"DIGFP=",{"$f":"BU64","v":304.75458461121127},"sindirilebilir yem proteini, g/gün"]
[null,null,null,null,null,null,null,null,null,null,null,null,null,null,null,null,null,null,null,null,null,null,null,null,null,null,null,null,null,null,null,null,null,null,null,null,null,null,null,null,null,null,null,null,null,null,null,null,null,null,null,null,null,null,null,null,null,null,null,null,null,null,null,null,null,null,null,null,null,null,null,null,null,null,null,null,null,null,null,null,null,null,null,null,null,null,null,null,null,null,"DIGBTP=",{"$f":"BV64","v":715.65802297291748},"sindirilebilir bakteriyel gerçek protein, g/gün"]
[null,null,null,null,null,null,null,null,null,null,null,null,null,null,null,null,null,null,null,null,null,null,null,null,null,null,null,null,null,null,null,null,null,null,null,null,null,null,null,null,null,null,null,null,null,null,null,null,null,null,null,null,null,null,null,null,null,null,null,null,null,null,null,null,null,null,null,null,null,null,null,null,null,null,null,null,null,null,null,null,null,null,null,null,null,null,null,null,null,null,"DIGBNA=",{"$f":"BW64","v":178.91450574322937},"sindirilebilir bakteriyel nükleik asitler, g/gün"]
[null,null,null,null,null,null,null,null,null,null,null,null,null,null,null,null,null,null,null,null,null,null,null,null,null,null,null,null,null,null,null,null,null,null,null,null,null,null,null,null,null,null,null,null,null,null,null,null,null,null,null,null,null,null,null,null,null,null,null,null,null,null,null,null,null,null,null,null,null,null,null,null,null,null,null,null,null,null,null,null,null,null,null,null,null,null,null,null,null,null,"DIGP=",{"$f":"BX64","v":1199.3271133273581},"sindirilebilir protein, g/gün"]
[null,null,null,null,null,null,null,null,null,null,null,null,null,null,null,null,null,null,null,null,null,null,null,null,null,null,null,null,null,null,null,null,null,null,null,null,null,null,null,null,null,null,null,null,null,null,null,null,null,null,null,null,null,null,null,null,null,null,null,null,null,null,null,null,null,null,null,null,null,null,null,null,null,null,null,null,null,null,null,null,null,null,null,null,null,null,null,null,null,null,"Yem maddesinden sindirilen CHO'ın hesaplanması:"]
[null,null,null,null,null,null,null,null,null,null,null,null,null,null,null,null,null,null,null,null,null,null,null,null,null,null,null,null,null,null,null,null,null,null,null,null,null,null,null,null,null,null,null,null,null,null,null,null,null,null,null,null,null,null,null,null,null,null,null,null,null,null,null,null,null,null,null,null,null,null,null,null,null,null,null,null,null,null,null,null,null,null,null,null,null,null,null,null,null,null,"DIGFC=",{"$f":"BY64","v":1526.868319615201},"sindirilen intestinal  yem CHO'ı, g/gün"]
[null,null,null,null,null,null,null,null,null,null,null,null,null,null,null,null,null,null,null,null,null,null,null,null,null,null,null,null,null,null,null,null,null,null,null,null,null,null,null,null,null,null,null,null,null,null,null,null,null,null,null,null,null,null,null,null,null,null,null,null,null,null,null,null,null,null,null,null,null,null,null,null,null,null,null,null,null,null,null,null,null,null,null,null,null,null,null,null,null,null,"DIGBC=",{"$f":"BZ64","v":380.73006822159198},"sindirilen bakteriyel CHO, g/gün"]
[null,null,null,null,null,null,null,null,null,null,null,null,null,null,null,null,null,null,null,null,null,null,null,null,null,null,null,null,null,null,null,null,null,null,null,null,null,null,null,null,null,null,null,null,null,null,null,null,null,null,null,null,null,null,null,null,null,null,null,null,null,null,null,null,null,null,null,null,null,null,null,null,null,null,null,null,null,null,null,null,null,null,null,null,null,null,null,null,null,null,"DIGC=",{"$f":"Y94","v":1907.5983878367927},"sindirilebilir CHO, g/gün"]
[null,null,null,null,null,null,null,null,null,null,null,null,null,null,null,null,null,null,null,null,null,null,null,null,null,null,null,null,null,null,null,null,null,null,null,null,null,null,null,null,null,null,null,null,null,null,null,null,null,null,null,null,null,null,null,null,null,null,null,null,null,null,null,null,null,null,null,null,null,null,null,null,null,null,null,null,null,null,null,null,null,null,null,null,null,null,null,null,null,null,"stdig",0.75,"postruminal nişasta sindirilebilirliği, g/g"]
[null,null,null,null,null,null,null,null,null,null,null,null,null,null,null,null,null,null,null,null,null,null,null,null,null,null,null,null,null,null,null,null,null,null,null,null,null,null,null,null,null,null,null,null,null,null,null,null,null,null,null,null,null,null,null,null,null,null,null,null,null,null,null,null,null,null,null,null,null,null,null,null,null,null,null,null,null,null,null,null,null,null,null,null,null,null,null,null,null,null,"Rumenden kaçan yağın hesaplanması:"]
[null,null,null,null,null,null,null,null,null,null,null,null,null,null,null,null,null,null,null,null,null,null,null,null,null,null,null,null,null,null,null,null,null,null,null,null,null,null,null,null,null,null,null,null,null,null,null,null,null,null,null,null,null,null,null,null,null,null,null,null,null,null,null,null,null,null,null,null,null,null,null,null,null,null,null,null,null,null,null,null,null,null,null,null,null,null,null,null,null,null,"REFAT=",{"$f":"Z94","v":186.22379999999998},"rumenden  kaçan yağ miktarı, g/gün"]
[null,null,null,null,null,null,null,null,null,null,null,null,null,null,null,null,null,null,null,null,null,null,null,null,null,null,null,null,null,null,null,null,null,null,null,null,null,null,null,null,null,null,null,null,null,null,null,null,null,null,null,null,null,null,null,null,null,null,null,null,null,null,null,null,null,null,null,null,null,null,null,null,null,null,null,null,null,null,null,null,null,null,null,null,null,null,null,null,null,null,"Yemden ve bakteriyel kaynaklardan sindirilebilir yağın hesaplanması:"]
[null,null,null,null,null,null,null,null,null,null,null,null,null,null,null,null,null,null,null,null,null,null,null,null,null,null,null,null,null,null,null,null,null,null,null,null,null,null,null,null,null,null,null,null,null,null,null,null,null,null,null,null,null,null,null,null,null,null,null,null,null,null,null,null,null,null,null,null,null,null,null,null,null,null,null,null,null,null,null,null,null,null,null,null,null,null,null,null,null,null,"DIGFF=",{"$f":"AA94","v":176.91260999999997},"sindirilebilir yem yağı, g/gün"]
[null,null,null,null,null,null,null,null,null,null,null,null,null,null,null,null,null,null,null,null,null,null,null,null,null,null,null,null,null,null,null,null,null,null,null,null,null,null,null,null,null,null,null,null,null,null,null,null,null,null,null,null,null,null,null,null,null,null,null,null,null,null,null,null,null,null,null,null,null,null,null,null,null,null,null,null,null,null,null,null,null,null,null,null,null,null,null,null,null,null,"DIGBF=",{"$f":"AB94","v":217.56003898376687},"sindirilebilir bakteriyel yağı, g/gün"]
[null,null,null,null,null,null,null,null,null,null,null,null,null,null,null,null,null,null,null,null,null,null,null,null,null,null,null,null,null,null,null,null,null,null,null,null,null,null,null,null,null,null,null,null,null,null,null,null,null,null,null,null,null,null,null,null,null,null,null,null,null,null,null,null,null,null,null,null,null,null,null,null,null,null,null,null,null,null,null,null,null,null,null,null,null,null,null,null,null,null,"DIGF=",{"$f":"AC94","v":394.47264898376687},"sindirilebilir yağ, g/gün"]
[null,null,null,null,null,null,null,null,null,null,null,null,null,null,null,null,null,null,null,null,null,null,null,null,null,null,null,null,null,null,null,null,null,null,null,null,null,null,null,null,null,null,null,null,null,null,null,null,null,null,null,null,null,null,null,null,null,null,null,null,null,null,null,null,null,null,null,null,null,null,null,null,null,null,null,null,null,null,null,null,null,null,null,null,null,null,null,null,null,null,"Dışkı ile atılım"]
[null,null,null,null,null,null,null,null,null,null,null,null,null,null,null,null,null,null,null,null,null,null,null,null,null,null,null,null,null,null,null,null,null,null,null,null,null,null,null,null,null,null,null,null,null,null,null,null,null,null,null,null,null,null,null,null,null,null,null,null,null,null,null,null,null,null,null,null,null,null,null,null,null,null,null,null,null,null,null,null,null,null,null,null,null,null,null,null,null,null,"Dışkıdaki sindirilmeyen NDFIP, ADFIP, nişasta, şeker, yağ, kül fraksiyonlarını hesaplama:"]
[null,null,null,null,null,null,null,null,null,null,null,null,null,null,null,null,null,null,null,null,null,null,null,null,null,null,null,null,null,null,null,null,null,null,null,null,null,null,null,null,null,null,null,null,null,null,null,null,null,null,null,null,null,null,null,null,null,null,null,null,null,null,null,null,null,null,null,null,null,null,null,null,null,null,null,null,null,null,null,null,null,null,null,null,null,null,null,null,null,null,"FEPB3=",{"$f":"AD94","v":15.176640346716859},"dışkıdaki B3 protein fraksiyonu miktarı, g/gün"]
[null,null,null,null,null,null,null,null,null,null,null,null,null,null,null,null,null,null,null,null,null,null,null,null,null,null,null,null,null,null,null,null,null,null,null,null,null,null,null,null,null,null,null,null,null,null,null,null,null,null,null,null,null,null,null,null,null,null,null,null,null,null,null,null,null,null,null,null,null,null,null,null,null,null,null,null,null,null,null,null,null,null,null,null,null,null,null,null,null,null,"FEPC=",{"$f":"AE94","v":87.436379999999986},"dışkıdaki C protein fraksiyonu miktarı, g/gün"]
[null,null,null,null,null,null,null,null,null,null,null,null,null,null,null,null,null,null,null,null,null,null,null,null,null,null,null,null,null,null,null,null,null,null,null,null,null,null,null,null,null,null,null,null,null,null,null,null,null,null,null,null,null,null,null,null,null,null,null,null,null,null,null,null,null,null,null,null,null,null,null,null,null,null,null,null,null,null,null,null,null,null,null,null,null,null,null,null,null,null,"FEFP=",{"$f":"AF94","v":102.61302034671684},"dışkıdaki yem proteini miktarı, g/gün"]
[null,null,null,null,null,null,null,null,null,null,null,null,null,null,null,null,null,null,null,null,null,null,null,null,null,null,null,null,null,null,null,null,null,null,null,null,null,null,null,null,null,null,null,null,null,null,null,null,null,null,null,null,null,null,null,null,null,null,null,null,null,null,null,null,null,null,null,null,null,null,null,null,null,null,null,null,null,null,null,null,null,null,null,null,null,null,null,null,null,null,"FECB1=",{"$f":"AG94","v":373.18968585428286},"dışkıdaki yem nişastası miktarı, g/gün"]
[null,null,null,null,null,null,null,null,null,null,null,null,null,null,null,null,null,null,null,null,null,null,null,null,null,null,null,null,null,null,null,null,null,null,null,null,null,null,null,null,null,null,null,null,null,null,null,null,null,null,null,null,null,null,null,null,null,null,null,null,null,null,null,null,null,null,null,null,null,null,null,null,null,null,null,null,null,null,null,null,null,null,null,null,null,null,null,null,null,"Tanımlamalar","FECB2=",{"$f":"AH94","v":1319.0094746606446},"dışkıdaki yem değerlendirilebilir selüloz miktarı, g/gün"]
[null,null,null,null,null,null,null,null,null,null,null,null,null,null,null,null,null,null,null,null,null,null,null,null,null,null,null,null,null,null,null,null,null,null,null,null,null,null,null,null,null,null,null,null,null,null,null,null,null,null,null,null,null,null,null,null,null,null,null,null,null,null,null,null,null,null,null,null,null,null,null,null,null,null,null,null,null,null,null,null,null,null,null,null,null,null,null,null,null,"Irkı","FECC=",{"$f":"AI94","v":929.88510480000002},"dışkıdaki yem değerlendirilemeyen selüloz miktarı, g/gün"]
[null,null,null,null,null,null,null,null,null,null,null,null,null,null,null,null,null,null,null,null,null,null,null,null,null,null,null,null,null,null,null,null,null,null,null,null,null,null,null,null,null,null,null,null,null,null,null,null,null,null,null,null,null,null,null,null,null,null,null,null,null,null,null,null,null,null,null,null,null,null,null,null,null,null,null,null,null,null,null,null,null,null,null,null,null,null,null,null,null,"Angus","FEFC=",{"$f":"AJ94","v":2622.0842653149271},"dışkıdaki yem CHO'ı miktarı, g/gün"]
[null,null,null,null,null,null,null,null,null,null,null,null,null,null,null,null,null,null,null,null,null,null,null,null,null,null,null,null,null,null,null,null,null,null,null,null,null,null,null,null,null,null,null,null,null,null,null,null,null,null,null,null,null,null,null,null,null,null,null,null,null,null,null,null,null,null,null,null,null,null,null,null,null,null,null,null,null,null,null,null,null,null,null,null,null,null,null,null,null,"Ayrşayr","FEFA=",{"$f":"AK94","v":204.03084999999999},"dışkıdaki sindirilmemiş yem külü miktarı, g/gün"]
[null,null,null,null,null,null,null,null,null,null,null,null,null,null,null,null,null,null,null,null,null,null,null,null,null,null,null,null,null,null,null,null,null,null,null,null,null,null,null,null,null,null,null,null,null,null,null,null,null,null,null,null,null,null,null,null,null,null,null,null,null,null,null,null,null,null,null,null,null,null,null,null,null,null,null,null,null,null,null,null,null,null,null,null,null,null,null,null,null,"İsviçre Esmeri","FEFF=",{"$f":"AL94","v":9.311190000000007},"dışkıdaki sindirilmemiş yem yağı miktarı, g/gün"]
[null,null,null,null,null,null,null,null,null,null,null,null,null,null,null,null,null,null,null,null,null,null,null,null,null,null,null,null,null,null,null,null,null,null,null,null,null,null,null,null,null,null,null,null,null,null,null,null,null,null,null,null,null,null,null,null,null,null,null,null,null,null,null,null,null,null,null,null,null,null,null,null,null,null,null,null,null,null,null,null,null,null,null,null,null,null,null,null,null,"Braford","Dışkıdaki mikrobiyel madde, sindirilmeyen bakteriyel hücre duvarları, bakteriyel CHO, yağ ve külden oluşur:"]
[null,null,null,null,null,null,null,null,null,null,null,null,null,null,null,null,null,null,null,null,null,null,null,null,null,null,null,null,null,null,null,null,null,null,null,null,null,null,null,null,null,null,null,null,null,null,null,null,null,null,null,null,null,null,null,null,null,null,null,null,null,null,null,null,null,null,null,null,null,null,null,null,null,null,null,null,null,null,null,null,null,null,null,null,null,null,null,null,null,"Brangus","FEBCW=",{"$f":"AM94","v":298.19084290538228},"fekal bakteriyel hücre duvarı proteini miktarı, g/gün"]
[null,null,null,null,null,null,null,null,null,null,null,null,null,null,null,null,null,null,null,null,null,null,null,null,null,null,null,null,null,null,null,null,null,null,null,null,null,null,null,null,null,null,null,null,null,null,null,null,null,null,null,null,null,null,null,null,null,null,null,null,null,null,null,null,null,null,null,null,null,null,null,null,null,null,null,null,null,null,null,null,null,null,null,null,null,null,null,null,null,"Braunvieh","FEBCP=",{"$f":"AN94","v":298.19084290538228},"fekal bakteriyel protein miktarı, g/gün"]
[null,null,null,null,null,null,null,null,null,null,null,null,null,null,null,null,null,null,null,null,null,null,null,"ENERJİ KAYNAKLARI","en az","en çok","KM %Yem","NDF %KM","Lignin %NDF","Effekt. %NDF","HS,%","TDN %KM","ME,Mcal/kg","NEm,Mcal/kg","NEg,Mcal/kg","HP,%","DIP %HP","UIP %HP","SoIP %HP","NPN %SoIP","NDFIP %HP","ADFIP %HP","Nişasta %NSC","HY %KM","HK %KM","A kd %/sa©","B1 kd %/sa©","B2 kd %/sa©","B1 kd %/sa(p)","B2 kd %/sa(p)","B3 kd %/sa(p)","MET %UIP","LİZ %UIP","ARJ %UIP","TRE %UIP","LÖY %UIP","İZOLÖY %UIP","VAL %UIP","HIS %UIP","FENAL %UIP","TRİP %UIP","Ca %KM","P %KM","Mg %KM","Cl %KM","K %KM","Na %KM","S %KM","Co mg/kg","Cu mg/kg","I mg/kg","Fe mg/kg","Mn mg/kg","Se mg/kg","Zn mg/kg","Vit A 1000 IU/kg","Vit D 1000 IU/kg","Vit E IU/kg","FİYAT,Krş",null,null,null,null,null,null,null,null,null,null,"Şarole","FEBC=",{"$f":"AO94","v":20.038424643241704},"fekal bakteriyel CHO miktarı, g/gün"]
[null,null,null,null,null,null,null,null,null,null,null,null,null,null,null,null,null,null,null,null,null,null,null,"ARPA, AĞIR",0,5,88,18.100000000000001,"10,52",34,0,84,3.04,2.06,1.4,13.2,"66,92",33.07,17,29,8,5,90,2.2000000000000002,2.4,300,30,5,300,12,0.35,0.81,3.07,4.83,3.15,6.83,3.92,4.88,2.29,5.6,1.26,0.05,0.35,0.12,0.13,0.56999999999999995,0.01,0.15,0.35,5.3,0.05,59.5,18.3,0.17899999999999999,13,3.8,0,26.2,75,null,null,null,null,null,null,null,null,null,null,"Çiyanina","FEBF=",{"$f":"AP94","v":11.450528367566688},"fekal bakteriyel yağ miktarı, g/gün"]
[null,null,null,null,null,null,null,null,null,null,null,null,null,null,null,null,null,null,null,null,null,null,null,"ARPA, HAFİF",0,5,88,28,"10,35",34,0,77,2.78,1.85,1.22,14,"66,92",33.07,17,29,8,5,90,2.2999999999999998,4,300,30,5,300,12,0.35,0.81,3.07,4.83,3.15,6.83,3.92,4.88,2.29,5.6,1.26,0.06,0.39,0.15,0.13,0.52,0.03,0.17,0.193,8.6,0.05,90,18.100000000000001,0.17899999999999999,44.4,3.8,0,26.2,70,null,null,null,null,null,null,null,null,null,null,"Frezyan","FEBASH=",{"$f":"AQ94","v":41.985270681077822},"fekal bakteriyel kül miktarı, g/gün"]
[null,null,null,null,null,null,null,null,null,null,null,null,null,null,null,null,null,null,null,null,null,null,null,"BUĞDAY",0,5,89,35,"5,945",2,0,83,3,2.0299999999999998,1.37,18.399999999999999,"77,15",22.85,40,75,4,3,90,3.2,2.87,300,70,6,250,6,0.35,1.02,3.77,6.96,3.67,7.37,4.09,5.79,2.41,4.74,1.2,0.15,1,0.38,0.04,1.1000000000000001,0.01,0.19,0.11,11,0.123,110,128.30000000000001,0.82799999999999996,109.1,5.8,0,26.9,80,null,null,null,null,null,null,null,null,null,null,"Gernzey","FEBACT=",{"$f":"AR94","v":371.66506659726838},"fekal bakteri miktarı, g/gün"]
[null,null,null,null,null,null,null,null,null,null,null,null,null,null,null,null,null,null,null,null,null,null,null,"BUĞDAY, ÖĞÜTÜLMÜŞ",0,5,89,11.8,"6,25",0,0,88,3.18,2.1800000000000002,1.5,14.2,"77",23,30,25,4,2,90,2.34,2.0099999999999998,300,40,9,300,12,0.35,0.98,3,4.33,2.82,13.64,3.98,4.5,2.23,4.84,1.06,0.05,0.44,0.13,0.09,0.4,0.01,0.14000000000000001,0.497,6.5,0.10100000000000001,45.1,36.6,0.05,38.1,0,0,17,80,null,null,null,null,null,null,null,null,null,null,"Hereford","Endoen protein, CHO ve kül:"]
[null,null,null,null,null,null,null,null,null,null,null,null,null,null,null,null,null,null,null,null,null,null,null,"BUĞDAY, SERT, KIRMIZI, YAZLIK",0,5,88,11.7,"6,25",0,0,84,3.04,2.06,1.4,14.2,"73,95",26.05,30,73,4,2,90,2,2,300,40,6,300,12,0.35,0.98,3,4.33,2.82,13.64,3.98,4.5,2.23,4.84,1.06,0.05,0.42,0.16,0.09,0.41,0.02,0.17,0.14000000000000001,6.8,0,70,42.2,0.3,43.3,0,0,14.4,78,null,null,null,null,null,null,null,null,null,null,"Siyah Alaca","FEENGP=",{"$f":"AS94","v":349.53050692670558},"dışkıdaki endojen protein miktarı, g/gün"]
[null,null,null,null,null,null,null,null,null,null,null,null,null,null,null,null,null,null,null,null,null,null,null,"BUĞDAY, YUMUŞAK, BEYAZ",0,5,90,9.6999999999999993,"4,285",2.6,0,85,3.07,2.09,1.42,11.3,"73,95",26.05,30,73,4,2,90,1.9,2,300,40,6,300,12,0.35,0.98,3,4.33,2.82,13.64,3.98,4.5,2.23,4.84,1.06,7.0000000000000007E-2,0.33,0.11,0,0.43,0.02,0.13,0.15,7.8,0,40,40,5.0999999999999997E-2,30,0,0,34.200000000000003,78,null,null,null,null,null,null,null,null,null,null,"Jersey","FEENGF=",{"$f":"AT94","v":92.415400000000005},"dışkıdaki endojen yağ miktarı, g/gün"]
[null,null,null,null,null,null,null,null,null,null,null,null,null,null,null,null,null,null,null,null,null,null,null,"ÇAVDAR",0,2,88,19,"5,3",34,0,84,3.04,2.06,1.4,13.8,"78,99",21.01,53,19,7,4,90,1.7,2,300,40,8,300,12,0.35,1.38,3.47,4.42,2.97,5.8,3.84,4.6399999999999997,2.1,4.6399999999999997,0.94,7.0000000000000007E-2,0.36,0.14000000000000001,0.03,0.52,0.03,0.17,0,8.6,0,80,82.3,0.44,32.200000000000003,0.2,0,16.600000000000001,70,null,null,null,null,null,null,null,null,null,null,"Limuzin","FEENGA=",{"$f":"AU94","v":132.02200000000002},"dışkıdaki endojen kül miktarı, g/gün"]
[null,null,null,null,null,null,null,null,null,null,null,null,null,null,null,null,null,null,null,null,null,null,null,"HAYVAN PANCARI",0,5,11,44.6,"3,703",33,0,72,3.12,1.94,1.3,11,"42,62",57.37,27,96,53,11,90,2.1,4.7,300,40,8,300,12,0.35,0.65,3,4.43,3.17,4.6100000000000003,2.69,4.5,1.87,2.8,1.1000000000000001,0.87,0.1,0.22,0.04,0.19,0.19,0.22,8.1000000000000003E-2,13.8,0,330,37.700000000000003,0.12,10,0.4,0.6,0,10,null,null,null,null,null,null,null,null,null,null,"Longhorn","IDM",{"$f":"AZ94","v":3883.6722991856177},"Sindirilmeyen kuru madde, g/gün         (NRC,1989)"]
[null,null,null,null,null,null,null,null,null,null,null,null,null,null,null,null,null,null,null,null,null,null,null,"KUYRUK YAĞI",0,0.5,99,0,"0",0,0,177,6.4,4.75,3.51,0,"100",0,0,0,0,0,0,99,1,0,0,0,0,0,0,0,0,0,0,0,0,0,0,0,0,0.56999999999999995,0.06,0.06,0,0.32,0.01,0,0.56999999999999995,15,0.68,482,47,0,42,0,0,0,250,null,null,null,null,null,null,null,null,null,null,"Meyn Anju","Toplam dışkı kuru maddesi, sindirilmemiş yem kalıntıları, mikrobiyel madde ve endoen maddelerde bulunan protein, CHO, yağ ve kül kuru maddelerini toplayarak hesap edilir:"]
[null,null,null,null,null,null,null,null,null,null,null,null,null,null,null,null,null,null,null,null,null,null,null,"LUPENLER",0,5,90,33,"10",0,0,78,2.82,1.88,1.24,34.200000000000003,"69,19",30.8,26,23,4,3,90,5.5,5.0999999999999996,300,30,5,200,10,0.2,1.01,7.06,9.3699999999999992,3.53,6.93,4.08,4.62,2.48,4.62,0.76,0.26,0.44,0,0,0.91,0,0,0,0,0,0,0,0,0,0,0,0,80,null,null,null,null,null,null,null,null,null,null,"Piedmontese","FEPROT=",{"$f":"AV94","v":750.33437017880476},"fekal protein miktarı, g/gün"]
[null,null,null,null,null,null,null,null,null,null,null,null,null,null,null,null,null,null,null,null,null,null,null,"MISIR PULU (FLAKED)",0,5,86,9,"2,222",48,0,93,3.36,2.33,1.62,9.8000000000000007,"43,03",56.96,8,73,15,5,90,4.3,1.6,300,25,6,135,5,0.08,1.1200000000000001,1.65,1.82,2.8,10.73,2.69,3.75,2.06,3.65,0.37,0.03,0.31,0.11,0.06,0.33,0.01,0.14000000000000001,0.42899999999999999,4.8,0,30,6.4,0,0,0,0,0,140,null,null,null,null,null,null,null,null,null,null,"Pinzgauer","FECHO=",{"$f":"AW94","v":2642.1226899581688},"dışkıdaki CHO miktarı, g/gün"]
[null,null,null,null,null,null,null,null,null,null,null,null,null,null,null,null,null,null,null,null,null,null,null,"MISIR, 58 kg/hektolitre",0,5,88,10,"2,22",60,0,88,3.18,2.1800000000000002,1.5,9.8000000000000007,"41,22",58.78,12,73,15,5,90,4.3,1.6,150,10,4,135,5,0.1,1.1200000000000001,1.65,1.82,2.8,10.73,2.69,3.75,2.06,3.65,0.37,0.04,0.3,0.15,0.06,0.32,0.01,0.12,0.42899999999999999,2.5,0,30,5.8,0,0,0,0,0,75,null,null,null,null,null,null,null,null,null,null,"Polled Hereford","FEFAT=",{"$f":"AX94","v":113.17711836756669},"dışkıdaki yağ miktarı, g/gün"]
[null,null,null,null,null,null,null,null,null,null,null,null,null,null,null,null,null,null,null,null,null,null,null,"MISIR, 58 kg/hektolitre, YÜKSEK NEMLİ",0,5,72,10.5,"2,222",0,0,90,3.25,2.2400000000000002,1.55,9.8000000000000007,"67,82",32.18,40,100,15.9,5.3,95,4.3,1.6,50,30,6,135,10,0.15,0.99,2.4700000000000002,4.1100000000000003,3.33,12.1,3.85,4.78,2.7,4.99,0.37,0.04,0.3,0.15,0.06,0.32,0.01,0.12,0.42899999999999999,2.5,0,30,5.8,0,0,0,0,0,75,null,null,null,null,null,null,null,null,null,null,"Red Poll","FEASH=",{"$f":"AY94","v":378.03812068107783},"dışkıdaki kül miktarı, g/gün"]
[null,null,null,null,null,null,null,null,null,null,null,null,null,null,null,null,null,null,null,null,null,null,null,"MISIR, 65 kg/hektolitre",0,5,88,9.5,"2,22",60,0,88,3.27,2.2599999999999998,1.56,9.8000000000000007,"43",57,11.5,73,15,5,90,4.3,1.6,150,10,4,135,5,0.1,1.1200000000000001,1.65,1.82,2.8,10.73,2.69,3.75,2.06,3.65,0.37,3.5000000000000003E-2,0.3,0.13,0.06,0.32,0.01,0.13,0.42899999999999999,3,0,30,6.1,0,0,0,0,0,78,null,null,null,null,null,null,null,null,null,null,"Seylırz","FEDM=",{"$f":"AZ94","v":3883.6722991856177},"fekal kuru madde miktarı, g/gün"]
[null,null,null,null,null,null,null,null,null,null,null,null,null,null,null,null,null,null,null,null,null,null,null,"MISIR, 72 kg/hektolitre",0,5,88,9,"2,22",60,0,88,3.18,2.1800000000000002,1.5,9.8000000000000007,"44,66",55.33,11,73,15,5,90,4.3,1.6,150,10,4,135,4,0.1,1.1200000000000001,1.65,1.82,2.8,10.73,2.69,3.75,2.06,3.65,0.37,0.03,0.31,0.11,0.06,0.33,0.01,0.14000000000000001,0.42899999999999999,4.8,0,30,6.4,0,0,0,0,0,80,null,null,null,null,null,null,null,null,null,null,"Santa Gertudis","Yem maddelerinin toplam sindirilebilir besin maddesi ve eneri değerleri"]
[null,null,null,null,null,null,null,null,null,null,null,null,null,null,null,null,null,null,null,null,null,null,null,"MISIR, 72 kg/hektolitre, ÖĞÜTÜLMÜŞ",0,5,88,9,"2,22",0,0,88,3.18,2.1800000000000002,1.5,9.8000000000000007,"57,36",42.63,11,73,15,5,90,4.3,1.6,250,25,6,135,10,0.1,1.1200000000000001,1.65,1.82,2.8,10.73,2.69,3.75,2.06,3.65,0.37,0.03,0.31,0.11,0.06,0.33,0.01,0.14000000000000001,0.42899999999999999,4.8,0,30,6.4,0,0,0,0,0,80,null,null,null,null,null,null,null,null,null,null,"Şorthorn","Sindirilebilir besin maddeleri tüketiminden dışkıdaki sindirilmeyen bakteriyel ve yem komponentlerini çıkararak zahiri TDN bulunur:"]
[null,null,null,null,null,null,null,null,null,null,null,null,null,null,null,null,null,null,null,null,null,null,null,"MISIR, 72 kg/hektolitre, YÜKSEK NEMLİ",0,5,72,9,"2,222",0,0,93,3.36,2.33,1.62,9.8000000000000007,"67,82",32.18,40,100,15.9,5.3,95,4.3,1.6,50,30,6,135,10,0.15,0.99,2.4700000000000002,4.1100000000000003,3.33,12.1,3.85,4.78,2.7,4.99,0.37,0.03,0.31,0.11,0.06,0.33,0.01,0.14000000000000001,0.42899999999999999,4.8,0,30,6.4,0,0,0,0,0,79,null,null,null,null,null,null,null,null,null,null,"Simental","TDNAPP=",{"$f":"BA94","v":3933.6124735360013},"zahiri TDN, g/gün"]
[null,null,null,null,null,null,null,null,null,null,null,null,null,null,null,null,null,null,null,null,null,null,null,"MISIR, YARMA",0,5,88,10.8,"2,222",30,0,90,3.25,2.2400000000000002,1.55,9.8000000000000007,"44,66",55.33,11,73,15,5,90,4.0599999999999996,1.46,200,15,5,135,5,0.09,1.1200000000000001,1.65,1.82,2.8,10.73,2.69,3.75,2.06,3.65,0.37,0.03,0.32,0.12,0.05,0.44,0.01,0.11,0.31,2.5099999999999998,0.03,54.5,7.9,0.14000000000000001,24.2,1,0,25,85,null,null,null,null,null,null,null,null,null,null,"South Devon","Yemlerin ME değerleri 1 kg TDN=4,409 Mcal SE ve 1 Mcal SE=0,82 Mcal ME farzedilerek hesaplanır:"]
[null,null,null,null,null,null,null,null,null,null,null,null,null,null,null,null,null,null,null,null,null,null,null,"PAMUK TOHUMU, BÜTÜN",0,1,92,40,"15",100,0,95,3.43,2.38,1.67,23,"69,56",30.44,40,2.5,6,6,90,17.5,5,300,25,6,175,8,0.25,0.63,3.85,10.4,3.45,6.33,3.77,5.27,3.14,5.85,1.74,0.16,0.62,0.35,0,1.22,0.03,0.26,0,7.9,0,160,12.2,0,37.700000000000003,0,0,0,70,null,null,null,null,null,null,null,null,null,null,"Tarentez","MEa=",{"$f":"BB94","v":14.221503864572586},"kullanılabilir ME, Mcal/gün"]
[null,null,null,null,null,null,null,null,null,null,null,null,null,null,null,null,null,null,null,null,null,null,null,"PAMUK TOHUMU, YÜKSEK LİNTLİ",0,1,92,51.6,"16,00",100,0,90,3.25,2.2400000000000002,1.55,24.4,"69,56",30.44,40,2.5,10,6,90,17.5,4.16,300,25,6,175,8,0.25,0.63,3.85,10.4,3.45,6.33,3.77,5.27,3.14,5.85,1.74,0.17,0.62,0.38,0,1.24,0.01,0.27,0,7.9,0,107,131,0,37.700000000000003,0,0,0,70,null,null,null,null,null,null,null,null,null,null,null,"MEC=",{"$f":"BC94","v":12.259709276750609},"ME konsantrasyonu, Mcal/kg"]
[null,null,null,null,null,null,null,null,null,null,null,null,null,null,null,null,null,null,null,null,null,null,null,"PATATES",0,5,24,9,"8,1",0,0,81,3.16,1.92,1.28,9.3000000000000007,"0",0,0,0,5.2,2.2999999999999998,0,0,4.8,0,0,0,0,0,0,0,0,0,0,0,0,0,0,0,0,0.04,0.24,0.14000000000000001,0.28000000000000003,2.17,0.09,0.09,0,28.4,0,80,41.7,0,0,0,0,0,25,null,null,null,null,null,null,null,null,null,null,null,"MEI=",{"$f":"MEI","v":19.183949999999999},"Rasyondan sağlanan ME, Mcal/gün"]
[null,null,null,null,null,null,null,null,null,null,null,null,null,null,null,null,null,null,null,null,null,null,null,"PİRİNÇ, ÖĞÜTÜLMÜŞ",0,2,89,16,"13",0,0,79,2.86,1.91,1.27,8.9,"69,85",30.15,40,50,21.4,2.7,90,1.9,5,350,50,10,300,15,1,2.2000000000000002,4.3,7.4,3.6,7.4,3.7,5.4,2.6,4.8,1,7.0000000000000007E-2,0.36,0.14000000000000001,0.08,0.53,7.0000000000000007E-2,0.05,0.05,3,0.05,0,20.2,0,16.899999999999999,0,0,15.7,85,null,null,null,null,null,null,null,null,null,null,null,"MEC=",{"$f":"MEI/TotalDMFed","v":2.4702485191861965},"Rasyonun ME konsantrasyonu, Mcal/kg"]
[null,null,null,null,null,null,null,null,null,null,null,null,null,null,null,null,null,null,null,null,null,null,null,"PİRİNÇ, PARLATILMIŞ",0,2,89,1.84,"0",0,0,89,3.22,2.21,1.52,8.6,"66,29",33.700000000000003,40,50,21.4,2.7,90,0.8,1,300,40,8,250,12,0.35,2.2000000000000002,4.3,7.4,3.6,7.4,3.7,5.4,2.6,4.8,1,0.03,0.13,0.1,0.04,0.26,0.02,0.09,0.95499999999999996,6.1,0,20,33.4,0,15.4,0,0,11.7,100,null,null,null,null,null,null,null,null,null,null,null,"NET ENERİ DEĞERLERİNİN HESAPLANMASI"]
[null,null,null,null,null,null,null,null,null,null,null,null,null,null,null,null,null,null,null,null,null,null,null,"SORGUM",0,5,89,23,"6,086",34,0,76,2.75,1.82,1.19,12.4,"50,75",49.24,12,33,10,5,90,3.1,2,150,10,5,135,6,0.12,0.75,3.61,7.07,2.2599999999999998,4.29,3.01,2.78,1.35,2.78,0.75,0.05,0.34,0.14000000000000001,0.09,0.47,0.04,0.12,0.53100000000000003,4.9000000000000004,6.9000000000000006E-2,60,17.899999999999999,0.22700000000000001,19.100000000000001,0.05,0,12,75,null,null,null,null,null,null,null,null,null,null,null,"NEga=",{"$f":"BD94","v":-31.299796043625623},"büyüme için NE içeriği, Mcal/kg            (NRC, 1984)"]
[null,null,null,null,null,null,null,null,null,null,null,null,null,null,null,null,null,null,null,null,null,null,null,"SORGUM PULU (FLAKED)",0,5,70,23,"6,086",34,0,88,3.18,2.1800000000000002,1.5,12,"56,40",43.6,8,80,10,5,100,3.1,2,250,15,5,160,8,0.15,0.75,3.61,7.07,2.2599999999999998,4.29,3.01,2.78,1.35,2.78,0.75,0.05,0.34,0.14000000000000001,0.09,0.35,0.04,0.12,0.53100000000000003,4.9000000000000004,6.9000000000000006E-2,60,17.899999999999999,0.22700000000000001,19.100000000000001,0.05,0,12,100,null,null,null,null,null,null,null,null,null,null,null,"NEma=",{"$f":"BE94","v":-16.683587016138521},"yaşama payı için NE içeriği, Mcal/kg            (NRC, 1984)"]
[null,null,null,null,null,null,null,null,null,null,null,null,null,null,null,null,null,null,null,null,null,null,null,"SORGUM, EZME",0,5,90,23,"6,086",34,0,82,2.96,2,1.35,12.6,"43",57,12,33,10,5,90,3.03,1.87,200,10,5,135,6,0.12,0.75,3.61,7.07,2.2599999999999998,4.29,3.01,2.78,1.35,2.78,0.75,0.04,0.34,0.17,0.09,0.44,0.01,0.14000000000000001,0.53100000000000003,4.7,6.9000000000000006E-2,80.8,15.4,0.46,16,0.05,0,12,90,null,null,null,null,null,null,null,null,null,null,"AnimalType grubu","METABOLİK PROTEİN"]
[null,null,null,null,null,null,null,null,null,null,null,null,null,null,null,null,null,null,null,null,null,null,null,"ŞEKER PANCARI",0,5,17,44.6,"3,703",33,0,72,2.54,1.74,1.1200000000000001,8.8000000000000007,"42,62",57.37,27,96,53,11,90,2.1,4.7,300,40,8,300,12,0.35,0.65,3,4.43,3.17,4.6100000000000003,2.69,4.5,1.87,2.8,1.1000000000000001,0.69,0.08,0.22,0.04,0.19,0.19,0.22,8.1000000000000003E-2,13.8,0,330,37.700000000000003,0.12,10,0.4,0.6,0,8,null,null,null,null,null,null,null,null,null,null,"Buzağı","MPa=",{"$f":"BF94","v":1020.4126075841288},"metabolize olabilir protein, g/gün"]
[null,null,null,null,null,null,null,null,null,null,null,null,null,null,null,null,null,null,null,null,null,null,null,"TAPİOKA",0,1,89,8,"0",0,0,84,3.04,2.06,1.4,3.1,"56,10",43.89,25,45,30,5,80,0.8,3,300,40,8,300,12,0.35,1.33,3.33,4.67,2.67,4.67,3,3.67,3,1,0.67,0,0,0,0,0,0,0,0,0,0,0,0,0,0,0,0,0,60,null,null,null,null,null,null,null,null,null,null,"Besi Sığırı"]
[null,null,null,null,null,null,null,null,null,null,null,null,null,null,null,null,null,null,null,null,null,null,null,"YULAF, 41 kg/hektolitre",0,5,91,42,"9,523",34,0,73,2.64,1.73,1.1100000000000001,13.6,"76,55",23.45,53,19,11,5,90,4.9000000000000004,5,300,35,5,325,12,0.35,2.12,2.02,4.38,2.16,7.7,3.84,0,1.8,5.86,1.28,7.0000000000000007E-2,0.3,0.16,0.1,0.45,0.06,0.23,6.3E-2,6.7,0.125,80,40.1,0.24099999999999999,39.200000000000003,0.2,0,15,85,null,null,null,null,null,null,null,null,null,null,"Damızlık Düve"]
[null,null,null,null,null,null,null,null,null,null,null,null,null,null,null,null,null,null,null,null,null,null,null,"YULAF, 49 kg/hektolitre",0,5,89,29.3,"9,375",34,0,77,2.78,1.85,1.22,13.6,"83",17,53,19,11,5,90,5.2,3.3,300,35,5,325,12,0.35,2.12,2.02,4.38,2.16,7.7,3.84,0,1.8,5.86,1.28,8.9999999999999993E-3,0.41,0.16,0.1,0.51,0.02,0.21,6.3E-2,8.6,0.125,94.1,40.299999999999997,0.24099999999999999,40.799999999999997,0.2,0,15,87,null,null,null,null,null,null,null,null,null,null,"Damızlık Boğa"]
[null,null,null,null,null,null,null,null,null,null,null,null,null,null,null,null,null,null,null,null,null,null,null,null,null,null,null,null,null,null,null,null,null,null,null,null,null,null,null,null,null,null,null,null,null,null,null,null,null,null,null,null,null,null,null,null,null,null,null,null,null,null,null,null,null,null,null,null,null,null,null,null,null,null,null,null,null,null,null,null,null,null,null,null,null,null,null,null,null,"Kurudaki İnek"]
[null,null,null,null,null,null,null,null,null,null,null,null,null,null,null,null,null,null,null,null,null,null,null,null,null,null,null,null,null,null,null,null,null,null,null,null,null,null,null,null,null,null,null,null,null,null,null,null,null,null,null,null,null,null,null,null,null,null,null,null,null,null,null,null,null,null,null,null,null,null,null,null,null,null,null,null,null,null,null,null,null,null,null,null,null,null,null,null,null,"Laktasyondaki İnek"]
[null,null,null,null,null,null,null,null,null,null,null,null,null,null,null,null,null,null,null,null,null,null,null,null,null,null,null,null,null,null,null,null,null,null,null,null,null,null,null,null,null,null,null,null,null,null,null,null,null,null,null,null,null,null,null,null,null,null,null,null,null,null,null,null,null,null,null,null,null,null,null,null,null,null,null,null,null,null,null,null,null,null,null,null,null,null,null,null,null,"Kastre Erkek"]
[]
[]
[]
[]
[]
[]
[]
[]
[]
[]
[]
[]
[]
[]
[]
[]
[]
[]
[]
[]
[]
[]
[]
[]
[]
[]
[]
[]
[]
[]
[]
[]
[]
[]
[]
[]
[]
[]
[]
[]
[]
[]
[null,null,null,null,null,null,null,null,null,null,null,null,null,null,null,null,null,null,null,null,null,null,null,"PROTEİN KAYNAKLARI","en az","en çok","KM %Yem","NDF %KM","Lignin %NDF","Effekt. %NDF","HS,%","TDN %KM","ME,Mcal/kg","NEm,Mcal/kg","NEg,Mcal/kg","HP,%","DIP %HP","UIP %HP","SoIP %HP","NPN %SoIP","NDFIP %HP","ADFIP %HP","Nişasta %NSC","HY %KM","HK %KM","A kd %/sa©","B1 kd %/sa©","B2 kd %/sa©","B1 kd %/sa(p)","B2 kd %/sa(p)","B3 kd %/sa(p)","MET %UIP","LİZ %UIP","ARJ %UIP","TRE %UIP","LÖY %UIP","İZOLÖY %UIP","VAL %UIP","HIS %UIP","FENAL %UIP","TRİP %UIP","Ca %KM","P %KM","Mg %KM","Cl %KM","K %KM","Na %KM","S %KM","Co mg/kg","Cu mg/kg","I mg/kg","Fe mg/kg","Mn mg/kg","Se mg/kg","Zn mg/kg","Vit A 1000 IU/kg","Vit D 1000 IU/kg","Vit E IU/kg","FİYAT,Krş"]
[null,null,null,null,null,null,null,null,null,null,null,null,null,null,null,null,null,null,null,null,null,null,null,"AYÇİÇEĞİ  KÜSPESİ, %25 HP",0,5,90,40,"30",23,0,65,2.35,1.47,0.88,25.9,80,20,30,37,8,5,90,2.9,8.1,300,35,4,160,10,0.15,2.15,4.29,9.8699999999999992,4.51,6.86,4.29,6.87,2.36,4.9400000000000004,1.93,0.45,1.02,0.7,0.11,1.27,0.03,0.33,0,4,0,33,20,2.2999999999999998,105,0,0,0,60]
[null,null,null,null,null,null,null,null,null,null,null,null,null,null,null,null,null,null,null,null,null,null,null,"AYÇİÇEĞİ  KÜSPESİ, %28 HP",0,5,90,38,"28",23,0,65,2.4,1.58,1.1000000000000001,31,80,20,30,37,8,5,90,1.4,7.5,300,35,4,160,10,0.15,2.15,4.29,9.8699999999999992,4.51,6.86,4.29,6.87,2.36,4.9400000000000004,1.93,0.45,1.02,0.7,0.11,1.27,0.03,0.33,0,4,0,33,20,2.2999999999999998,105,0,0,0,63]
[null,null,null,null,null,null,null,null,null,null,null,null,null,null,null,null,null,null,null,null,null,null,null,"AYÇİÇEĞİ  KÜSPESİ, %32 HP",0,5,90,36,"26",23,0,65,2.4500000000000002,1.65,1.1299999999999999,35.6,80,20,30,37,8,5,90,1.5,7.3,300,35,4,160,10,0.15,2.15,4.29,9.8699999999999992,4.51,6.86,4.29,6.87,2.36,4.9400000000000004,1.93,0.45,1.02,0.7,0.11,1.27,0.03,0.33,0,4,0,33,20,2.2999999999999998,105,0,0,0,65]
[null,null,null,null,null,null,null,null,null,null,null,null,null,null,null,null,null,null,null,null,null,null,null,"AYÇİÇEĞİ  KÜSPESİ, %36 HP",0,5,90,32,"22",23,0,65,2.6,1.7,1.1499999999999999,40,80,20,30,37,8,5,90,1.5,7.2,300,35,4,160,10,0.15,2.15,4.29,9.8699999999999992,4.51,6.86,4.29,6.87,2.36,4.9400000000000004,1.93,0.45,1.02,0.7,0.11,1.27,0.03,0.33,0,4,0,33,20,2.2999999999999998,105,0,0,0,70]
[null,null,null,null,null,null,null,null,null,null,null,null,null,null,null,null,null,null,null,null,null,null,null,"BALIK UNU",0,0.5,90,0.67900000000000005,"0",10,0,73,2.64,1.73,1.1100000000000001,67.900000000000006,40,60,21,0,1,1,90,10.7,20.6,0,0,0,150,1,0.8,2.84,7.13,7.19,4.17,7.0119999999999996,4.53,4.8099999999999996,2.2999999999999998,4.33,1.52,5.46,3.14,0.16,1.37,0.77,0.44,0.57999999999999996,0.12,11.3,1.19,594,40,2.34,157,0,0,13,150]
[null,null,null,null,null,null,null,null,null,null,null,null,null,null,null,null,null,null,null,null,null,null,null,"Ecomass",0,1,94,18.09,5.88,0,0,87.23,3.26,null,2.0699999999999998,51.06,86.87,13.13,null,null,null,null,null,1.06,12.77,0,0,0,150,5,0.12,1.05,8.83,10.54,11.43,12.97,7.86,8.43,6.97,11.91,2.76,2.13,0.5,0.31,0,1.07,0.72,1.83,0,null,0,null,null,0,null,0,0,null,300]
[null,null,null,null,null,null,null,null,null,null,null,null,null,null,null,null,null,null,null,null,null,null,null,"ET UNU",0,5,95,32.840000000000003,"0",0,0,71,2.57,1.66,1.05,58.2,45,55,13.36,26.5,56.41,3.16,0,11,21.3,0,0,0,150,5,0.12,1.34,5.0599999999999996,6.36,3.37,6.36,2.98,4.57,1.86,3.51,0.52,9.1300000000000008,4.34,0.27,0,0.49,0.8,0.51,0,21.4,0,758,174,0,265,0,0,1,80]
[null,null,null,null,null,null,null,null,null,null,null,null,null,null,null,null,null,null,null,null,null,null,null,"HİNDİSTAN CEVİZİ KÜSPESİ",0,5,92,56,"17,85",23,0,64,2.31,1.44,0.86,21.5,61.64,38.36,14,75,10,3,90,7.4,7,300,40,6,230,12,0.2,1.45,2.6,10.26,2.29,6.15,3.28,4.74,1.88,4.58,0.63,0.21,0.65,0.33,0,1.8,0.04,0.37,0.13900000000000001,18.2,0,750,76.599999999999994,0,53,0,0,0,80]
[null,null,null,null,null,null,null,null,null,null,null,null,null,null,null,null,null,null,null,null,null,null,null,"KAN UNU",0,0.2,90,0.94,"0",0,0,66,2.39,1.51,0.91,93.79,25,75,5,0,1,1,0,1.7,2.62,0,0,0,135,1.3,0.09,1.07,9.34,5.01,4.7300000000000004,13.4,0.88,9.08,6.45,7.86,1.88,0.4,0.32,0.04,0.33,0.31,0.4,0.8,9.7000000000000003E-2,13.9,0,2281,11.7,0.80100000000000005,33,0,0,0,80]
[null,null,null,null,null,null,null,null,null,null,null,null,null,null,null,null,null,null,null,null,null,null,null,"KANOLA KÜSPESİ",0,5,92,27.2,"12,76",23,0,69,2.4900000000000002,1.6,1,40.9,67.849999999999994,32.15,32.4,65,10.64,6.383,90,3.47,7.1,300,40,6,230,12,0.2,1.4,6.67,6.78,4.8499999999999996,7.99,4.9400000000000004,6.44,4.04,4.68,1.22,0.7,1.2,0.56999999999999995,0,1.37,0.03,1.17,0,7.95,0,211,55.8,0,71.5,0,0,0,80]
[null,null,null,null,null,null,null,null,null,null,null,null,null,null,null,null,null,null,null,null,null,null,null,"KETEN TOHUMU KÜSPESİ",0,5,90,25,"24",23,0,78,3.02,1.83,1.2,38.299999999999997,65,35,20,10,10,2.4,90,1.5,6.5,300,35,6,230,11,0.2,1.95,4.3099999999999996,10.7,4.22,6.8,5.37,5.76,2.52,5.25,1.63,0.43,0.89,0.66,0.04,1.53,0.15,0.43,0.21,29,0,354,42,0.91,0,0,0,0,85]
[null,null,null,null,null,null,null,null,null,null,null,null,null,null,null,null,null,null,null,null,null,null,null,"MISIR GLUTENİ",0,2,91,37,"2,702",36,0,84,3.04,2.06,1.4,46.8,38.08,61.92,4,75,11,2,100,2.4,3,300,50,5,150,4,0.1,2.09,1.24,3.17,2.93,16.22,4.34,5.04,2.4500000000000002,6.48,0.37,0.16,0.51,0.06,7.0000000000000007E-2,0.03,0.1,0.22,8.5000000000000006E-2,30.3,0,430,8.5,1.111,190.2,29.8,0,32,85]
[null,null,null,null,null,null,null,null,null,null,null,null,null,null,null,null,null,null,null,null,null,null,null,"MISIR GLUTENİ, % 60 HP",0,1,91,8.9,"7,142",36,0,89,3.22,2.21,1.52,66.3,41,59,4,75,11,2,100,2.56,2.86,300,50,5,150,4,0.1,2.09,1.24,3.17,2.93,16.22,4.34,5.04,2.4500000000000002,6.48,0.37,7.0000000000000007E-2,0.61,0.15,7.0000000000000007E-2,0.48,0.06,0.9,8.5000000000000006E-2,4.76,0,159,20.6,0,61.4,14,0,26,95]
[null,null,null,null,null,null,null,null,null,null,null,null,null,null,null,null,null,null,null,null,null,null,null,"PAMUK TOHUMU KÜSPESİ, PRES",0,5,92,28,"21,4",36,0,78,2.82,1.88,1.24,44,57,43,20,40,10,8,90,5,7,300,25,6,175,8,0.25,0.63,3.85,10.4,3.45,6.33,3.77,5.27,3.14,5.85,1.74,0.16,0.76,0.35,0,1.22,0.03,0.26,0,53.9,0,160,12.2,0,0,0,0,0,75]
[null,null,null,null,null,null,null,null,null,null,null,null,null,null,null,null,null,null,null,null,null,null,null,"PAMUK TOHUMU KÜSPESİ, SOLVENT, % 25",0,5,92,40,"30",36,0,65,2.2999999999999998,1.5,0.9,27.6,57,43,20,40,10,8,90,1.4,7,300,25,6,175,8,0.25,0.63,3.85,10.4,3.45,6.33,3.77,5.27,3.14,5.85,1.74,0.2,1.1599999999999999,0.65,0,1.65,7.0000000000000007E-2,0.42,0.53,16.5,0,162,26.9,0.98,74,0,0,0,68]
[null,null,null,null,null,null,null,null,null,null,null,null,null,null,null,null,null,null,null,null,null,null,null,"PAMUK TOHUMU KÜSPESİ, SOLVENT, % 28",0,5,92,38,"28",36,0,70,2.4,1.55,1,30.9,57,43,20,40,10,8,90,1.5,7,300,25,6,175,8,0.25,0.63,3.85,10.4,3.45,6.33,3.77,5.27,3.14,5.85,1.74,0.2,1.1599999999999999,0.65,0,1.65,7.0000000000000007E-2,0.42,0.53,16.5,0,162,26.9,0.98,74,0,0,0,70]
[null,null,null,null,null,null,null,null,null,null,null,null,null,null,null,null,null,null,null,null,null,null,null,"PAMUK TOHUMU KÜSPESİ, SOLVENT, % 32",0,5,92,36,"26",36,0,70,2.5,1.6,1.1000000000000001,35.4,57,43,20,40,10,8,90,1.6,7,300,25,6,175,8,0.25,0.63,3.85,10.4,3.45,6.33,3.77,5.27,3.14,5.85,1.74,0.2,1.1599999999999999,0.65,0,1.65,7.0000000000000007E-2,0.42,0.53,16.5,0,162,26.9,0.98,74,0,0,0,72]
[null,null,null,null,null,null,null,null,null,null,null,null,null,null,null,null,null,null,null,null,null,null,null,"PAMUK TOHUMU KÜSPESİ, SOLVENT, % 36",0,5,92,32,"22",36,0,70,2.6,1.7,1.1499999999999999,39.799999999999997,57,43,20,40,10,8,90,1.7,7,300,25,6,175,8,0.25,0.63,3.85,10.4,3.45,6.33,3.77,5.27,3.14,5.85,1.74,0.2,1.1599999999999999,0.65,0,1.65,7.0000000000000007E-2,0.42,0.53,16.5,0,162,26.9,0.98,74,0,0,0,74]
[null,null,null,null,null,null,null,null,null,null,null,null,null,null,null,null,null,null,null,null,null,null,null,"PAMUK TOHUMU KÜSPESİ, SOLVENT, % 41",0,5,92,28.9,"20,8",36,0,75,2.71,1.79,1.1599999999999999,46.1,57,43,20,40,10,8,90,1.9,7,300,25,6,175,8,0.25,0.63,3.85,10.4,3.45,6.33,3.77,5.27,3.14,5.85,1.74,0.2,1.1599999999999999,0.65,0,1.65,7.0000000000000007E-2,0.42,0.53,16.5,0,162,26.9,0.98,74,0,0,0,76]
[null,null,null,null,null,null,null,null,null,null,null,null,null,null,null,null,null,null,null,null,null,null,null,"PAMUK TOHUMU KÜSPESİ, SOLVENT, % 43",0,5,92,28,"20,8",36,0,75,2.71,1.79,1.1599999999999999,48.9,57,43,20,40,10,8,90,1.7,7,300,25,6,175,8,0.25,0.63,3.85,10.4,3.45,6.33,3.77,5.27,3.14,5.85,1.74,0.16,0.76,0.35,0,1.22,0.03,0.26,0,53.9,0,160,12.2,0,0,0,0,0,80]
[null,null,null,null,null,null,null,null,null,null,null,null,null,null,null,null,null,null,null,null,null,null,null,"PEYNİR ALTI SUYU TOZU",0,1,7,0,"0",0,0,78,2.82,1.88,1.24,14.2,100,0,100,8,0,0,0,0.7,10,350,0,0,350,0,0,0,0,0,0,0,0,0,0,0,0,0.81,0.71,0,0,2.75,0,0,0,0,0,290,3.2,0,0,0,0,0,95]
[null,null,null,null,null,null,null,null,null,null,null,null,null,null,null,null,null,null,null,null,null,null,null,"PEYNİR ALTI SUYU TOZU, DÜŞÜK LAKTOZLU",0,1,93,0,"0",0,0,71,2.57,1.66,1.05,17.899999999999999,100,0,100,8,0,0,0,1.1000000000000001,17,350,0,0,350,0,0,0,0,0,0,0,0,0,0,0,0,1.6,1.18,0.23,1.1000000000000001,3.16,1.54,1.1499999999999999,0,7.5,10.554,270,8.6,5.6000000000000001E-2,8.4,0,0,0,95]
[null,null,null,null,null,null,null,null,null,null,null,null,null,null,null,null,null,null,null,null,null,null,null,"SOYA FASULYESİ",0,1,90,14.9,"1,538",30,0,94,3.4,2.35,1.65,40.340000000000003,75,25,44,22.73,4,3,90,18.2,4.5599999999999996,300,30,5,200,10,0.2,1.01,5.36,6.55,3.52,7.23,4.6500000000000004,5.09,2.82,4.9400000000000004,1.64,0.27,0.65,0.27,0.03,2.0099999999999998,0.04,0.35,0,14.58,0,182,34.5,0.12,59,1.6,0,36.6,110]
[null,null,null,null,null,null,null,null,null,null,null,null,null,null,null,null,null,null,null,null,null,null,null,"SOYA KÜSPESİ, SOLVENT, %44",0,5,89,14.9,"2,142",23,0,84,3.04,2.06,1.4,49.9,65,35,20,55,5,2,90,1.6,7.2,300,25,6,230,11,0.2,1.01,5.36,6.55,3.52,7.23,4.6500000000000004,5.09,2.82,4.9400000000000004,1.64,0.4,0.71,0.31,0,2.2200000000000002,0.04,0.46,0.12,22.4,0,185,35,0.51,57,0,0,0,120]
[null,null,null,null,null,null,null,null,null,null,null,null,null,null,null,null,null,null,null,null,null,null,null,"SOYA KÜSPESİ, SOLVENT, %49",0,5,90,7.79,"2,5",23,0,87,3.15,2.15,1.47,54,65,35,20,55,5,2,90,1.1000000000000001,6.7,300,25,6,230,11,0.2,0.83,6.08,7.69,3.03,6.13,4.25,3.79,2.27,3.88,1.64,0.28999999999999998,0.71,0.33,0.08,2.36,0.01,0.48,0.12,22.5,0.12,145,41,0.22,63,0,0,0,130]
[null,null,null,null,null,null,null,null,null,null,null,null,null,null,null,null,null,null,null,null,null,null,null,"SOYA,TAM YAĞLI,İŞLENMİŞ",0,5,90,13.4,"10",30,0,94,3.4,2.35,1.65,42.8,38.31,61.69,5.7,100,23.6,7.29,90,18.8,5.8,300,25,5,150,5,0.18,1.02,5.77,6.42,3.56,7.15,4.6100000000000003,4.91,2.96,4.8099999999999996,1.64,0.27,0.65,0.28999999999999998,0.03,1.8,0,0.24,0,19.8,0,100,39.6,0.12,61.8,1.6,0,36.6,95]
[null,null,null,null,null,null,null,null,null,null,null,null,null,null,null,null,null,null,null,null,null,null,null,"TÜY UNU",0,0.5,90,42.9,"0",23,0,68,2.46,1.57,0.97,85.8,30,70,9,89,50,32,90,7.21,4.5199999999999996,0,0,0,125,3,0.09,0.49,2.57,7.42,4.17,8.31,4.5999999999999996,7.95,0.94,5.21,0.8,1.19,0.68,0.06,0.3,0.2,0.24,1.85,0.125,14.2,4.7E-2,702,12,0.98299999999999998,105,0,0,0,50]
[null,null,null,null,null,null,null,null,null,null,null,null,null,null,null,null,null,null,null,null,null,null,null,"ÜRE",0,0.05,99,0,"0",0,0,0,0,0,0,281,99.999999939999995,0,100,100,0,0,0,0,0,0,0,0,400,0,0,0,0,0,0,0,0,0,0,0,0,0,0,0,0,0,0,0,0,0,0,0,0,0,0,0,0,0,50]
[null,null,null,null,null,null,null,null,null,null,null,null,null,null,null,null,null,null,null,null,null,null,null,"YERFISTIĞI KÜSPESİ",0,5,92.4,14,"10",36,0,77,2.78,1.85,1.22,52.9,80,20,33,27,10,1,90,2.2999999999999998,6.3,300,45,6,230,13,0.2,1.1000000000000001,3.14,10.88,2.5299999999999998,6.06,3.16,3.82,2.1800000000000002,4.92,0.98,0.32,0.66,0.17,0,1.28,0.03,0.33,0,16,7.0000000000000007E-2,155,29,0,36,0,0,0,85]
[]
[]
[]
[]
[]
[]
[]
[]
[]
[]
[]
[]
[]
[]
[]
[]
[]
[]
[]
[]
[]
[]
[]
[]
[]
[]
[]
[]
[]
[]
[]
[]
[]
[]
[]
[]
[]
[]
[]
[]
[]
[]
[]
[]
[]
[]
[null,null,null,null,null,null,null,null,null,null,null,null,null,null,null,null,null,null,null,null,null,null,null,"YAN ÜRÜNLER","en az","en çok","KM %Yem","NDF %KM","Lignin %NDF","Effekt. %NDF","HS,%","TDN %KM","ME,Mcal/kg","NEm,Mcal/kg","NEg,Mcal/kg","HP,%","DIP %HP","UIP %HP","SoIP %HP","NPN %SoIP","NDFIP %HP","ADFIP %HP","Nişasta %NSC","HY %KM","HK %KM","A kd %/sa©","B1 kd %/sa©","B2 kd %/sa©","B1 kd %/sa(p)","B2 kd %/sa(p)","B3 kd %/sa(p)","MET %UIP","LİZ %UIP","ARJ %UIP","TRE %UIP","LÖY %UIP","İZOLÖY %UIP","VAL %UIP","HIS %UIP","FENAL %UIP","TRİP %UIP","Ca %KM","P %KM","Mg %KM","Cl %KM","K %KM","Na %KM","S %KM","Co mg/kg","Cu mg/kg","I mg/kg","Fe mg/kg","Mn mg/kg","Se mg/kg","Zn mg/kg","Vit A 1000 IU/kg","Vit D 1000 IU/kg","Vit E IU/kg","FİYAT,Krş"]
[null,null,null,null,null,null,null,null,null,null,null,null,null,null,null,null,null,null,null,null,null,null,null,"ARPA MALT ÇİMİ",0,1,93,46,"6,521",34,0,71,2.57,1.66,1.05,28.1,"64,16",35.83,48,83,27,4,85,1.4,7,250,30,6,135,11,0.09,1.17,3.5,11.7,2.83,6.67,3.67,4.5,2.17,5.17,1,0.19,0.68,0.18,0.39,0.27,0.95,0.85,0,6.3,0,200,31.7,0.44800000000000001,60.7,0,0,4,65]
[null,null,null,null,null,null,null,null,null,null,null,null,null,null,null,null,null,null,null,null,null,null,null,"BİRA POSASI, %21 KM",0,5,21,42,"9,523",18,0,70,2.5299999999999998,1.63,1.03,26,"40,85",59.14,8,50,38,10,100,6.5,10,300,38,6,150,8,0.5,1.7,3.23,4.6900000000000004,3.43,9.18,5.71,5.95,1.9,5.31,1.36,0.28999999999999998,0.7,0.27,0.13,0.57999999999999996,0.15,0.34,0.10100000000000001,11.3,7.1999999999999995E-2,270,40.9,0,106,0.8,0,29,40]
[null,null,null,null,null,null,null,null,null,null,null,null,null,null,null,null,null,null,null,null,null,null,null,"BİRA POSASI, KURUTULMUŞ",0,2,92,48.7,"13,04",18,0,66,2.39,1.51,0.91,29.2,"34,11",65.88,4,75,40,12,100,10.8,4,300,38,6,150,6,0.5,1.26,2.15,2.61,2.76,8.4600000000000009,3.53,3.78,1.47,4.8,1.1200000000000001,0.28999999999999998,0.7,0.27,0.17,0.57999999999999996,0.15,0.4,8.3000000000000004E-2,11.3,7.1999999999999995E-2,221,44,0.76,82,0.8,0,29,80]
[null,null,null,null,null,null,null,null,null,null,null,null,null,null,null,null,null,null,null,null,null,null,null,"BUĞDAY KEPEĞİ",0,2,89,51,"5,88",19,0,70,2.7,1.66,1.05,17.100000000000001,"77",23,29.4,45,35,6.4,94.6,4.4000000000000004,6.9,300,40,4,250,12,0.35,0.75,3.67,7.76,3.71,6.56,3.68,5.4,2.96,4.53,1.2,0.13,1.38,0.6,0.05,1.56,0.04,0.25,0.11,14,7.0000000000000007E-2,128,125,0.43,128,0,0,0,55]
[null,null,null,null,null,null,null,null,null,null,null,null,null,null,null,null,null,null,null,null,null,null,null,"DİSTİLASYON ÇÖZÜNÜRLERİ, KURUTULMUŞ",0,2,91,23,"4,347",4,0,88,3.18,2.1800000000000002,1.5,29.7,"45,08",54.91,44,100,55,13,100,9.1999999999999993,8,300,17,7,150,6,0.5,1.2,2.06,4.1500000000000004,3.12,9.07,2.78,5.24,1.82,4.2,1.64,0.32,1.4,0.65,0.28000000000000003,1.83,0.24,0.4,0.18,83.9,8.5000000000000006E-2,560,77.599999999999994,0.4,94.8,1.2,0,49.4,80]
[null,null,null,null,null,null,null,null,null,null,null,null,null,null,null,null,null,null,null,null,null,null,null,"DİSTİLASYON POSASI, KURUTULMUŞ",0,2,91,46,"10",4,0,88,3.18,2.1800000000000002,1.5,30.4,"27,96",72.03,6,67,40,13,100,9.8000000000000007,5.2,300,17,7,150,6,0.5,1.2,2.06,4.1500000000000004,3.12,9.07,2.78,5.24,1.82,4.2,1.64,0.32,1.4,0.65,0.28000000000000003,1.83,0.24,0.4,0.18,83.9,8.5000000000000006E-2,560,77.599999999999994,0.4,94.8,1.2,0,49.4,85]
[null,null,null,null,null,null,null,null,null,null,null,null,null,null,null,null,null,null,null,null,null,null,null,"DİSTİLASYON POSASI, KURUTULMUŞ",0,2,91,46,"10",4,0,88,3.18,2.1800000000000002,1.5,30.4,"26,35",73.650000000000006,6,67,44,18,100,10.7,5.2,300,17,7,150,6,0.5,1.2,2.06,4.1500000000000004,3.12,9.07,2.78,5.24,1.82,4.2,1.64,0.26,0.83,0.33,0.28000000000000003,1.08,0.3,0.44,0.18,10.6,8.5000000000000006E-2,358,27.6,0.4,67.8,1,0.6,43,85]
[null,null,null,null,null,null,null,null,null,null,null,null,null,null,null,null,null,null,null,null,null,null,null,"DİSTİLASYON POSASI, KURUTULMUŞ",0,2,91,46,"10",4,0,88,3.18,2.1800000000000002,1.5,30.4,"25,91",74.08,6,67,45,21,100,9.8000000000000007,5.2,300,17,7,150,6,0.5,1.2,2.06,4.1500000000000004,3.12,9.07,2.78,5.24,1.82,4.2,1.64,0.32,1.4,0.65,0.28000000000000003,1.83,0.24,0.4,0.18,83.9,8.5000000000000006E-2,560,77.599999999999994,0.4,94.8,1.2,0,49.4,85]
[null,null,null,null,null,null,null,null,null,null,null,null,null,null,null,null,null,null,null,null,null,null,null,"DİSTİLASYON POSASI, KURUTULMUŞ",0,2,91,46,"10",4,0,88,3.18,2.1800000000000002,1.5,30.4,"24,90",75.099999999999994,6,67,47,36,100,9.8000000000000007,5.2,300,17,7,150,6,0.5,1.2,2.06,4.1500000000000004,3.12,9.07,2.78,5.24,1.82,4.2,1.64,0.32,1.4,0.65,0.28000000000000003,1.83,0.24,0.4,0.18,83.9,8.5000000000000006E-2,560,77.599999999999994,0.4,94.8,1.2,0,49.4,85]
[null,null,null,null,null,null,null,null,null,null,null,null,null,null,null,null,null,null,null,null,null,null,null,"DİSTİLASYON POSASI, YAŞ",0,5,25,40,"10",4,0,90,3.25,2.2400000000000002,1.55,29.7,"33,39",66.599999999999994,25,68,55,12,100,9.9,5.2,300,17,7,150,6,0.5,1.2,2.06,4.1500000000000004,3.12,9.07,2.78,5.24,1.82,4.2,1.64,0.32,1.4,0.65,0.28000000000000003,1.83,0.24,0.4,0.18,83.9,8.5000000000000006E-2,560,77.599999999999994,0.4,94.8,1.2,0,49.4,30]
[null,null,null,null,null,null,null,null,null,null,null,null,null,null,null,null,null,null,null,null,null,null,null,"DİSTİLASYON POSASI+ÇÖZÜNÜRLERİ, YAŞ",0,5,91,46,"9,090",4,0,88,3.18,2.1800000000000002,1.5,29.5,"27,19",72.81,19,89,62,21,100,10.3,5.2,300,17,7,150,6,0.5,1.2,2.06,4.1500000000000004,3.12,9.07,2.78,5.24,1.82,4.2,1.64,0.32,0.83,0.33,0.28000000000000003,1.07,0.24,0.4,0.18,10.56,8.5000000000000006E-2,560,27.6,0.4,67.8,1.2,0,49.4,30]
[null,null,null,null,null,null,null,null,null,null,null,null,null,null,null,null,null,null,null,null,null,null,null,"DOMATES KURUSU",0,5,86.18,null,null,null,20.350000000000001,null,2.2999999999999998,null,null,13.87,null,null,null,null,null,null,null,4.01,10.52,350,50,5,350,11,0.25,null,null,null,null,null,null,null,null,null,null,null,null,null,null,null,null,null,null,null,null,null,null,null,null,null,null,null,45]
[null,null,null,null,null,null,null,null,null,null,null,null,null,null,null,null,null,null,null,null,null,null,null,"ELMA POSASI",0,5,22,41,"2",34,0,68.900000000000006,2.4900000000000002,1.6,1,5.4,"48,20",51.79,11,100,32,31.5,100,4.7,5,350,50,5,350,11,0.25,0.67,2.83,2.83,2.83,5.49,2.83,3.83,1,3.5,4.5,0.23,0.11,0,0,0.53,0,0.11,0,0,0,0,0,0,0,0,0,0,10]
[null,null,null,null,null,null,null,null,null,null,null,null,null,null,null,null,null,null,null,null,null,null,null,"FIRINCILIK ARTIKLARI",0,1,92,18,"5,555",0,0,89,3.22,2.21,1.52,9,"75,59",24.4,40,75,6,3,85,12.7,5,300,16,7,100,12,0.35,1.77,3.17,4.7699999999999996,4.95,7.47,4.57,4.3,1.3,4.0999999999999996,1,0.15,0.24,0.18,1.61,0.43,1.1200000000000001,0.02,1.3420000000000001,12.1,0,180,71.2,0,19.5,7.7,0,44.9,35]
[null,null,null,null,null,null,null,null,null,null,null,null,null,null,null,null,null,null,null,null,null,null,null,"İNCİR KURUSU",0,5,85.18,8.9,23,34,24.37,82.18,2.2599999999999998,1.93,1.28,4.47,"100",0,0,0,0,0,100,4.9400000000000004,3.47,350,50,9,350,11,0.25,null,null,null,null,null,null,null,null,null,null,null,null,null,null,null,null,null,null,null,null,null,null,null,null,null,null,null,70]
[null,null,null,null,null,null,null,null,null,null,null,null,null,null,null,null,null,null,null,null,null,null,null,"MELAS,ŞEKER KAMIŞI",0,1,74.3,0,"0",0,0,72,2.6,1.7,1.08,5.8,"99,99",0,100,100,0,0,0,0,13.3,500,30,20,350,11,0.25,0,0,0,0,0,0,0,0,0,0,1,0.1,0.42,3.04,4.01,0.22,0.47,1.587,65.7,2.1030000000000002,263,59,0,21,0,0,7,45]
[null,null,null,null,null,null,null,null,null,null,null,null,null,null,null,null,null,null,null,null,null,null,null,"MELAS,ŞEKER PANCARI",0,1,77.900000000000006,0,"0",0,0,75,2.71,1.79,1.1599999999999999,8.5,"99,99",0,100,100,0,0,0,0,11.4,500,30,3,300,11,0.25,0,0,0,0,0,0,0,0,0,0,0.15,0.03,0.28999999999999998,1.64,6.06,1.48,0.6,0.46500000000000002,21.6,0,87,6,0,18,0,0,0,45]
[null,null,null,null,null,null,null,null,null,null,null,null,null,null,null,null,null,null,null,null,null,null,null,"MISIR GLUTEN YEMİ",0,1,90,36.200000000000003,"2,222",36,0,80,2.89,1.94,1.3,23.8,"75",25,49,100,8,2,100,3.91,6.9,300,50,5,150,4,0.1,1.68,1.5,6.97,1.71,7.04,0.89,5.32,2.1800000000000002,1.68,0.66,7.0000000000000007E-2,0.95,0.4,0.25,1.4,0.26,0.47,9.7000000000000003E-2,6.98,7.3999999999999996E-2,226,22.1,0.30199999999999999,73.3,1,0,94,55]
[null,null,null,null,null,null,null,null,null,null,null,null,null,null,null,null,null,null,null,null,null,null,null,"MISIR GRİZİ",0,1,90,23,"3,636",9,0,91,3.29,2.27,1.57,11.5,"47,49",52.51,18,78,8,5,90,7.3,1.71,150,20,5,150,4,0.09,1.1100000000000001,3.2,5.42,3.67,10.83,3.91,5.19,2.87,4.88,0.11,0.05,0.56999999999999995,0.26,0.06,0.65,0.09,0.03,6.0999999999999999E-2,15.1,0,80,16.100000000000001,0,0,0,0,0,75]
[null,null,null,null,null,null,null,null,null,null,null,null,null,null,null,null,null,null,null,null,null,null,null,"MISIR KOÇANI, 20,4 kg/kile",0,5,86,31,"7,14",56,0,77,2.78,1.85,1.22,9,"46,03",53.97,16,69,18,3,90,3.7,2,150,18,5,135,7,0.1,1.1200000000000001,1.65,1.82,2.8,10.73,2.69,3.75,2.06,3.65,0.37,7.0000000000000007E-2,0.27,0.14000000000000001,0.05,0.53,0.02,0.16,0.31,8,0.03,54.5,14,0.14000000000000001,14,0,0,0,30]
[null,null,null,null,null,null,null,null,null,null,null,null,null,null,null,null,null,null,null,null,null,null,null,"MISIR KOÇANI, 25,4 kg/kile",0,5,87,28,"7,1",56,0,82,2.96,2,1.35,9,"46,03",53.97,16,69,18,3,90,3.7,1.9,150,18,5,135,7,0.1,1.1200000000000001,1.65,1.82,2.8,10.73,2.69,3.75,2.06,3.65,0.37,7.0000000000000007E-2,0.27,0.14000000000000001,0.05,0.53,0.02,0.16,0.19,8,0.03,91,23,7.0000000000000007E-2,14,1.5E-3,0,0,32]
[null,null,null,null,null,null,null,null,null,null,null,null,null,null,null,null,null,null,null,null,null,null,null,"MISIR KOÇANI, 25,4 kg/kile, YÜKSEK NEMLİ",0,5,72,28,"7,1",56,0,85,3.07,2.09,1.42,9,"62,04",37.950000000000003,30,80,18.72,8.2799999999999994,95,3.7,1.9,25,30,6,135,10,0.1,0.99,2.4700000000000002,4.1100000000000003,3.33,12.1,3.85,4.78,2.7,4.99,0.37,7.0000000000000007E-2,0.27,0.14000000000000001,0.05,0.53,0.02,0.16,0.31,8,0.03,910,14,0.09,14,1.5E-3,0,0,31]
[null,null,null,null,null,null,null,null,null,null,null,null,null,null,null,null,null,null,null,null,null,null,null,"MISIR ÖZÜ KÜSPESİ",0,2,93,47.91,"0",9,0,74,2.98,1.76,1.1399999999999999,21.38,"37",63,0,0,0,0,90,3.27,3.22,0,0,0,0,0,0,0,0,0,0,0,0,0,0,0,0,0.04,0.55000000000000004,0.17,0.04,0.38,0.04,0.34,0,4.9000000000000004,0,370,4.0999999999999996,0.37,114.2,0,0,0,90]
[null,null,null,null,null,null,null,null,null,null,null,null,null,null,null,null,null,null,null,null,null,null,null,"PİRİNÇ KEPEĞİ",0,1,90.5,33,"13",0,0,70,2.5299999999999998,1.63,1.03,14.4,"50,95",49.04,40,80,47,2,90,15,11.5,300,40,8,250,12,0.35,1.88,4.3099999999999996,7.01,3.5,6.64,3.28,4.96,2.5499999999999998,4.38,0.88,0.1,1.73,0.97,0.08,1.89,0.03,0.2,1.526,12.2,0,229,396,0.44,33,0,0,66.7,45]
[null,null,null,null,null,null,null,null,null,null,null,null,null,null,null,null,null,null,null,null,null,null,null,"ŞEK. PAN. POSASI, KURUTULMUŞ",0,5,91,44.6,"3,703",33,0,74,2.68,1.76,1.1399999999999999,9.8000000000000007,"42,62",57.37,27,96,53,11,90,0.6,5.3,300,40,8,300,12,0.35,0.65,3,4.43,3.17,4.6100000000000003,2.69,4.5,1.87,2.8,1.1000000000000001,0.68,0.1,0.28000000000000003,0.04,0.22,0.2,0.22,8.1000000000000003E-2,13.8,0,293,37.700000000000003,0.12,1,0.4,0.6,0,70]
[null,null,null,null,null,null,null,null,null,null,null,null,null,null,null,null,null,null,null,null,null,null,null,"ŞEK. PAN. POSASI, YAŞ",0,5,19,44.6,"3,703",33,0,72,2.76,1.57,0.97,11.2,"42,62",57.37,27,96,53,11,90,2.1,4.7,300,40,8,300,12,0.35,0.65,3,4.43,3.17,4.6100000000000003,2.69,4.5,1.87,2.8,1.1000000000000001,0.87,0.1,0.22,0.04,0.19,0.19,0.22,8.1000000000000003E-2,13.8,0,330,37.700000000000003,0.12,10,0.4,0.6,0,15]
[null,null,null,null,null,null,null,null,null,null,null,null,null,null,null,null,null,null,null,null,null,null,null,"ŞEK. PAN. POSASI, YAŞ, AMBALAJLI",0,5,19.7,44.6,"3,703",33,0,72,2.9,1.65,1.1000000000000001,11,"42,62",57.37,27,96,53,11,90,2.1,4.7,300,40,8,300,12,0.35,0.65,3,4.43,3.17,4.6100000000000003,2.69,4.5,1.87,2.8,1.1000000000000001,0.87,0.1,0.22,0.04,0.19,0.19,0.22,8.1000000000000003E-2,13.8,0,330,37.700000000000003,0.12,10,0.4,0.6,0,25]
[null,null,null,null,null,null,null,null,null,null,null,null,null,null,null,null,null,null,null,null,null,null,null,"TURUNÇGİL POSASI, KURUTULMUŞ",0,5,91,23,"13,04",33,0,82,2.96,2,1.35,6.7,"41,60",58.4,27,96,53,11,90,3.7,6.6,350,50,9,350,11,0.25,0.65,3,4.43,3.17,4.6100000000000003,2.69,4.5,1.87,2.8,1.1000000000000001,1.88,0.13,0.17,0,0.77,0.08,0.08,0.185,6.15,0,360,7,0,15,0,0,0,90]
[null,null,null,null,null,null,null,null,null,null,null,null,null,null,null,null,null,null,null,null,null,null,null,"ÜZÜM KURUSU",0,5,86.44,22.84,50.96,34,25.87,68.8,1.9,1.54,0.94,5.59,"100",0,0,0,0,0,100,2.79,8.3800000000000008,350,50,9,350,11,0.25,0,0,0,0,0,0,0,0,0,0,0.57999999999999996,0.17,0.1,0.01,0.91,0.09,0,0,0,0,0,40.700000000000003,0,24.2,0,0,0,70]
[null,null,null,null,null,null,null,null,null,null,null,null,null,null,null,null,null,null,null,null,null,null,null,"ÜZÜM POSASI",0,5,90,55,"41",34,0,33,1.19,0.34,0.18,0,"100",0,0,0,0,0,100,7.9,10,350,50,9,350,11,0.25,0,0,0,0,0,0,0,0,0,0,0.57999999999999996,0.17,0.1,0.01,0.91,0.09,0,0,0,0,0,40.700000000000003,0,24.2,0,0,0,70]
[null,null,null,null,null,null,null,null,null,null,null,null,null,null,null,null,null,null,null,null,null,null,null,"ŞEK. PAN. POSASI SİLAJI (10t+saman1t+melas300kg+üre100kg)",0,5,27.4,44.6,3703,33,0,72,2.1,1.57,0.97,17.399999999999999,42.62,57.37,27,96,53,11,90,2.1,4.7,300,40,8,300,12,0.35,0.65,3,4.43,3.17,4.6100000000000003,2.69,4.5,1.87,2.8,1.1000000000000001,0.59,0.08,0.22,0.04,0.19,0.19,0.22,8.1000000000000003E-2,13.8,0,330,37.700000000000003,0.12,10,0.4,0.6,0,20]
[]
[]
[]
[]
[]
[]
[]
[]
[]
[]
[]
[]
[]
[]
[]
[]
[]
[]
[]
[]
[]
[]
[]
[]
[]
[]
[]
[]
[]
[]
[]
[]
[]
[]
[]
[]
[]
[]
[]
[]
[]
[]
[]
[]
[null,null,null,null,null,null,null,null,null,null,null,null,null,null,null,null,null,null,null,null,null,null,null,"Karma Yemler","en az","en çok","KM %Yem","NDF %KM","Lignin %NDF","Effekt. %NDF","HS,%","TDN %KM","ME,Mcal/kg","NEm,Mcal/kg","NEg,Mcal/kg","HP,%","DIP %HP","UIP %HP","SoIP %HP","NPN %SoIP","NDFIP %HP","ADFIP %HP","Nişasta %NSC","HY %KM","HK %KM","A kd %/sa©","B1 kd %/sa©","B2 kd %/sa©","B1 kd %/sa(p)","B2 kd %/sa(p)","B3 kd %/sa(p)","MET %UIP","LİZ %UIP","ARJ %UIP","TRE %UIP","LÖY %UIP","İZOLÖY %UIP","VAL %UIP","HIS %UIP","FENAL %UIP","TRİP %UIP","Ca %KM","P %KM","Mg %KM","Cl %KM","K %KM","Na %KM","S %KM","Co mg/kg","Cu mg/kg","I mg/kg","Fe mg/kg","Mn mg/kg","Se mg/kg","Zn mg/kg","Vit A 1000 IU/kg","Vit D 1000 IU/kg","Vit E IU/kg","FİYAT,Krş"]
[null,null,null,null,null,null,null,null,null,null,null,null,null,null,null,null,null,null,null,null,null,null,null,"BUZAĞI BAŞLANGIÇ YEMİ",0,5,87.600999999999985,8.9879999999999995,3.2854999999999999,39.21,0,"87,25","3,153","2,181","1,515","20,38","43,11","55,19","8,926","70,46","14,03","4,641","85,12","5,747","6,590","283,7","23,64","5,527","143,3","5,578","0,107","1,003","2,793","3,229","2,792","8,970","3,047","3,723","2,110","3,655","0,716","1,170","0,568","0,220","0,226","0,819","0,120","0,206","0,554","20,57","0,915","327,1","74,63","0,217","75,06","11,47","2,247","39,09",120]
[null,null,null,null,null,null,null,null,null,null,null,null,null,null,null,null,null,null,null,null,null,null,null,"BUZAĞI BÜYÜTME YEMİ",0,5,88.147499999999994,18.835000000000001,5.5311000000000003,33.643999999999998,0,"80,84","2,926","2,002","1,363","19,19","55,62","43,30","15,35","50,76","13,87","4,657","86,35","3,246","7,400","285,5","27,18","5,183","200,1","8,488","0,205","0,897","2,887","4,486","3,026","7,928","3,349","4,360","2,321","4,363","0,947","1,239","0,634","0,289","0,230","0,897","0,132","0,214","0,484","22,61","0,920","305,9","88,82","0,353","87,63","12,10","2,247","39,66",100]
[null,null,null,null,null,null,null,null,null,null,null,null,null,null,null,null,null,null,null,null,null,null,null,"KAZEİN",0,1,91,0,0,0,0,100,5.08,4.37,3.5,92.7,0,0,0,0,0,0,0,0.7,4,0,0,0,0,0,0,0,0,0,0,0,0,0,0,0,0,0.4,0.35,0.01,0.04,0.01,0.01,0.6,0.01,4,0,14,4,0.16,30,0,0,0,200]
[null,null,null,null,null,null,null,null,null,null,null,null,null,null,null,null,null,null,null,null,null,null,null,"PEYNİR ALTI SUYU",0,1,7,0,0,0,0,100,3.62,3.12,2.5,14.2,0,0,0,0,0,0,0,0.7,8.6999999999999993,0,0,0,0,0,0,0,0,0,0,0,0,0,0,0,0,0.73,0.65,0.18,1.4,2,1,1.1200000000000001,0.01,0.72,0,9,0.1,0.25,20,0,0,0,0]
[null,null,null,null,null,null,null,null,null,null,null,null,null,null,null,null,null,null,null,null,null,null,null,"PEYNİR ALTI SUYU PROTEİN KONSANTRESİ",0,1,93,0,0,0,0,100,4.17,3.59,2.88,37.1,0,0,0,0,0,0,0,2.2000000000000002,6,0,0,0,0,0,0,0,0,0,0,0,0,0,0,0,0,0.54,0.6,0.1,1.4,1.05,0.59,2.4,0.11,3.39,0,5.85,2.2599999999999998,0.25,2.8,0,0,0,150]
[null,null,null,null,null,null,null,null,null,null,null,null,null,null,null,null,null,null,null,null,null,null,null,"PEYNİR ALTI SUYU TOZU",0,1,98,0,0,0,0,100,3.41,2.93,2.35,3.7,0,0,0,0,0,0,0,0,9,0,0,0,0,0,0,0,0,0,0,0,0,0,0,0,0,1.77,0.97,0.18,1.4,3.5,0.5,0.3,5.8,2,0,104,4.46,0.25,2.8,0,0,0,135]
[null,null,null,null,null,null,null,null,null,null,null,null,null,null,null,null,null,null,null,null,null,null,null,"PEYNİR ALTI SUYU TOZU, DÜŞÜK LAKTOZLU",0,1,93,0,0,0,0,100,3.4,2.92,2.34,17.899999999999999,0,0,0,0,0,0,0,0.7,16.5,0,0,0,0,0,0,0,0,0,0,0,0,0,0,0,0,1.71,1.1200000000000001,0.23,1.1000000000000001,3.16,1.54,1.1499999999999999,0.01,0.72,0,9,0.1,0.25,20,0,0,0,140]
[null,null,null,null,null,null,null,null,null,null,null,null,null,null,null,null,null,null,null,null,null,null,null,"SIĞIR BESİ YEMİ",0,5,88.35,21.29,"9,02",25.4,0,77.73,2.81,1.91,1.28,14.66,"67,3",31.85,23.17,33.340000000000003,11.04,4.62,82.61,2.4900000000000002,7.31,294.95999999999998,30.86,4.9800000000000004,272.25,11.2,0.32,0.74,2.92,5.07,2.93,6.83,3.53,4.5,2.2200000000000002,4.87,1.1399999999999999,1.2,0.59,0.27,0.34,0.95,0.19,0.19,0.51,20.99,0.95,297.13,91.93,0.35,88.33,13.55,2.25,51.35,65]
[null,null,null,null,null,null,null,null,null,null,null,null,null,null,null,null,null,null,null,null,null,null,null,"SIĞIR SÜT YEMİ",0,5,88.35,22.04,"9,61",27.4,0,76.3,2.76,1.87,1.25,18.78,"66",33.159999999999997,24.38,37.71,11.21,4.87,79.92,2.61,8.57,299.12,29.09,4.6500000000000004,257.32,10.75,0.3,0.69,3.01,5.53,2.92,5.93,3.43,4.4400000000000004,2.2599999999999998,4.7699999999999996,1.18,1.34,0.62,0.31,0.39,1.25,0.25,0.23,0.46,26.15,0.94,325.45999999999998,90.04,0.36,87.02,13.31,2.25,48.01,75]
[null,null,null,null,null,null,null,null,null,null,null,null,null,null,null,null,null,null,null,null,null,null,null,"SÜT",0,5,12.5,0,0,0,0,100,5.37,4.62,3.7,25.4,0,0,0,0,0,0,0,30.8,6.3,0,0,0,0,0,0,0,0,0,0,0,0,0,0,0,0,1,0.75,0.1,0.92,1.23,0.4,0.32,0.01,0.8,0.15,4.0999999999999996,0.4,0.16,38,0,0,0,2]
[null,null,null,null,null,null,null,null,null,null,null,null,null,null,null,null,null,null,null,null,null,null,null,"SÜT İKAMESİ, 18 HP, 20 YAĞ",0,0.5,12.5,0,0,0,0,100,4.72,4.0599999999999996,3.26,18,0,0,0,0,0,0,0,20,6.3,0,0,0,0,0,0,0,0,0,0,0,0,0,0,0,0,1,0.7,7.0000000000000007E-2,0.25,0.65,0.4,0.28999999999999998,0.11,10,0.5,100,40,0.3,40,0,0,0,200]
[null,null,null,null,null,null,null,null,null,null,null,null,null,null,null,null,null,null,null,null,null,null,null,"SÜT İKAMESİ, 20 HP, 20 YAĞ",0,0.5,12.5,0,0,0,0,100,4.75,4.09,3.28,20,0,0,0,0,0,0,0,20,6.3,0,0,0,0,0,0,0,0,0,0,0,0,0,0,0,0,1,0.7,7.0000000000000007E-2,0.25,0.65,0.4,0.28999999999999998,0.11,10,0.5,100,40,0.3,40,0,0,0,220]
[null,null,null,null,null,null,null,null,null,null,null,null,null,null,null,null,null,null,null,null,null,null,null,"SÜT İKAMESİ, 22 HP, 10 YAĞ",0,0.5,12.5,0,0,0,0,100,4.29,3.69,2.96,22,0,0,0,0,0,0,0,10,6.3,0,0,0,0,0,0,0,0,0,0,0,0,0,0,0,0,1,0.7,7.0000000000000007E-2,0.25,0.65,0.4,0.28999999999999998,0.11,10,0.5,100,40,0.3,40,0,0,0,240]
[null,null,null,null,null,null,null,null,null,null,null,null,null,null,null,null,null,null,null,null,null,null,null,"YAĞSIZ SÜT",0,5,10,0,0,0,0,100,4.0199999999999996,3.46,2.77,35.5,0,0,0,0,0,0,0,0.3,6.9,0,0,0,0,0,0,0,0,0,0,0,0,0,0,0,0,1.35,1.02,0.1,1,1.85,0.55000000000000004,0.45,0.01,0.42,0.15,3.3,0.2,0.2,42,0,0,0,1]
[null,null,null,null,null,null,null,null,null,null,null,null,null,null,null,null,null,null,null,null,null,null,null,"YAĞSIZ SÜT TOZU",0,0.5,94,0,0,0,0,100,4.08,3.51,2.82,37.4,0,0,0,0,0,0,0,1,6.9,0,0,0,0,0,0,0,0,0,0,0,0,0,0,0,0,1.29,1.08,0.1,1,1.85,0.55000000000000004,0.45,0.01,0.42,0.15,3.3,0.2,0.2,42,0,0,0,90]
[null,null,null,null,null,null,null,null,null,null,null,null,null,null,null,null,null,null,null,null,null,null,null,"SIĞIR BESİ YEMİ,14,2800",0,5,88.35,21.29,9.02,25.4,0,77.73,3.01,1.91,1.28,15.9,67.3,31.85,23.17,33.340000000000003,11.04,4.62,82.61,2.4900000000000002,7.31,294.95999999999998,30.86,4.9800000000000004,272.25,11.2,0.32,0.74,2.92,5.07,2.93,6.83,3.53,4.5,2.2200000000000002,4.87,1.1399999999999999,1.2,0.59,0.27,0.34,0.95,0.19,0.19,0.51,20.99,0.95,297.13,91.93,0.35,88.33,13.55,2.25,51.35,65]
[null,null,null,null,null,null,null,null,null,null,null,null,null,null,null,null,null,null,null,null,null,null,null,"Karma-ataman","0,01","10","43,95",33.479999999999997,"3,88",19.91,0,73.59,2.73,1.74,1.1299999999999999,12.67,89.42,37.020000000000003,36.81,27.49,25.44,11.65,86.21,2.41,5.43,48.56,2.81,48.56,"0","0",0,0,0,0,0,0,0,0,0,0.16,0.15,6.5,3.28,2.12,2.0699999999999998,10.07,0.88,1.81,0.23,10.69,0.17,192.9,42.84,0.13,31,40.520000000000003,0.44,16.88]
[null,null,null,null,null,null,null,null,null,null,null,null,null,null,null,null,null,null,null,null,null,null,null,"SIĞIR BESİ YEMİ,15,2700",0,5,88.35,21.29,9.02,25.4,0,77.73,2.85,1.91,1.28,16.899999999999999,67.3,31.85,23.17,33.340000000000003,11.04,4.62,82.61,2.4900000000000002,7.31,294.95999999999998,30.86,4.9800000000000004,272.25,11.2,0.32,0.74,2.92,5.07,2.93,6.83,3.53,4.5,2.2200000000000002,4.87,1.1399999999999999,1.2,0.59,0.27,0.34,0.95,0.19,0.19,0.51,20.99,0.95,297.13,91.93,0.35,88.33,13.55,2.25,51.35,65]
[null,null,null,null,null,null,null,null,null,null,null,null,null,null,null,null,null,null,null,null,null,null,null,"SIĞIR SÜT YEMİ,2600",0,5,88.35,22.04,9.61,27.4,0,76.3,2.94,1.87,1.25,18.78,66,33.159999999999997,24.38,37.71,11.21,4.87,79.92,2.61,8.57,299.12,29.09,4.6500000000000004,257.32,10.75,0.3,0.69,3.01,5.53,2.92,5.93,3.43,4.4400000000000004,2.2599999999999998,4.7699999999999996,1.18,1.34,0.62,0.31,0.39,1.25,0.25,0.23,0.46,26.15,0.94,325.45999999999998,90.04,0.36,87.02,13.31,2.25,48.01,65]
[null,null,null,null,null,null,null,null,null,null,null,null,null,null,null,null,null,null,null,null,null,null,null,"SIĞIR BESİ YEMİ,2600",0,5,88.35,21.29,9.02,25.4,0,77.73,2.9,1.91,1.28,15.9,67.3,31.85,23.17,33.340000000000003,11.04,4.62,82.61,2.4900000000000002,7.31,294.95999999999998,30.86,4.9800000000000004,272.25,11.2,0.32,0.74,2.92,5.07,2.93,6.83,3.53,4.5,2.2200000000000002,4.87,1.1399999999999999,1.2,0.59,0.27,0.34,0.95,0.19,0.19,0.51,20.99,0.95,297.13,91.93,0.35,88.33,13.55,2.25,51.35,65]
[]
[]
[]
[]
[]
[]
[]
[]
[]
[]
[]
[]
[]
[]
[]
[]
[]
[]
[]
[]
[]
[]
[]
[]
[]
[]
[]
[]
[]
[]
[]
[]
[]
[]
[]
[]
[]
[]
[]
[]
[]
[]
[]
[]
[]
[]
[]
[]
[]
[]
[]
[]
[]
[]
[]
[null,null,null,null,null,null,null,null,null,null,null,null,null,null,null,null,null,null,null,null,null,null,null,"VİTAMİN-MİNERAL ve KATKILAR","en az","en çok","KM %Yem","NDF %KM","Lignin %NDF","Effekt. %NDF","HS,%","TDN %KM","ME,Mcal/kg","NEm,Mcal/kg","NEg,Mcal/kg","HP,%","DIP %HP","UIP %HP","SoIP %HP","NPN %SoIP","NDFIP %HP","ADFIP %HP","Nişasta %NSC","HY %KM","HK %KM","A kd %/sa©","B1 kd %/sa©","B2 kd %/sa©","B1 kd %/sa(p)","B2 kd %/sa(p)","B3 kd %/sa(p)","MET %UIP","LİZ %UIP","ARJ %UIP","TRE %UIP","LÖY %UIP","İZOLÖY %UIP","VAL %UIP","HIS %UIP","FENAL %UIP","TRİP %UIP","Ca %KM","P %KM","Mg %KM","Cl %KM","K %KM","Na %KM","S %KM","Co mg/kg","Cu mg/kg","I mg/kg","Fe mg/kg","Mn mg/kg","Se mg/kg","Zn mg/kg","Vit A 1000 IU/kg","Vit D 1000 IU/kg","Vit E IU/kg","FİYAT,Krş"]
[null,null,null,null,null,null,null,null,null,null,null,null,null,null,null,null,null,null,null,null,null,null,null,"AMONYUMFOSFAT (DİBAZİK)",0,0.1,97,0,0,0,0,0,0,0,0,115.9,100,0,100,100,0,0,0,0,100,0,0,0,0,0,0,0,0,0,0,0,0,0,0,0,0,0.52,20.6,0.46,0,0.01,0.05,2.16,0,10,0,12400,400,0,100,0,0,0,0]
[null,null,null,null,null,null,null,null,null,null,null,null,null,null,null,null,null,null,null,null,null,null,null,"AMONYUMFOSFAT (MONOBAZİK)",0,0.1,97,0,0,0,0,0,0,0,0,70.900000000000006,100,0,100,100,0,0,0,0,100,0,0,0,0,0,0,0,0,0,0,0,0,0,0,0,0,0.28000000000000003,24.74,0.46,0,0.01,0.06,1.46,10,10,0,17400,400,0,100,0,0,0,0]
[null,null,null,null,null,null,null,null,null,null,null,null,null,null,null,null,null,null,null,null,null,null,null,"AMONYUMSÜLFAT",0,0.1,100,0,0,0,0,0,0,0,0,134.1,100,0,100,100,0,0,0,0,100,0,0,0,0,0,0,0,0,0,0,0,0,0,0,0,0,0,0,0,0,0,0,24.1,0,1,0,10,1,0,0,0,0,0,0]
[null,null,null,null,null,null,null,null,null,null,null,null,null,null,null,null,null,null,null,null,null,null,null,"BAKIRSÜLFAT",0,0.1,100,0,0,0,0,0,0,0,0,0,0,0,0,0,0,0,0,0,100,0,0,0,0,0,0,0,0,0,0,0,0,0,0,0,0,0,0,0,0,0,0,12.84,0,254500,0,0,0,0,0,0,0,0,0]
[null,null,null,null,null,null,null,null,null,null,null,null,null,null,null,null,null,null,null,null,null,null,null,"ÇİNKOOKSİT",0,0.1,100,0,0,0,0,0,0,0,0,0,0,0,0,0,0,0,0,0,100,0,0,0,0,0,0,0,0,0,0,0,0,0,0,0,0,0,0,0,0,0,0,0,0,0,0,0,0,0,780000,0,0,0,0]
[null,null,null,null,null,null,null,null,null,null,null,null,null,null,null,null,null,null,null,null,null,null,null,"ÇİNKOSÜLFAT",0,0.1,99,0,0,0,0,0,0,0,0,0,0,0,0,0,0,0,0,0,100,0,0,0,0,0,0,0,0,0,0,0,0,0,0,0,0,0.02,0,0,1.4999999999999999E-2,0,0,17.68,0,0,0,10,10,0,363600,0,0,0,0]
[null,null,null,null,null,null,null,null,null,null,null,null,null,null,null,null,null,null,null,null,null,null,null,"DEFLORİNEFOSFAT",0,0.1,100,0,0,0,0,0,0,0,0,0,0,0,0,0,0,0,0,0,100,0,0,0,0,0,0,0,0,0,0,0,0,0,0,0,0,32,18,0.42,0,0.08,4.9000000000000004,0,10,20,0,6700,200,0,60,0,0,0,0]
[null,null,null,null,null,null,null,null,null,null,null,null,null,null,null,null,null,null,null,null,null,null,null,"DEMİRSÜLFAT",0,0.1,98,0,0,0,0,0,0,0,0,0,0,0,0,0,0,0,0,0,100,0,0,0,0,0,0,0,0,0,0,0,0,0,0,0,0,0,0,0,0,0,0,12.35,0,0,0,218400,0,0,0,0,0,0,0]
[null,null,null,null,null,null,null,null,null,null,null,null,null,null,null,null,null,null,null,null,null,null,null,"DİKALSİYUMFOSFAT",0,0.1,97,0,0,0,0,0,0,0,0,0,0,0,0,0,0,0,0,0,100,0,0,0,0,0,0,0,0,0,0,0,0,0,0,0,0,22,19.3,0.59,0,7.0000000000000007E-2,0.05,1.1399999999999999,10,10,0,14400,300,0,100,0,0,0,50]
[null,null,null,null,null,null,null,null,null,null,null,null,null,null,null,null,null,null,null,null,null,null,null,"EDTA",0,0.1,98,0,0,0,0,0,0,0,0,0,0,0,0,0,0,0,0,0,100,0,0,0,0,0,0,0,0,0,0,0,0,0,0,0,0,0,0,0,0,0,0,0,0,0,803400,0,0,0,0,0,0,0,0]
[null,null,null,null,null,null,null,null,null,null,null,null,null,null,null,null,null,null,null,null,null,null,null,"FOSFORİK ASİT",0,0.1,75,0,0,0,0,0,0,0,0,0,0,0,0,0,0,0,0,0,100,0,0,0,0,0,0,0,0,0,0,0,0,0,0,0,0,0.05,31.6,0.51,0,0.02,0.04,1.55,10,10,0,17500,500,0,130,0,0,0,0]
[null,null,null,null,null,null,null,null,null,null,null,null,null,null,null,null,null,null,null,null,null,null,null,"İSTİRİDYE KABUĞU, ÖĞÜTÜLMÜŞ",0,0.5,99,0,0,0,0,0,0,0,0,0,0,0,0,0,0,0,0,0,100,0,0,0,0,0,0,0,0,0,0,0,0,0,0,0,0,38,7.0000000000000007E-2,0.3,0.01,0.1,0.21,0,0,0,0,2870,100,0,0,0,0,0,0]
[null,null,null,null,null,null,null,null,null,null,null,null,null,null,null,null,null,null,null,null,null,null,null,"KALSİYUMKARBONAT",0,0.1,100,0,0,0,0,0,0,0,0,0,0,0,0,0,0,0,0,0,100,0,0,0,0,0,0,0,0,0,0,0,0,0,0,0,0,39.39,0.04,0.05,0,0.06,0.06,0,0,0,0,300,300,0,0,0,0,0,0]
[null,null,null,null,null,null,null,null,null,null,null,null,null,null,null,null,null,null,null,null,null,null,null,"KALSİYUMMONOFOSFAT",0,0.1,97,0,0,0,0,0,0,0,0,0,0,0,0,0,0,0,0,0,100,0,0,0,0,0,0,0,0,0,0,0,0,0,0,0,0,16.399999999999999,21.6,0.61,0,0.08,0.06,1.22,10,10,0,15800,360,0,90,0,0,0,0]
[null,null,null,null,null,null,null,null,null,null,null,null,null,null,null,null,null,null,null,null,null,null,null,"KALSİYUMSÜLFAT",0,0.1,97,0,0,0,0,0,0,0,0,0,0,0,0,0,0,0,0,0,100,0,0,0,0,0,0,0,0,0,0,0,0,0,0,0,0,23.28,0,0,0,0,0,18.62,0,0,0,0,0,0,0,0,0,0,0]
[null,null,null,null,null,null,null,null,null,null,null,null,null,null,null,null,null,null,null,null,null,null,null,"KAYAFOSFATI",0,0.1,100,0,0,0,0,0,0,0,0,0,0,0,0,0,0,0,0,0,100,0,0,0,0,0,0,0,0,0,0,0,0,0,0,0,0,35,13,0.41,0,0.06,0.03,0,10,10,0,16800,200,0,100,0,0,0,0]
[null,null,null,null,null,null,null,null,null,null,null,null,null,null,null,null,null,null,null,null,null,null,null,"KAYAFOSFATI,DÜŞÜK Fl",0,0.1,100,0,0,0,0,0,0,0,0,0,0,0,0,0,0,0,0,0,100,0,0,0,0,0,0,0,0,0,0,0,0,0,0,0,0,36,14,0,0,0,0,0,0,0,0,0,0,0,0,0,0,0,0]
[null,null,null,null,null,null,null,null,null,null,null,null,null,null,null,null,null,null,null,null,null,null,null,"KAYAFOSFATI,YUMUŞAK",0,0.1,100,0,0,0,0,0,0,0,0,0,0,0,0,0,0,0,0,0,100,0,0,0,0,0,0,0,0,0,0,0,0,0,0,0,0,17,9,0.38,0,0,0.1,0,0,0,0,19000,1000,0,0,0,0,0,0]
[null,null,null,null,null,null,null,null,null,null,null,null,null,null,null,null,null,null,null,null,null,null,null,"KEMİK UNU",0,0.5,97,0,0,0,0,0,0,0,0,13.2,40,60,40,0,0,0,0,0,100,0,0,0,500,0,0,0,0,0,0,0,0,0,0,0,0,30.71,12.86,0.33,0,0.19,5.69,2.5099999999999998,0,0,0,26700,0,0,100,0,0,0,0]
[null,null,null,null,null,null,null,null,null,null,null,null,null,null,null,null,null,null,null,null,null,null,null,"KİREÇTAŞI",0,0.2,100,0,0,0,0,0,0,0,0,0,0,0,0,0,0,0,0,0,100,0,0,0,0,0,0,0,0,0,0,0,0,0,0,0,0,34,0.02,2.06,0.03,0.12,0.06,0.04,0,0,0,3500,0,0,0,0,0,0,15]
[null,null,null,null,null,null,null,null,null,null,null,null,null,null,null,null,null,null,null,null,null,null,null,"KİREÇTAŞI, Mg",0,0.2,99,0,0,0,0,0,0,0,0,0,0,0,0,0,0,0,0,0,100,0,0,0,0,0,0,0,0,0,0,0,0,0,0,0,0,22.3,0.04,9.99,0.12,0.36,0,0,0,0,0,770,0,0,0,0,0,0,15]
[null,null,null,null,null,null,null,null,null,null,null,null,null,null,null,null,null,null,null,null,null,null,null,"KOBALTKARBONAT",0,0.1,99,0,0,0,0,0,0,0,0,0,0,0,0,0,0,0,0,0,100,0,0,0,0,0,0,0,0,0,0,0,0,0,0,0,0,0,0,0,0,0,0,0.2,460000,0,0,500,0,0,0,0,0,0,0]
[null,null,null,null,null,null,null,null,null,null,null,null,null,null,null,null,null,null,null,null,null,null,null,"MAGNEZYUMKARBONAT",0,0.1,98,0,0,0,0,0,0,0,0,0,0,0,0,0,0,0,0,0,100,0,0,0,0,0,0,0,0,0,0,0,0,0,0,0,0,0.02,0,30.81,0,0,0,0,0,0,0,220,0,0,0,0,0,0,0]
[null,null,null,null,null,null,null,null,null,null,null,null,null,null,null,null,null,null,null,null,null,null,null,"MAGNEZYUMOKSİT",0,0.1,98,0,0,0,0,0,0,0,0,0,0,0,0,0,0,0,0,0,100,0,0,0,0,0,0,0,0,0,0,0,0,0,0,0,0,3.07,0,56.2,0,0,0,0,0,0,0,0,100,0,0,0,0,0,0]
[null,null,null,null,null,null,null,null,null,null,null,null,null,null,null,null,null,null,null,null,null,null,null,"MANGANEZKARBONAT",0,0.1,97,0,0,0,0,0,0,0,0,0,0,0,0,0,0,0,0,0,100,0,0,0,0,0,0,0,0,0,0,0,0,0,0,0,0,0,0,0,0,0,0,0,0,0,0,0,478000,0,0,0,0,0,0]
[null,null,null,null,null,null,null,null,null,null,null,null,null,null,null,null,null,null,null,null,null,null,null,"MANGANEZOKSİT",0,0.1,99,0,0,0,0,0,0,0,0,0,0,0,0,0,0,0,0,0,100,0,0,0,0,0,0,0,0,0,0,0,0,0,0,0,0,0,0,0,0,0,0,0,0,0,0,0,774500,0,0,0,0,0,0]
[null,null,null,null,null,null,null,null,null,null,null,null,null,null,null,null,null,null,null,null,null,null,null,"MONOFOSFAT",0,0.1,97,0,0,0,0,0,0,0,0,0,0,0,0,0,0,0,0,0,100,0,0,0,0,0,0,0,0,0,0,0,0,0,0,0,0,0,22.5,0,0,0,16.68,0,0,0,0,0,0,0,0,0,0,0,0]
[null,null,null,null,null,null,null,null,null,null,null,null,null,null,null,null,null,null,null,null,null,null,null,"MONOSODYUMFOSFAT",0,0.1,97,0,0,0,0,0,0,0,0,0,0,0,0,0,0,0,0,0,100,0,0,0,0,0,0,0,0,0,0,0,0,0,0,0,0,0,22.5,0,0,0,16.68,0,0,0,0,0,0,0,0,0,0,0,0]
[null,null,null,null,null,null,null,null,null,null,null,null,null,null,null,null,null,null,null,null,null,null,null,"POTASYUMBİKARBONAT",0,0.1,99,0,0,0,0,0,0,0,0,0,0,0,0,0,0,0,0,0,100,0,0,0,0,0,0,0,0,0,0,0,0,0,0,0,0,0,0,0,0,39.049999999999997,0,0,0,0,0,0,0,0,0,0,0,0,0]
[null,null,null,null,null,null,null,null,null,null,null,null,null,null,null,null,null,null,null,null,null,null,null,"POTASYUMİYODİD",0,0.1,100,0,0,0,0,0,0,0,0,0,0,0,0,0,0,0,0,0,100,0,0,0,0,0,0,0,0,0,0,0,0,0,0,0,0,0,0,0,0,21,0,0,0,0,681700,0,0,0,0,0,0,0,0]
[null,null,null,null,null,null,null,null,null,null,null,null,null,null,null,null,null,null,null,null,null,null,null,"POTASYUMKLORİD",0,0.1,100,0,0,0,0,0,0,0,0,0,0,0,0,0,0,0,0,0,100,0,0,0,0,0,0,0,0,0,0,0,0,0,0,0,0,0.05,0,0.34,47.3,50,1,0.45,0,0,0,600,0,0,0,0,0,0,0]
[null,null,null,null,null,null,null,null,null,null,null,null,null,null,null,null,null,null,null,null,null,null,null,"POTASYUMSÜLFAT",0,0.1,98,0,0,0,0,0,0,0,0,0,0,0,0,0,0,0,0,0,100,0,0,0,0,0,0,0,0,0,0,0,0,0,0,0,0,0.15,0,0.61,1.55,41.84,0.09,17.350000000000001,0,0,0,710,10,0,0,0,0,0,0]
[null,null,null,null,null,null,null,null,null,null,null,null,null,null,null,null,null,null,null,null,null,null,null,"SODYUMBİKARBONAT",0,0.1,100,0,0,0,0,0,0,0,0,0,0,0,0,0,0,0,0,0,100,0,0,0,0,0,0,0,0,0,0,0,0,0,0,0,0,0,0,0,0,0,27,0,0,0,0,0,0,0,0,0,0,0,70]
[null,null,null,null,null,null,null,null,null,null,null,null,null,null,null,null,null,null,null,null,null,null,null,"SODYUMSELENİT",0,0.01,98,0,0,0,0,0,0,0,0,0,0,0,0,0,0,0,0,0,100,0,0,0,0,0,0,0,0,0,0,0,0,0,0,0,0,0,0,0,0,0,26.6,0,0,0,0,0,0,456000,0,0,0,0,0]
[null,null,null,null,null,null,null,null,null,null,null,null,null,null,null,null,null,null,null,null,null,null,null,"SODYUMSÜLFAT",0,0.1,97,0,0,0,0,0,0,0,0,0,0,0,0,0,0,0,0,0,100,0,0,0,0,0,0,0,0,0,0,0,0,0,0,0,0,0,0,0,0,0,14.27,9.9499999999999993,0,0,0,0,0,0,0,0,0,0,0]
[null,null,null,null,null,null,null,null,null,null,null,null,null,null,null,null,null,null,null,null,null,null,null,"SODYUMTRİPOLİFOSFAT",0,0.1,96,0,0,0,0,0,0,0,0,0,0,0,0,0,0,0,0,0,100,0,0,0,0,0,0,0,0,0,0,0,0,0,0,0,0,0,25,0,0,0,31,0,0,0,0,40,0,0,0,0,0,0,0]
[null,null,null,null,null,null,null,null,null,null,null,null,null,null,null,null,null,null,null,null,null,null,null,"TUZ",5.0000000000000001E-3,0.05,100,0,0,0,0,0,0,0,0,0,0,0,0,0,0,0,0,0,100,0,0,0,0,0,0,0,0,0,0,0,0,0,0,0,0,0,0,0,60.66,0,39.340000000000003,0,0,0,0,0,0,0,0,0,0,0,25]
[null,null,null,null,null,null,null,null,null,null,null,null,null,null,null,null,null,null,null,null,null,null,null,"VİT. KAR. (KAVIMIX 802-EKONOMİK) (SÜT, BESİ, BUZAĞI)",5.0000000000000001E-3,0.05,100,0,0,0,0,0,0,0,0,0,0,0,0,0,0,0,0,0,0,0,0,0,0,0,0,0,0,0,0,0,0,0,0,0,0,0,0,0,0,0,0,0,0,0,0,0,0,0,0,7000,700,30000,200]
[null,null,null,null,null,null,null,null,null,null,null,null,null,null,null,null,null,null,null,null,null,null,null,"VİT. KAR. (KAVIMIX 803-ZENGİN) (SÜT, BESİ, BUZAĞI)",5.0000000000000001E-3,0.05,100,0,0,0,0,0,0,0,0,0,0,0,0,0,0,0,0,0,0,0,0,0,0,0,0,0,0,0,0,0,0,0,0,0,0,0,0,0,0,0,0,0,0,0,0,0,0,0,0,15000,3000,30000,200]
[null,null,null,null,null,null,null,null,null,null,null,null,null,null,null,null,null,null,null,null,null,null,null,"VİT. KAR. (ROVIMIX 302-F/30) (SÜT, BESİ)",5.0000000000000001E-3,0.05,100,0,0,0,0,0,0,0,0,0,0,0,0,0,0,0,0,0,0,0,0,0,0,0,0,0,0,0,0,0,0,0,0,0,0,0,0,0,0,0,0,0,0,0,0,0,0,0,0,15000,3000,30000,250]
[null,null,null,null,null,null,null,null,null,null,null,null,null,null,null,null,null,null,null,null,null,null,null,"VİT.-MİN. KAR. (FARMIX-STANDART) (SÜT, BESİ)",5.0000000000000001E-3,0.05,100,0,0,0,0,0,0,0,0,0,0,0,0,0,0,0,0,0,0,0,0,0,0,0,0,0,0,0,0,0,0,0,0,0,0,0,0,0,0,0,0,0,200,10000,800,50000,50000,150,50000,7000,700,30000,350]
[null,null,null,null,null,null,null,null,null,null,null,null,null,null,null,null,null,null,null,null,null,null,null,"VİT.-MİN. KAR. (KAVIMIX VM 602-EKONOMİK) (SÜT, BESİ, BUZAĞI)",5.0000000000000001E-3,0.05,100,0,0,0,0,0,0,0,0,0,0,0,0,0,0,0,0,0,0,0,0,0,0,0,0,0,0,0,0,0,0,0,0,0,0,0,0,0,0,0,0,0,150,10000,800,50000,50000,150,50000,10000,2000,30000,350]
[null,null,null,null,null,null,null,null,null,null,null,null,null,null,null,null,null,null,null,null,null,null,null,"VİT.-MİN. KAR. (KAVIMIX VM 812) (BUZAĞI )",5.0000000000000001E-3,0.05,100,0,0,0,0,0,0,0,0,0,0,0,0,0,0,0,0,0,0,0,0,0,0,0,0,0,0,0,0,0,0,0,0,0,0,0,0,0,0,0,0,0,150,10000,800,50000,50000,150,50000,7000,700,30000,350]
[null,null,null,null,null,null,null,null,null,null,null,null,null,null,null,null,null,null,null,null,null,null,null,"VİT.-MİN. KAR. (KAVIMIX VM 902-E/20-ZENGİN) (SÜT, BESİ)",5.0000000000000001E-3,0.05,100,0,0,0,0,0,0,0,0,0,0,0,0,0,0,0,0,0,0,0,0,0,0,0,0,0,0,0,0,0,0,0,0,0,0,0,0,0,0,0,0,0,150,10000,800,50000,50000,150,50000,15000,3000,30000,350]
[null,null,null,null,null,null,null,null,null,null,null,null,null,null,null,null,null,null,null,null,null,null,null,"VİT.-MİN. KAR. (KAVIMIX VM 902-ZENGİN) (SÜT, BESİ)",5.0000000000000001E-3,0.05,100,0,0,0,0,0,0,0,0,0,0,0,0,0,0,0,0,0,0,0,0,0,0,0,0,0,0,0,0,0,0,0,0,0,0,0,0,0,0,0,0,0,150,10000,800,50000,50000,150,50000,15000,3000,30000,350]
[null,null,null,null,null,null,null,null,null,null,null,null,null,null,null,null,null,null,null,null,null,null,null,"VİT.-MİN. KAR. (ROVIMIX 301-F) (BUZAĞI )",5.0000000000000001E-3,0.05,100,0,0,0,0,0,0,0,0,0,0,0,0,0,0,0,0,0,0,0,0,0,0,0,0,0,0,0,0,0,0,0,0,0,0,1.26,0,0,0,0,0,0,0,0,0,0,0,0,0,15000,4000,20000,350]
[null,null,null,null,null,null,null,null,null,null,null,null,null,null,null,null,null,null,null,null,null,null,null,"VİT.-MİN. KAR. (ROVIMIX 302-FM/30) (SÜT, BESİ)",5.0000000000000001E-3,0.05,100,0,0,0,0,0,0,0,0,0,0,0,0,0,0,0,0,0,0,0,0,0,0,0,0,0,0,0,0,0,0,0,0,0,0,0,0,0,0,0,0,0,150,10000,800,50000,50000,150,50000,15000,3000,30000,350]
[]
[]
[]
[]
[]
[]
[]
[]
[]
[]
[]
[]
[]
[]
[]
[]
[]
[]
[]
[]
[]
[]
[]
[]
[]
[]
[]
[]
[]
[null,null,null,null,null,null,null,null,null,null,null,null,null,null,null,null,null,null,null,null,null,null,null,null,"en az","KM %Yem","NDF %KM","Lignin %NDF","Effekt. %NDF","HS,%","TDN %KM","ME,Mcal/kg","NEm,Mcal/kg","NEg,Mcal/kg","HP,%","DIP %HP","UIP %HP","SoIP %HP","NPN %SoIP","NDFIP %HP","ADFIP %HP","Nişasta %NSC","HY %KM","HK %KM","A kd %/sa©","B1 kd %/sa©","B2 kd %/sa©","B1 kd %/sa(p)","B2 kd %/sa(p)","B3 kd %/sa(p)","MET %UIP","LİZ %UIP","ARJ %UIP","TRE %UIP","LÖY %UIP","İZOLÖY %UIP","VAL %UIP","HIS %UIP","FENAL %UIP","TRİP %UIP","Ca %KM","P %KM","Mg %KM","Cl %KM","K %KM","Na %KM","S %KM","Co mg/kg","Cu mg/kg","I mg/kg","Fe mg/kg","Mn mg/kg","Se mg/kg","Zn mg/kg","Vit A 1000 IU/kg","Vit D 1000 IU/kg","Vit E IU/kg","FİYAT,Krş"]
[null,null,null,null,null,null,null,null,null,null,null,null,null,null,null,null,null,null,null,null,null,null,null,null,0.01,{"$f":"ROUND(SUM(Z660:Z686)/$Y2,2)","v":60.62},{"$f":"ROUND(SUM(AA660:AA686)/TotalDMFed*100,2)","v":37.97},{"$f":"ROUND(SUM(AB660:AB686)/TotalDMFed*100,2)","v":4.99},{"$f":"ROUND(SUM(AC660:AC686),2)","v":2.25},{"$f":"ROUND(SUM(AD660:AD686)/TotalDMFed*100,2)","v":0},{"$f":"ROUND(SUM(AE660:AE686)/TotalDMFed/10,2)","v":67.84},{"$f":"ROUND(SUM(AF660:AF686)/TotalDMFed,2)","v":2.4700000000000002},{"$f":"ROUND(SUM(AG660:AG686)/TotalDMFed,2)","v":1.52},{"$f":"ROUND(SUM(AH660:AH686)/TotalDMFed,2)","v":0.91},{"$f":"ROUND(SUM(AI660:AI686)/TotalDMFed/10,2)","v":8.56},{"$f":"ROUND(SUM(AJ660:AJ686)/TotalDMFed,2)","v":52.43},33.119999999999997,24.77,18.12,21.1,11.26,{"$f":"ROUND(SUM(AP660:AP686)/TotalDMFed/10,2)","v":84.29},2.4,5.25,47.94,4.3,47.81,0,0,0,{"$f":"ROUND(SUM(AY660:AY686)/TotalDMFed,2)","v":0},0,0,0,0,0,0,0,0.18,0.18,1.98,1.9,1.5,3.14,12.8,2.25,2.15,0.25,7.64,0.02,121.69,27.24,0.03,13.28,9.6199999999999992,1,42.65,{"$f":"ROUND(SUM(BZ660:BZ686)/Y2,2)","v":37.549999999999997}]
[null,null,null,null,null,null,null,null,null,null,null,null,null,null,null,null,null,null,null,null,null,null,null,null,"en çok",{"$f":"IF($Y5=0,0,Z5*$Y5)","v":267},{"$f":"IF($Y5=0,0,AA36)","v":2.10663},0.34696196099999993,2.0644974,0,1094.7,3.9516,1.7088000000000001,0.29370000000000002,93.449999999999989,28.969499999999996,{"$f":"IF($Y5=0,0,AK36)","v":64.480499999999992},18.689999999999998,17.755499999999998,70.087499999999991,60.742499999999993,2670,53.4,205.59,281.01749999999976,10.524999999999988,281.0174999999997,0,0,0,0,0,0,0,0,0,0,0,0.1333333333333333,0.13208985619993682,4.5390000000000006,1.335,3.2039999999999997,8.5440000000000005,37.646999999999991,3.7380000000000004,5.0729999999999995,0.12282,9.6120000000000001,0,419.19,109.47,0,16.02,2.67,0.18690000000000001,0,60]
[null,null,null,null,null,null,null,null,null,null,null,null,null,null,null,null,null,null,null,null,null,null,null,null,10,44,{"$f":"IF($Y6=0,0,AA37)","v":0.1232},1.2751200000000001E-2,{"$f":"IF($Y6=0,0,AC37)","v":4.1888000000000009E-2},0,338.8,{"$f":"IF($Y6=0,0,AF37)","v":1.2231999999999998},0.81400000000000006,{"$f":"IF($Y6=0,0,AH37)","v":0.53679999999999994},61.6,41.222720000000002,{"$f":"IF($Y6=0,0,AK37)","v":20.371120000000001},10.472000000000001,3.0368800000000005,4.9279999999999999,3.08,396,10.120000000000001,17.600000000000001,232.40800000000002,52.820000000000007,232.40800000000004,0,0,0,0,0,0,0,0,0,0,0,0.24000000000000005,0.23776174115988638,0.26400000000000001,1.716,0.66,0.57200000000000006,2.2880000000000003,0.13200000000000001,0.748,8.4920000000000009E-2,3.7839999999999998,2.2000000000000002E-2,39.6,7.9640000000000004,7.8759999999999997E-2,19.535999999999998,1.6719999999999999,0,11.528,35]
[null,null,null,null,null,null,null,null,null,null,null,null,null,null,null,null,null,null,null,null,null,null,null,null,null,115.7,0.13652600000000001,8.5328750000000005E-3,0,0,1018.1600000000001,3.6792600000000002,2.5222600000000002,1.7355,164.29400000000001,126.50638000000001,{"$f":"IF($Y7=0,0,AK38)","v":37.787620000000004},49.288200000000003,12.322050000000001,6.5717600000000003,3.2858800000000001,1041.3,27.073800000000002,23.255699999999997,812.42226000000005,70.217999999999989,812.42225999999982,0,0,0,0,0,0,0,0,0,0,0,0.31111111111111112,0.30820966446651932,0.57850000000000001,5.0907999999999998,1.5041000000000002,1.0413000000000001,4.6280000000000001,0.1157,1.6198000000000001,0.57502900000000001,7.5205000000000002,0.11685700000000002,52.180700000000002,42.346200000000003,5.7850000000000006E-2,44.081700000000005,0,0,19.669,104]
[null,null,null,null,null,null,null,null,null,null,null,null,null,null,null,null,null,null,null,null,null,null,null,null,null,176,0.15839999999999999,3.5164800000000002E-3,0,0,1548.8,5.5968,3.8368000000000002,2.64,172.48000000000002,98.934528000000014,{"$f":"IF($Y8=0,0,AK39)","v":73.528224000000009},18.972800000000003,13.850144000000002,25.872000000000003,8.6240000000000006,1584,75.679999999999993,28.160000000000004,1351.1519999999998,76.770000000000024,1351.1520000000003,0,0,0,0,0,0,0,0,0,0,0,0.26666666666666666,0.2641797123998737,0.52800000000000002,5.4559999999999995,1.9359999999999999,1.056,5.8079999999999998,0.17600000000000002,2.4640000000000004,0.75504000000000004,8.4480000000000004,0,52.8,11.264000000000001,0,0,0,0,0,160]
[null,null,null,null,null,null,null,null,null,null,null,null,null,null,null,null,null,null,null,null,null,null,null,null,null,77.900000000000006,0,0,0,0,584.25,2.1110899999999999,1.3944100000000001,0.90364,66.215000000000003,66.208378499999995,{"$f":"IF($Y9=0,0,AK40)","v":0},66.215000000000003,66.215000000000003,0,0,0,0,88.806000000000012,623.97900000000004,80.099999999999994,623.97900000000004,0,0,0,0,0,0,0,0,0,0,0,0.1333333333333333,0.13208985619993682,1.1684999999999999,0.23369999999999999,2.2591000000000001,12.775600000000001,47.2074,11.529199999999999,4.6739999999999995,0.36223500000000003,16.826400000000003,0,67.772999999999996,4.6740000000000004,0,14.022,0,0,0,45]
[null,null,null,null,null,null,null,null,null,null,null,null,null,null,null,null,null,null,null,null,null,null,null,null,null,95,0.42369999999999997,1.5689610999999999E-2,0.139821,0,683.99999999999989,2.6219999999999999,1.4915,0.92149999999999999,106.39999999999999,45.34767999999999,{"$f":"IF($Y10=0,0,AK41)","v":61.041679999999999},28.727999999999998,27.578879999999998,56.391999999999996,11.703999999999999,855,19.95,44.65,411.69199999999995,43.335999999999999,411.69199999999989,0,0,0,0,0,0,0,0,0,0,0,0.3,0.29720217644985791,8.2650000000000006,0.95,2.09,0.38,1.8049999999999999,1.8049999999999999,2.09,7.6950000000000005E-2,13.11,0,313.5,35.814999999999998,0.11399999999999999,9.5,0.38,0.56999999999999995,0,75]
[null,null,null,null,null,null,null,null,null,null,null,null,null,null,null,null,null,null,null,null,null,null,null,null,null,1,0,0,0,0,0,0,0,0,0,0,{"$f":"IF($Y11=0,0,AK42)","v":0},0,0,0,0,0,0,0,10,0,0,0,0,0,0,0,0,0,0,0,0,0,0,0,0,0,0,0,0,0,0,0,0,0,0,0,0,0,70,7,300,2]
[null,null,null,null,null,null,null,null,null,null,null,null,null,null,null,null,null,null,null,null,null,null,null,null,null,0,0,0,0,0,0,0,0,0,0,0,{"$f":"IF($Y12=0,0,AK43)","v":0},0,0,0,0,0,0,0,0,0,0,0,0,0,0,0,0,0,0,0,0,0,0,0,0,0,0,0,0,0,0,0,0,0,0,0,0,0,0,0,0,0]
[null,null,null,null,null,null,null,null,null,null,null,null,null,null,null,null,null,null,null,null,null,null,null,null,null,0,0,0,0,0,0,0,0,0,0,0,{"$f":"IF($Y13=0,0,AK44)","v":0},0,0,0,0,0,0,0,0,0,0,0,0,0,0,0,0,0,0,0,0,0,0,0,0,0,0,0,0,0,0,0,0,0,0,0,0,0,0,0,0,0]
[null,null,null,null,null,null,null,null,null,null,null,null,null,null,null,null,null,null,null,null,null,null,null,null,null,0,0,0,0,0,0,0,0,0,0,0,{"$f":"IF($Y14=0,0,AK45)","v":0},0,0,0,0,0,0,0,0,0,0,0,0,0,0,0,0,0,0,0,0,0,0,0,0,0,0,0,0,0,0,0,0,0,0,0,0,0,0,0,0,0]
[null,null,null,null,null,null,null,null,null,null,null,null,null,null,null,null,null,null,null,null,null,null,null,null,null,0,0,0,0,0,0,0,0,0,0,0,{"$f":"IF($Y15=0,0,AK46)","v":0},0,0,0,0,0,0,0,0,0,0,0,0,0,0,0,0,0,0,0,0,0,0,0,0,0,0,0,0,0,0,0,0,0,0,0,0,0,0,0,0,0]
[null,null,null,null,null,null,null,null,null,null,null,null,null,null,null,null,null,null,null,null,null,null,null,null,null,0,0,0,0,0,0,0,0,0,0,0,{"$f":"IF($Y16=0,0,AK47)","v":0},0,0,0,0,0,0,0,0,0,0,0,0,0,0,0,0,0,0,0,0,0,0,0,0,0,0,0,0,0,0,0,0,0,0,0,0,0,0,0,0,0]
[null,null,null,null,null,null,null,null,null,null,null,null,null,null,null,null,null,null,null,null,null,null,null,null,null,0,0,0,0,0,0,0,0,0,0,0,{"$f":"IF($Y17=0,0,AK48)","v":0},0,0,0,0,0,0,0,0,0,0,0,0,0,0,0,0,0,0,0,0,0,0,0,0,0,0,0,0,0,0,0,0,0,0,0,0,0,0,0,0,0]
[null,null,null,null,null,null,null,null,null,null,null,null,null,null,null,null,null,null,null,null,null,null,null,null,null,0,0,0,0,0,0,0,0,0,0,0,{"$f":"IF($Y18=0,0,AK49)","v":0},0,0,0,0,0,0,0,0,0,0,0,0,0,0,0,0,0,0,0,0,0,0,0,0,0,0,0,0,0,0,0,0,0,0,0,0,0,0,0,0,0]
[null,null,null,null,null,null,null,null,null,null,null,null,null,null,null,null,null,null,null,null,null,null,null,null,null,0,0,0,0,0,0,0,0,0,0,0,{"$f":"IF($Y19=0,0,AK50)","v":0},0,0,0,0,0,0,0,0,0,0,0,0,0,0,0,0,0,0,0,0,0,0,0,0,0,0,0,0,0,0,0,0,0,0,0,0,0,0,0,0,0]
[null,null,null,null,null,null,null,null,null,null,null,null,null,null,null,null,null,null,null,null,null,null,null,null,null,0,0,0,0,0,0,0,0,0,0,0,{"$f":"IF($Y20=0,0,AK51)","v":0},0,0,0,0,0,0,0,0,0,0,0,0,0,0,0,0,0,0,0,0,0,0,0,0,0,0,0,0,0,0,0,0,0,0,0,0,0,0,0,0,0]
[null,null,null,null,null,null,null,null,null,null,null,null,null,null,null,null,null,null,null,null,null,null,null,null,null,0,0,0,0,0,0,0,0,0,0,0,{"$f":"IF($Y21=0,0,AK52)","v":0},0,0,0,0,0,0,0,0,0,0,0,0,0,0,0,0,0,0,0,0,0,0,0,0,0,0,0,0,0,0,0,0,0,0,0,0,0,0,0,0,0]
[null,null,null,null,null,null,null,null,null,null,null,null,null,null,null,null,null,null,null,null,null,null,null,null,null,0,0,0,0,0,0,0,0,0,0,0,{"$f":"IF($Y22=0,0,AK53)","v":0},0,0,0,0,0,0,0,0,0,0,0,0,0,0,0,0,0,0,0,0,0,0,0,0,0,0,0,0,0,0,0,0,0,0,0,0,0,0,0,0,0]
[null,null,null,null,null,null,null,null,null,null,null,null,null,null,null,null,null,null,null,null,null,null,null,null,null,0,0,0,0,0,0,0,0,0,0,0,{"$f":"IF($Y23=0,0,AK54)","v":0},0,0,0,0,0,0,0,0,0,0,0,0,0,0,0,0,0,0,0,0,0,0,0,0,0,0,0,0,0,0,0,0,0,0,0,0,0,0,0,0,0]
[null,null,null,null,null,null,null,null,null,null,null,null,null,null,null,null,null,null,null,null,null,null,null,null,null,0,0,0,0,0,0,0,0,0,0,0,{"$f":"IF($Y24=0,0,AK55)","v":0},0,0,0,0,0,0,0,0,0,0,0,0,0,0,0,0,0,0,0,0,0,0,0,0,0,0,0,0,0,0,0,0,0,0,0,0,0,0,0,0,0]
[null,null,null,null,null,null,null,null,null,null,null,null,null,null,null,null,null,null,null,null,null,null,null,null,null,0,0,0,0,0,0,0,0,0,0,0,{"$f":"IF($Y25=0,0,AK56)","v":0},0,0,0,0,0,0,0,0,0,0,0,0,0,0,0,0,0,0,0,0,0,0,0,0,0,0,0,0,0,0,0,0,0,0,0,0,0,0,0,0,0]
[null,null,null,null,null,null,null,null,null,null,null,null,null,null,null,null,null,null,null,null,null,null,null,null,null,0,0,0,0,0,0,0,0,0,0,0,{"$f":"IF($Y26=0,0,AK57)","v":0},0,0,0,0,0,0,0,0,0,0,0,0,0,0,0,0,0,0,0,0,0,0,0,0,0,0,0,0,0,0,0,0,0,0,0,0,0,0,0,0,0]
[null,null,null,null,null,null,null,null,null,null,null,null,null,null,null,null,null,null,null,null,null,null,null,null,null,0,0,0,0,0,0,0,0,0,0,0,{"$f":"IF($Y27=0,0,AK58)","v":0},0,0,0,0,0,0,0,0,0,0,0,0,0,0,0,0,0,0,0,0,0,0,0,0,0,0,0,0,0,0,0,0,0,0,0,0,0,0,0,0,0]
[null,null,null,null,null,null,null,null,null,null,null,null,null,null,null,null,null,null,null,null,null,null,null,null,null,0,0,0,0,0,0,0,0,0,0,0,{"$f":"IF($Y28=0,0,AK59)","v":0},0,0,0,0,0,0,0,0,0,0,0,0,0,0,0,0,0,0,0,0,0,0,0,0,0,0,0,0,0,0,0,0,0,0,0,0,0,0,0,0,0]
[null,null,null,null,null,null,null,null,null,null,null,null,null,null,null,null,null,null,null,null,null,null,null,null,null,0,0,0,0,0,0,0,0,0,0,0,{"$f":"IF($Y29=0,0,AK60)","v":0},0,0,0,0,0,0,0,0,0,0,0,0,0,0,0,0,0,0,0,0,0,0,0,0,0,0,0,0,0,0,0,0,0,0,0,0,0,0,0,0,0]
[null,null,null,null,null,null,null,null,null,null,null,null,null,null,null,null,null,null,null,null,null,null,null,null,null,0,0,0,0,0,0,0,0,0,0,0,{"$f":"IF($Y30=0,0,AK61)","v":0},0,0,0,0,0,0,0,0,0,0,0,0,0,0,0,0,0,0,0,0,0,0,0,0,0,0,0,0,0,0,0,0,0,0,0,0,0,0,0,0,0]
[null,null,null,null,null,null,null,null,null,null,null,null,null,null,null,null,null,null,null,null,null,null,null,null,null,0,0,0,0,0,0,0,0,0,0,0,{"$f":"IF($Y31=0,0,AK62)","v":0},0,0,0,0,0,0,0,0,0,0,0,0,0,0,0,0,0,0,0,0,0,0,0,0,0,0,0,0,0,0,0,0,0,0,0,0,0,0,0,0,0]